Workbook
Name _ftn1: 'II skyrius'!$B$31
Name _ftnref1: 'II skyrius'!#REF!

Sheet II skyrius
K2: PATVIRTINTA Šiaulių regiono plėtros tarybos 2023 m. vasario 8 d. sprendimu Nr. ŠR/TS-6 (2026 m. d. sprendimo Nr. TS- redakcija)
B4: II SKYRIUS
B5: REGIONO PLĖTROS TIKSLAI IR UŽDAVINIAI
B7: 2 lentelė. Regiono plėtros tikslai ir uždaviniai
B8: Eil. Nr. | C8: Regiono plėtros tikslai ir uždaviniai | E8: Stebėsenos rodiklio tipas | F8: Stebėsenos rodikliai | J8: Teritorijos naudojimo privalomosios nuostatos | K8: Išankstinės sąlygos
C9: Tikslų ir uždavinių pavadinimai | D9: Tikslų ir uždavinių kodai | F9: Rodiklio pavadinimas (matavimo vienetai) | G9: Pradinė reikšmė (metai) | H9: Tarpinė siektina reikšmė (metai) | I9: Galutinė siektina reikšmė
B10: 1 | C10: 2 | D10: 3 | E10: 4 | F10: 5 | G10: 6 | H10: 7 | I10: 8 | J10: 9 | K10: 10
B11: 1. | C11: Išnaudoti ekonominį regiono potencialą ir sudaryti sąlygas kurti naujas darbo vietas | D11: LT026-01 | E11: Poveikio | F11: Pridėtinė vertė gamybos sąnaudomis pagal veiklos vykdymo vietą (nefinansinių įmonių), tenkanti vienam dirbančiajam per metus | tūkst. Eur | G11: 16.8 | H11: 19.9 | I11: 24.5 | J11: LR teritorijos bendrojo plano privalomosios nuostatos (punktai): 20, 21, 23, 172-175, 195, 197, 198, 200-203, 204 | K11: Patvirtintos teritorinės strategijos, atitinkančios Europos Parlamento ir Tarybos reglamento (ES) 2021/1060, kuriuo nustatomos bendros Europos regioninės plėtros fondo, „Europos socialinio fondo +“, Sanglaudos fondo, Teisingos pertvarkos fondo ir Europos jūrų reikalų, žvejybos ir akvakultūros fondo nuostatos ir šių fondų bei Prieglobsčio, migracijos ir integracijos fondo, Vidaus saugumo fondo ir Sienų valdymo ir vizų politikos finansinės paramos priemonės taisyklės (Bendrųjų nuostatų reglamento), 29 straipsnio reikalavimus ir patvirtintose regionų plėtros planų pažangos priemonėse yra numatytos veiklos šioms strategijoms įgyvendinti.
G12: (2019) | H12: (2025) | I12: (2029)
E13: Poveikio | F13: Gyventojų užimtumo lygis (15–64 metų) | procentai | G13: 69.1 | H13: 70.4 | I13: 72.5
G14: (2020) | H14: (2025) | I14: (2029)
B15: 1.1. | C15: Sukurti ir modernizuoti trūkstamą pramoninių, komercinių ir kitų teritorijų infrastruktūrą | D15: LT026-01-01 | E15: Rezultato | F15: Sukurtos arba atkurtos teritorijos, naudojamos ekonominei, rekreacinei ar turizmo paskirčiai | hektarai | G15: 0 | H15: 0 | I15: ='IV skyrius IX skirsnis'!N12 -> 4.45
G16: (2021) | H16: (2025) | I16: (2029)
B17: 1.2. | C17: Sukurti palankią aplinką SVV steigimuisi per bendros infrastruktūros naudojimo iniciatyvas | D17: LT026-01-02 | E17: Rezultato | F17: Metinis konsoliduotų viešųjų paslaugų vartotojų skaičius | vartotojai per metus | G17: 0 | H17: 0 | I17: ='IV skyrius IX skirsnis'!N10 -> 18950
G18: (2021) | H18: (2025) | I18: (2029)
B19: 1.3. | C19: Didinti turizmo ir kultūros paslaugų prieinamumą | D19: LT026-01-03 | E19: Rezultato | F19: Sukurtos arba atkurtos teritorijos, naudojamos ekonominei, rekreacinei ar turizmo paskirčiai | hektarai | G19: 0 | H19: 0 | I19: ='IV skyrius X skirsnis'!N12 -> 215.9945
G20: (2021) | H20: (2025) | I20: (2029)
E21: Rezultato | F21: Metinis konsoliduotų viešųjų paslaugų vartotojų skaičius | vartotojai per metus | G21: 0 | H21: 0 | I21: ='IV skyrius X skirsnis'!N10 -> 18750
G22: (2020) | H22: (2025) | I22: (2029)
E23: Rezultato | F23: Dviračiams skirtos infrastruktūros metinis naudotojų skaičius | naudotojai per metus | G23: 0 | H23: 0 | I23: ='IV skyrius X skirsnis'!N14 -> 4800
G24: (2021) | H24: (2025) | I24: (2029)
B25: 2. | C25: Kurti tvarią regiono aplinką | D25: LT026-02 | E25: Poveikio | F25: Šiltnamio efektą sukeliančių dujų išmetimai 1 gyventojui - gyventojų kelionių įtaka (lengvųjų automobilių, motociklų, mopedų ir viešojo transporto naudojimas) | tonos | G25: 1.3 | H25: 1.3 | I25: 1.25 | J25: LR teritorijos bendrojo plano privalomosios nuostatos (punktai): 24, 25, 66, 77, 68-72, 210-217, 219-222, 224-227, 230, 236, 283-286, 295, 296, 306, 307, 309, 312-316, 323-331, 333-338, 344, 345, 347-349, 352, 353, 355-358, 359-363, 365, 366, 368-370, 372, 373, 396-400, 435-437 | K25: Šiaulių miesto darnaus judumo planas, patvirtintas Šiaulių miesto savivaldybės tarybos 2018 m. liepos 5 d. sprendimu Nr. T-264. Pagal Juodųjų dėmių nustatymo, tyrimo ir šalinimo reikalavimų ir tvarkos aprašą, patvirtintą Lietuvos Respublikos susisiekimo ministro 2022 m. sausio 27 d. įsakymu Nr.3-51 „Dėl Juodųjų dėmių nustatymo, tyrimo ir šalinimo reikalavimų ir tvarkos aprašo patvirtinimo“, nustatytos juodosios dėmės ir avaringos vietos vietinės reikšmės keliuose ir gatvėse. Pagal Lietuvos Respublikos alternatyviųjų degalų įstatymo nuostatas parengtas ir patvirtintas viešųjų ir pusiau viešųjų elektromobilių įkrovimo prieigų vietinės reikšmės keliuose planas iki 2030 m. Projekto veiklų atitiktis geriamojo vandens tiekimo ir nuotekų tvarkymo infrastruktūros plėtros planui. Projekto veiklų atitiktis patvirtintiems Nacionaliniam saugumui užtikrinti svarbių įmonių saugumo planams, parengtiems vadovaujantis Lietuvos Respublikos nacionaliniam saugumui užtikrinti svarbių objektų apsaugos įstatymo 15 straipsnio 2 dalimi. Miestams, turintiems daugiau kaip 20 000 gyventojų, parengti ir patvirtinti žalinimo planai pagal aplinkos ministro patvirtintą metodiką žalinimo planams rengti. Kitoms urbanizuotoms vietovėms parengti ir patvirtinti žaliosios infrastruktūros poreikio žemėlapiai pagal aplinkos ministro patvirtintą metodiką žaliosios infrastruktūros poreikio žemėlapių sudarymui. Projektai įgyvendinami urbanizuotose teritorijose, kurių gyventojų tankis yra 1500 gyventojų/km² arba didesnis ir kurių gamtinių ir antropogeninių plotų santykis yra mažesnis nei 1,5 (t. y. neatitinka optimalaus Lietuvos teritorijos žemės naudmenų plotų santykio, kurį sudaro 60 proc. natūralios naudmenos ir 40 proc. intensyvaus naudojimo antropogeninės naudmenos) taip, kaip numatyta žalinimo planuose ar žaliosios infrastruktūros poreikio žemėlapiuose. Į mažesnio nei 1500/km² gyventojų tankumo teritoriją gali patekti ne daugiau kaip 20 proc. tvarkomos teritorijos. Projektai įgyvendinami urbanizuotose teritorijose, kurių gyventojų tankis didesnis kaip 300 gyventojų/km² ir aplinkinėje teritorijoje (iki 2 km). Rekultivuota žemė naudojama želdynų ir želdinių įrengimui, socialiniams būstams, ūkinei, kultūrinei, sporto ar bendruomeninei veiklai. Veiklų atitiktis patvirtintiems regioniniams ir (ar) savivaldybių atliekų prevencijos ir tvarkymo planams, parengtiems Valstybiniam atliekų prevencijos ir tvarkymo 2021–2027 m. planui įgyvendinti. Savivaldybės tarybos patvirtinta Bendrųjų savivaldybių aplinkos monitoringo nuostatų reikalavimus atitinkanti savivaldybės aplinkos (oro) monitoringo programa kietųjų dalelių KD2,5 koncentracijos aplinkos ore matavimams ir kitų oro teršalų (kai reikia) koncentracijos aplinkos ore matavimams, su Aplinkos apsaugos agentūros derinimo išvada, kad matavimų, atliktų pagal programoje kietųjų dalelių KD2.5 matavimams nustatytas sąlygas duomenys bus tinkami naudoti valstybinio aplinkos monitoringo tikslams.
G26: (2018-2019) | H26: (2025) | I26: (2029)
E27: Poveikio | F27: Sąvartynuose šalinamų komunalinių atliekų dalis | procentai | G27: 21 | H27: 21 | I27: 14
G28: (2020) | H28: (2025) | I28: (2029)
E29: Poveikio | F29: Gyventojų, aprūpinamų geriamojo vandens tiekimo paslaugomis, dalis, palyginti su visais gyventojais | procentai | G29: 76.1 | H29: 76.1 | I29: 79
G30: (2020) | H30: (2025) | I30: (2029)
E31: Poveikio | F31: Gyventojų, aprūpinamų centralizuotai teikiamomis nuotekų tvarkymo paslaugomis, dalis, palyginti su visais gyventojais | procentai | G31: 70.3 | H31: 70.3 | I31: 76
G32: (2020) | H32: (2025) | I32: (2029)
E33: Poveikio | F33: Viešųjų geriamojo vandens tiekėjų vandenviečių, kuriose įgyvendintos apsaugos priemonės, dalis | procentai | G33: 0 | H33: - | I33: 50
G34: (2024) | H34: (2027) | I34: (2030)
E35: Poveikio | F35: Gyventojų, teigiamai vertinančių įstaigų pasirengimą ekstremalioms situacijoms dalis | procentai | G35: 23 | H35: - | I35: >23
G36: (2024) | H36: (2027) | I36: (2030)
E37: Poveikio | F37: Gyventojų, kuriems užtikrinta vieta iki 2 ar aukštesnio lygio modernizuotose priedangose, dalis | procentai | G37: 1.9 | H37: - | I37: >1,9
G38: (2025) | H38: (2027) | I38: (2030)
E39: Poveikio | F39: Nepralaidžių dangų ir žaliosios infrastruktūros plotų santykis 1500 gyv./km² ir didesnio tankumo teritorijoje | santykis, dešimtainė trupmena | G39: 1.06 | H39: 1.06 | I39: 1.02
G40: (2021) | H40: (2025) | I40: (2029)
E41: Poveikio | F41: Priešlaikinės mirtys, priskiriamos ilgalaikiam kietųjų dalelių KD2,5 poveikiui | mirusiųjų skaičius 100 tūkst. gyventojų | G41: 85 | H41: 85 | I41: 83
G42: (2019) | H42: (2025) | I42: (2029)
E43: Poveikio | F43: Potencialių taršos židinių tankumas 300 gyv./km² ir didesnio tankumo ir aplinkinėje teritorijoje (iki 2 km.) | vnt./km² | G43: 0.15 | H43: 0.15 | I43: 0.14
G44: (2020) | H44: (2025) | I44: (2029)
E45: Poveikio | F45: Žuvusiųjų keliuose skaičius | skaičius, tenkantis 1 mln. gyventojų | G45: 50 | H45: 50 | I45: 44
G46: (2020) | H46: (2025) | I46: (2029)
E47: Poveikio | F47: Sunkiai sužeistųjų keliuose skaičius | skaičius, tenkantis 1 mln. gyventojų | G47: 376 | H47: 376 | I47: 320
G48: (2020) | H48: (2025) | I48: (2029)
B49: 2.1. | C49: Plėtoti žaliąją, kritinę ir darnaus judumo infrastruktūrą, mažinti aplinkos užterštumą, stiprinti gyventojų civilinę parengtį ekstremaliųjų situacijų atvejams | D49: LT026-02-01 | E49: Rezultato | F49: Dviračiams skirtos infrastruktūros metinis naudotojų skaičius | naudotojai per metus | G49: ='IV skyrius II skirsnis'!H10 -> 4150 | H49: ='IV skyrius II skirsnis'!K10 -> 4150 | I49: ='IV skyrius II skirsnis'!N10 -> 46500
G50: (2021) | H50: (2025) | I50: (2029)
E51: Rezultato | F51: Gyventojai, galintys naudotis nauja ar patobulinta žaliąja infrastruktūra | asmenys | G51: 0 | H51: 0 | I51: ='IV skyrius VIII skirsinis'!N10 -> 5500
G52: (2021) | H52: (2025) | I52: (2029)
E53: Rezultato | F53: Panaikintos juodosios dėmės ar avaringos vietos vietinės reikšmės keliuose (gatvėse) | skaičius | G53: 0 | H53: ='IV skyrius II skirsnis'!K12 -> 2 | I53: ='IV skyrius II skirsnis'!N12 -> 4
G54: (2021) | H54: (2025) | I54: (2029)
E55: Rezultato | F55: Metinis konsoliduotų viešųjų paslaugų vartotojų skaičius | vartotojai per metus | G55: 0 | H55: 0 | I55: ='IV skyrius II skirsnis'!N14 -> 20800
G56: (2021) | H56: (2025) | I56: (2029)
E57: Rezultato | F57: Gyventojai, galintys pasinaudoti apsaugos nuo su klimatu nesusijusios gamtinio pavojaus rizikos ir nuo su žmogaus veikla susijusios rizikos priemonėmis | asmenys | G57: 0 | H57: 0 | I57: ='IV skyrius VIII skirsinis'!N12 -> 5509
G58: (2025) | H58: (2025) | I58: (2030)
B59: 2.2. | C59: Didinti rūšiuojamų atliekų apimtis ir geriamojo vandens tiekimo bei nuotekų tvarkymo paslaugų prieinamumą | D59: LT026-02-02 | E59: Rezultato | F59: Surinktos atskirai išrūšiuotos atliekos | tonos per metus | G59: 0 | H59: 0 | I59: ='IV skyrius VII skirsnis'!N10 -> 2292.19
G60: (2021) | H60: (2025) | I60: (2029)
E61: Rezultato | F61: Gyventojai, prisijungę bent prie antrinio viešojo nuotekų valymo įrenginių | asmenys | G61: 0 | H61: 0 | I61: ='IV skyrius IV skirsnis'!N12 -> 6429
G62: (2021) | H62: (2025) | I62: (2029)
E63: Rezultato | F63: Gyventojai, prisijungę prie patobulintų viešojo vandens tiekimo sistemų | asmenys | G63: 0 | H63: 0 | I63: ='IV skyrius IV skirsnis'!N10 -> 7670
G64: (2021) | H64: (2025) | I64: (2029)
E65: Rezultato | F65: Viešieji vandens tiekėjai ir nuotekų tvarkytojai, kurie investuoja į saugaus vandens tiekimo užtikrinimo priemones, siekdami padidinti įmonių veiklos atsparumą | skaičius | G65: 0 | H65: 0 | I65: ='IV skyrius IV skirsnis'!N14 -> 7
G66: (2025) | H66: (2025) | I66: (2030)
B67: 3. | C67: Gerinti viešųjų paslaugų prieinamumą, mažinti socialinę atskirtį | D67: LT026-03 | E67: Poveikio | F67: Asmenys, patiriantys skurdo riziką ar socialinę atskirtį | procentai | G67: 26.2 | H67: 26.2 | I67: 23.2 | J67: LR teritorijos bendrojo plano privalomosios nuostatos (punktai): 22, 24, 142, 143, 147, 148, 149-153, 156, 157, 159-162, 164-171, 182 | K67: Patvirtintos teritorinės strategijos, atitinkančios Europos Parlamento ir Tarybos reglamento (ES) 2021/1060, kuriuo nustatomos bendros Europos regioninės plėtros fondo, „Europos socialinio fondo +“, Sanglaudos fondo, Teisingos pertvarkos fondo ir Europos jūrų reikalų, žvejybos ir akvakultūros fondo nuostatos ir šių fondų bei Prieglobsčio, migracijos ir integracijos fondo, Vidaus saugumo fondo ir Sienų valdymo ir vizų politikos finansinės paramos priemonės taisyklės (Bendrųjų nuostatų reglamento), 29 straipsnio reikalavimus ir patvirtintose regionų plėtros planų pažangos priemonėse yra numatytos veiklos šioms strategijoms įgyvendinti. Patvirtintose regionų plėtros planų pažangos priemonėse numatytos veiklos, skirtos socialinio būsto prieinamumui didinti, ir investicijomis užtikrinamas socialinio būsto prieinamumas neįgaliesiems bei gausioms šeimoms. Patvirtintose regionų plėtros planų pažangos priemonėse numatytos veiklos, skirtos institucinės globos pertvarkai įgyvendinti, ir iki 2022 m. liepos 1 d. yra parengti ir suderinti su Socialinės apsaugos ir darbo ministerija regioniniai socialinių paslaugų ir socialinių paslaugų infrastruktūros, reikalingos institucinės globos pertvarkai įgyvendinti, žemėlapiai. Patvirtintose regionų plėtros planų pažangos priemonėse numatytos veiklos, skirtos kokybiškų visuomenės sveikatos priežiūros paslaugų prieinamumui didinti, yra pagrįstos mokslo įrodymais, pripažintos gerąja praktika ar tarptautiniais standartais, pagal Sveikatos apsaugos ministerijos pateiktas rekomendacijas (metodiką). Patvirtintose regionų plėtros planų pažangos priemonėse numatytos veiklos, skirtos ilgalaikės priežiūros paslaugų plėtrai savivaldybėse, ir su Sveikatos apsaugos ministerija suderinti regiono ilgalaikės priežiūros paslaugų savivaldybėse organizavimo ir infrastruktūros, reikalingos ilgalaikės priežiūros paslaugų teikimui, modernizavimo žemėlapiai.
G68: (2020) | H68: (2025) | I68: (2029)
E69: Poveikio | F69: Socialines paslaugas gaunančių tikslinės grupės asmenų dalis nuo bendro su skurdo rizika ar socialine atskirtimi susiduriančių gyventojų skaičiaus | procentai | G69: 14 | H69: 14 | I69: 18
G70: (2020) | H70: (2025) | I70: (2029)
E71: Poveikio | F71: Patenkintas socialinio būsto poreikis nuo tokią teisę turinčių asmenų (šeimų) skaičiaus | procentai | G71: 61 | H71: 61 | I71: 64
G72: (2020) | H72: (2025) | I72: (2029)
E73: Poveikio | F73: Prevencinėmis priemonėmis išvengiamas mirtingumas (standartizuotas) | mirusiųjų skaičius 100 tūkst. gyventojų | G73: 330 | H73: 330 | I73: 298
G74: (2020) | H74: (2025) | I74: (2029)
E75: Poveikio | F75: Gydymo priemonėmis išvengiamas mirtingumas | mirusiųjų skaičius 100 tūkst. gyventojų | G75: 216 | H75: 216 | I75: 198
G76: (2020) | H76: (2025) | I76: (2029)
E77: Poveikio | F77: Neformaliojo vaikų švietimo galimybėmis pasinaudojusių mokinių dalis (išskyrus ikimokykliniame ir priešmokykliniame ugdyme dalyvaujančius vaikus) | procentai | G77: 71 | H77: 71 | I77: 74
G78: (2019) | H78: (2025) | I78: (2029)
E79: Poveikio | F79: Negalią turinčių mokinių, ugdomų įtraukiuoju būdu bendros paskirties švietimo įstaigose (bendrosiose klasėse), dalis | procentai | G79: 36.6 | H79: 36.6 | I79: 49
G80: (2020-2021) | H80: (2025) | I80: (2029)
E81: Poveikio | F81: 3–5 metų vaikų, ugdomų švietimo įstaigose, dalis | procentai | G81: 89 | H81: 89 | I81: 91
G82: (2020) | H82: (2025) | I82: (2029)
B83: 3.1. | C83: Plėtoti viešųjų paslaugų infrastruktūrą | D83: LT026-03-01 | E83: Rezultato | F83: Naujų arba modernizuotų socialinių būstų naudotojų skaičius per metus | naudotojai per metus | G83: 0 | H83: 0 | I83: ='IV skyrius V skirsnis'!N10 -> 339
G84: (2021) | H84: (2025) | I84: (2029)
E85: Rezultato | F85: Asmenų, turinčių intelekto ir (ar) psichikos negalią, gavusių paslaugas naujoje ar modernizuotoje infrastruktūroje skaičius per metus | asmenys per metus | G85: 0 | H85: 0 | I85: ='IV skyrius V skirsnis'!N12 -> 309
G86: (2021) | H86: (2025) | I86: (2029)
E87: Rezultato | F87: Naujos arba modernizuotos socialinės rūpybos infrastruktūros naudotojų skaičius per metus | naudotojai per metus | G87: 0 | H87: 0 | I87: ='IV skyrius V skirsnis'!N14 -> 100
G88: (2021) | H88: (2025) | I88: (2029)
E89: Rezultato | F89: Socialiai pažeidžiamų, socialinę riziką (atskirtį) patiriančių asmenų, gavusių paslaugas naujoje ar modernizuotoje infrastruktūroje skaičius per metus | asmenys per metus | G89: 0 | H89: 0 | I89: ='IV skyrius V skirsnis'!N16 -> 570
G90: (2021) | H90: (2025) | I90: (2029)
E91: Rezultato | F91: Naujų arba modernizuotų įperkamų, tvarių socialinių būstų naudotojų skaičius per metus | naudotojai per metus | G91: 0 | H91: 0 | I91: ='IV skyrius V skirsnis'!N18 -> 30
G92: (2025) | H92: (2025) | I92: (2030)
E93: Rezultato | F93: Metinis konsoliduotų viešųjų paslaugų vartotojų skaičius | vartotojai per metus | G93: 0 | H93: 0 | I93: ='IV skyrius VI skirsnis'!N10 -> 852512
G94: (2021) | H94: (2025) | I94: (2029)
E95: Rezultato | F95: Sukurtos arba atkurtos teritorijos, naudojamos ekonominei, rekreacinei ar turizmo paskirčiai | hektarai | G95: 0 | H95: 0 | I95: ='IV skyrius VI skirsnis'!N12 -> 12
G96: (2021) | H96: (2025) | I96: (2029)
E97: Rezultato | F97: Rekultivuota žemė, naudojama žaliesiems plotams, socialiniams būstams, ekonominei arba kitai paskirčiai | hektarai | G97: 0 | H97: 0 | I97: ='IV skyrius VI skirsnis'!N14 -> 6.64
G98: (2021) | H98: (2025) | I98: (2029)
B99: 3.2. | C99: Didinti visuomenės sveikatos paslaugų prieinamumą ir užtikrinti ilgalaikės priežiūros paslaugų plėtrą | D99: LT026-03-02 | E99: Rezultato | F99: Asmenų, kurie po dalyvavimo veiklose pagerino sveikatos raštingumo kompetenciją, dalis | procentai | G99: 0 | H99: 0 | I99: ='IV skyrius III skirsnis'!N10 -> 80
G100: (2021) | H100: (2025) | I100: (2029)
E101: Rezultato | F101: Asmenų, palankiai vertinančių visuomenės sveikatos priežiūros paslaugų kokybę, dalis | procentai | G101: 0 | H101: 0 | I101: ='IV skyrius III skirsnis'!N12 -> 80
G102: (2021) | H102: (2025) | I102: (2029)
E103: Rezultato | F103: Naujos arba modernizuotos sveikatos priežiūros infrastruktūros naudotojų skaičius per metus | naudotojai per metus | G103: 0 | H103: 0 | I103: ='IV skyrius III skirsnis'!N14 -> 1516
...

Sheet III skyrius
B2: III SKYRIUS
B3: REGIONO PLĖTROS PLANO PAŽANGOS PRIEMONĖS
B5: 3 lentelė. Pažangos priemonių suvestinė
B6: Eil. Nr. | C6: Pažangos priemonė | E6: Pažangos priemone įgyvendinamas regiono plėtros uždavinys | F6: Kiti susiję regiono plėtros uždaviniai | G6: Būtinosios sąlygos | H6: Prisidėjimas prie horizontaliųjų principų (toliau – HP) įgyvendinimo | I6: Koordinatorius | J6: Preliminarus pažangos lėšų poreikis (Eur)
C7: Pavadinimas | D7: Kodas | J7: Iš viso | K7: Iš jų: ES ir kitos tarptautinės paramos lėšos | L7: Iš jų: Lietuvos Respublikos valstybės biudžeto lėšos
B8: 1 | C8: 2 | D8: 3 | E8: 4 | F8: 5 | G8: 6 | H8: 7 | I8: 8 | J8: 9 | K8: 10 | L8: 11
B9: 1. | C9: Investicinės aplinkos ir verslo plėtros sąlygų gerinimas | D9: LT026-01-01-09 | E9: Uždavinys 1.1 Sukurti ir modernizuoti trūkstamą pramoninių, komercinių ir kitų teritorijų infrastruktūrą | F9: Uždavinys 1.2 | G9: - | H9: Darnus vystymasis. Inovatyvumas. Lygios galimybės visiems. | I9: Šiaulių regiono plėtros taryba | J9: ='IV skyrius IX skirsnis'!I73 -> 15187590 | K9: ='IV skyrius IX skirsnis'!L73 -> 12909451 | L9: 0
B10: 2. | C10: Turizmo objektų patrauklumo gerinimas | D10: LT026-01-03-10 | E10: Uždavinys 1.3 Didinti turizmo ir kultūros paslaugų prieinamumą. | F10: Uždavinys 1.1 | G10: - | H10: Darnus vystymasis. Inovatyvumas. Lygios galimybės visiems. | I10: Šiaulių regiono plėtros taryba | J10: ='IV skyrius X skirsnis'!I265 -> 32111260 | K10: ='IV skyrius X skirsnis'!L265 -> 26322091 | L10: 0
B11: 3. | C11: Darnaus judumo skatinimas | D11: LT026-02-01-02 | E11: Uždavinys 2.1 Plėtoti žaliąją, kritinę ir darnaus judumo infrastruktūrą, mažinti aplinkos užterštumą, stiprinti gyventojų civilinę parengtį ekstremaliųjų situacijų atvejams | F11: Uždavinys 3.1 | G11: - | H11: Darnus vystymasis. Inovatyvumas. Lygios galimybės visiems. | I11: Šiaulių regiono plėtros taryba | J11: ='IV skyrius II skirsnis'!I87 -> 28342781 | K11: ='IV skyrius II skirsnis'!L87 -> 24091364 | L11: 0
B12: 4. | C12: Žaliosios ir kritinės infrastruktūros plėtra | D12: LT026-02-01-08 | E12: Uždavinys 2.1 Plėtoti žaliąją, kritinę ir darnaus judumo infrastruktūrą, mažinti aplinkos užterštumą, stiprinti gyventojų civilinę parengtį ekstremaliųjų situacijų atvejams | F12: Uždavinys 2.2 | G12: - | H12: Darnus vystymasis. Inovatyvumas. Lygios galimybės visiems. | I12: Šiaulių regiono plėtros taryba | J12: ='IV skyrius VIII skirsinis'!I108 -> 10619409 | K12: ='IV skyrius VIII skirsinis'!L108 -> 9523815.2 | L12: 0
B13: 5. | C13: Atliekų tvarkymo paslaugų gerinimas | D13: LT026-02-02-07 | E13: Uždavinys 2.2 Didinti rūšiuojamų atliekų apimtis ir geriamojo vandens tiekimo bei nuotekų tvarkymo paslaugų prieinamumą | F13: Uždavinys 2.1 | G13: - | H13: Darnus vystymasis. Inovatyvumas. Lygios galimybės visiems. | I13: Šiaulių regiono plėtros taryba | J13: ='IV skyrius VII skirsnis'!I77 -> 3069288.2 | K13: ='IV skyrius VII skirsnis'!L77 -> 2608895 | L13: 0
B14: 6. | C14: Vandentvarkos paslaugų prieinamumo didinimas | D14: LT026-02-02-04 | E14: Uždavinys 2.2 Didinti rūšiuojamų atliekų apimtis ir geriamojo vandens tiekimo bei nuotekų tvarkymo paslaugų prieinamumą | F14: Uždavinys 2.1 | G14: - | H14: Darnus vystymasis. Lygios galimybės visiems. | I14: Šiaulių regiono plėtros taryba | J14: ='IV skyrius IV skirsnis'!I174 -> 45527270 | K14: ='IV skyrius IV skirsnis'!L174 -> 21055357 | L14: 0
B15: 7. | C15: Šiaulių miesto integruota plėtra | D15: LT026-03-01-06 | E15: Uždavinys 3.1 Plėtoti viešųjų paslaugų infrastruktūrą | G15: - | H15: Darnus vystymasis. Lygios galimybės visiems. | I15: Šiaulių regiono plėtros taryba | J15: ='IV skyrius VI skirsnis'!I101 -> 54354593 | K15: ='IV skyrius VI skirsnis'!L101 -> 35937905 | L15: ='IV skyrius VI skirsnis'!J101 -> 4021127.5
B16: 8. | C16: Socialinių paslaugų ir jų infrastruktūros plėtra | D16: LT026-03-01-05 | E16: Uždavinys 3.1 Plėtoti viešųjų paslaugų infrastruktūrą | G16: - | H16: Darnus vystymasis. Lygios galimybės visiems. | I16: Šiaulių regiono plėtros taryba | J16: ='IV skyrius V skirsnis'!I203 -> 45167893 | K16: ='IV skyrius V skirsnis'!L203 -> 38286576 | L16: 0
B17: 9. | C17: Sveikatos ir ilgalaikės priežiūros paslaugų plėtra | D17: LT026-03-02-03 | E17: Uždavinys 3.2 Didinti visuomenės sveikatos paslaugų prieinamumą ir užtikrinti ilgalaikės priežiūros paslaugų plėtrą | F17: Uždavinys 3.1 | G17: - | H17: Darnus vystymasis. Inovatyvumas. Lygios galimybės visiems. | I17: Šiaulių regiono plėtros taryba | J17: ='IV skyrius III skirsnis'!I151 -> 8813551.8 | K17: ='IV skyrius III skirsnis'!L151 -> 7225335.4 | L17: 0
B18: 10. | C18: Ikimokyklinio ir bendrojo ugdymo aplinkos modernizavimas | D18: LT026-03-03-01 | E18: Uždavinys 3.3 Tobulinti ikimokyklinio ir bendrojo ugdymo prieinamumo infrastruktūrą | F18: Uždavinys 3.1 | G18: - | H18: Darnus vystymasis. Inovatyvumas. Lygios galimybės visiems. | I18: Šiaulių regiono plėtros taryba | J18: ='IV skyrius I skirsnis'!I180 -> 21085472 | K18: ='IV skyrius I skirsnis'!F36 -> 17922648 | L18: 0
C19: Iš viso | J19: =SUM(J9:J18) -> 2.6427911e+08 | K19: =SUM(K9:K18) -> 1.9588344e+08 | L19: =SUM(L9:L18) -> 4021127.5

Sheet IV skyrius I skirsnis
B2: IV SKYRIUS
B3: PAŽANGOS PRIEMONIŲ APRAŠAS
B5: PIRMAS SKIRSNIS
G7: ='III skyrius'!D18 -> LT026-03-03-01 | I7: ='III skyrius'!C18 -> Ikimokyklinio ir bendrojo ugdymo aplinkos modernizavimas
B9: 4 lentelė. Pažangos priemonės įgyvendinimo rezultato rodikliai
B10: Eil. Nr. | C10: Rodiklio kodas | E10: Rodiklio pavadinimas (matavimo vienetas) | H10: Pradinė rodiklio reikšmė (metai) | K10: Siektinos rodiklio reikšmės
K11: Siektina tarpinė rodiklio reikšmė (metai) | N11: Siektina galutinė rodiklio reikšmė (metai)
B12: 1 | C12: 2 | E12: 3 | H12: 4 | K12: 5 | N12: 6
B13: 1. | C13: R.B.2.2071 | E13: Naujos arba modernizuotos švietimo infrastruktūros naudotojų skaičius per metus | naudotojai per metus | H13: 0 | K13: 0 | N13: =O54+O125 -> 7500
H14: (2021) | K14: (2025) | N14: =O55 -> (2029)
B15: 2. | C15: R.B.2.2070 | E15: Naujos arba modernizuotos vaikų priežiūros infrastruktūros naudotojų skaičius per metus | naudotojai per metus | H15: 0 | K15: 0 | N15: =O64+O129 -> 973
H16: (2021) | K16: (2025) | N16: =O65 -> (2029)
B17: 3. | C17: R.S.2.3026 | E17: Mokyklų, kuriose buvo įdiegtos universalaus dizaino ir kitos inžinerinės priemonės, aplinką pritaikant asmenims turintiems negalią, dalis nuo visų mokyklų | procentas | H17: 0 | K17: 0 | N17: =O52 -> 0.9
H18: (2021) | K18: (2025) | N18: =O53 -> (2029)
B19: 4. | C19: R.S.2.3027 | E19: Mokinių, kurie naudojasi sukurta visos dienos mokyklos infrastruktūra, skaičius | asmenys per metus | H19: 0 | K19: 0 | N19: =O123 -> 2686
H20: (2021) | K20: (2025) | N20: =O124 -> (2029)
B21: 5. | C21: R.S.2.3030 | E21: Vaikų, pasinaudojusių pavėžėjimo paslaugomis naujai įsigytomis transporto priemonėmis, skaičius | asmenys per metus | H21: 0 | K21: 0 | N21: =O60 -> 348
H22: (2021) | K22: (2025) | N22: =O61 -> (2029)
B25: 5 lentelė. Pažangos priemonės finansavimo šaltiniai ir preliminarus pažangos lėšų poreikis
B26: Finansavimo šaltiniai | F26: Lėšų poreikis, eurais
B27: 1 | F27: 2
B28: 1. Lietuvos Respublikos valstybės biudžeto asignavimų lėšos: | F28: =F29+F32+F35+F38 -> 17922648
B29: 1.1. Valstybės biudžeto lėšos | F29: =F30 -> 0
B30: 1.1.1. lėšų pavadinimas ir finansavimo šaltinio kodas | F30: =J182 -> 0
B31: ...
B32: 1.2. Europos Sąjungos (toliau – ES) ir kitos tarptautinės finansinės paramos bendrojo finansavimo lėšos | F32: =F33 -> 0
B33: 1.2.1. 2021–2027 m. ES struktūrinių fondų bendrojo finansavimo lėšos (1.2.2.8.1) | F33: =K182 -> 0
B34: ...
B35: 1.3. ES ir kitos tarptautinės finansinės paramos lėšos | F35: =F36 -> 17922648
B36: 1.3.1. 2021–2027 m. ES struktūrinių fondų lėšos (1.3.2.8.1) | F36: =L180 -> 17922648
B37: ...
B38: 1.4. Tikslinės paskirties valstybės biudžeto lėšos | F38: =F39 -> 0
B39: 1.4.1. lėšų pavadinimas ir finansavimo šaltinio kodas | F39: 0
B40: ...
B41: 2. Kitos lėšos: | F41: =SUM(F42:H44) -> 3162824.1
B42: 2.1. Savivaldybių biudžetų lėšos | F42: =M180 -> 3162824.1
B43: 2.2. Privačios lėšos | F43: 0
B44: 2.3. Kitos viešosios lėšos | F44: 0
B45: IŠ VISO | F45: =I180 -> 21085472
B47: 6 lentelė. Pažangos priemonės veiklos, poveiklės ir (arba) projektai
B48: Veiklos, poveiklės, projektai | C48: Veiklos, poveiklės, projekto tipas | D48: Galimi pareiškėjai arba projektų vykdytojai, kai projektai atrenkami planavimo būdu | E48: Galimi partneriai | F48: Projektų atrankos būdas | G48: Aktyviais veiksmais prisidedama prie HP (Taip / Ne) | H48: Projektų finansavimo forma | I48: Pažangos lėšos (eurais) ir jų finansavimo šaltiniai | N48: Stebėsenos rodikliai | P48: Įgyvendinimo pradžia (metai, ketv.) | Q48: Įgyvendinimo pabaiga (metai, ketv.)
I49: Iš viso | J49: Iš jų Lietuvos Respublikos valstybės biudžeto asignavimų lėšos, ne daugiau kaip | M49: Iš jų kitos lėšos, ne mažiau kaip | N49: Rodiklio kodas, pavadinimas ir matavimo vienetai | O49: Siektina rodiklio reikšmė (metai)
J50: Valstybės biudžeto lėšos | K50: ES ir kitos tarptautinės paramos bendrojo finansavimo lėšos | L50: ES ir kitos tarptautinės paramos lėšos
B51: 1 | C51: 2 | D51: 3 | E51: 4 | F51: 5 | G51: 6 | H51: 7 | I51: 8 | J51: 9 | K51: 10 | L51: 11 | M51: 12 | N51: 13 | O51: 14 | P51: 15 | Q51: 16
B52: 1. Ugdymo prieinamumo didinimas atskirtį patiriantiems vaikams Šiaulių regione | C52: I | D52: Šiaulių regiono savivaldybių administracijos | E52: Šiaulių regiono savivaldybių bendrojo ugdymo mokyklos (BUM) ir ikimokyklinio, priešmokyklinio, pradinio bei pagrindinio ugdymo įstaigos | F52: Projektų planavimo | G52: Darnaus vystymosi, Inovatyvumo, Lygių galimybių HP Darnus vystymasis, įskaitant reikšmingos žalos nedarymo principą (toliau – DV), Lygios galimybės ir nediskriminavimas (toliau – LG) | H52: Dotacija | I52: =SUM(I70:I117) -> 13363764 | J52: =SUM(J70:J117) -> 0 | K52: =SUM(K70:K117) -> 0 | L52: =SUM(L70:L117) -> 11359197 | M52: =SUM(M70:M117) -> 2004567 | N52: R.S.2.3026 Mokyklų, kuriose buvo įdiegtos universalaus dizaino ir kitos inžinerinės priemonės, aplinką pritaikant asmenims, turintiems negalią, dalis nuo visų mokyklų | procentas | O52: 0.9 | P52: 2024 m. III ketv. | Q52: 2028 m. IV ketv.
O53: (2029)
N54: R.B.2.2071 Naujos arba modernizuotos švietimo infrastruktūros naudotojų skaičius per metus | naudotojai per metus | O54: =O94 -> 40
O55: (2029)
N56: P.S.2.1025 Mokyklos, kuriose buvo įdiegtos universalaus dizaino ir kitos inžinerinės priemonės pritaikant aplinką asmenims, turintiems negalią | skaičius | O56: =O96 -> 1
O57: (2029)
N58: P.B.2.0067 Naujos ar modernizuotos švietimo infrastruktūros mokymo klasių talpumas | asmenys | O58: =O98 -> 501
O59: (2029)
N60: R.S.2.3030 Vaikų, pasinaudojusių pavėžėjimo paslaugomis naujai įsigytomis transporto priemonėmis, skaičius | asmenys per metus | O60: =O70+O80+O84+O88 -> 348
O61: (2029)
N62: P.S.2.1029 Tikslinės transporto priemonės | skaičius | O62: =O72+O82+O86+O90 -> 14
O63: (2029)
N64: R.B.2.2070 Naujos arba modernizuotos vaikų priežiūros infrastruktūros naudotojų skaičius per metus | naudotojai per metus | O64: =O74+O100+O106+O112 -> 524
O65: (2029)
N66: P.S.2.1024 Sukurtų naujų ikimokyklinio ugdymo vietų skaičius | skaičius | O66: =O76+O102+O110+O114 -> 215
O67: (2029)
N68: P.B.2.0066 Naujos arba modernizuotos vaikų priežiūros infrastruktūros mokymo klasių talpumas | asmenys | O68: =O78+O104+O108+O116 -> 537
O69: (2029)
B70: 1.1. Ugdymo prieinamumo padidinimas atskirtį patiriantiems vaikams ir naujų ikimokyklinio ugdymo grupių įrengimas Akmenės rajono savivaldybėje | D70: Akmenės rajono savivaldybės administracija | E70: Akmenės r. savivaldybės BUM ir ikimokyklinio, priešmokyklinio, pradinio bei pagrindinio ugdymo įstaigos | I70: =SUM(J70:M79) -> 634740 | J70: =J80+J84+J88+J92+J100+J106+J112 -> 0 | K70: =K80+K84+K88+K92+K100+K106+K112 -> 0 | L70: 539529 | M70: 95211 | N70: R.S.2.3030 Vaikų, pasinaudojusių pavėžėjimo paslaugomis naujai įsigytomis transporto priemonėmis, skaičius | asmenys per metus | O70: 29 | P70: 2025 m. II ketv. | Q70: 2028 m. IV ketv.
O71: (2029)
N72: P.S.2.1029 Tikslinės transporto priemonės | skaičius | O72: 1
O73: (2029)
N74: R.B.2.2070 Naujos arba modernizuotos vaikų priežiūros infrastruktūros naudotojų skaičius per metus | naudotojai per metus | O74: 274
O75: (2029)
N76: P.S.2.1024 Sukurtų naujų ikimokyklinio ugdymo vietų skaičius | skaičius | O76: 60
O77: (2029)
N78: P.B.2.0066 Naujos arba modernizuotos vaikų priežiūros infrastruktūros mokymo klasių talpumas | asmenys | O78: 287
O79: (2029)
B80: 1.2. Ugdymo prieinamumo didinimas atskirtį patiriantiems vaikams Joniškio rajone | D80: Joniškio rajono savivaldybės administracija | E80: Joniškio r. savivaldybės BUM ir ikimokykliniopriešmokyklinio, pradinio bei pagrindinio ugdymo įstaigos | I80: =SUM(J80:M83) -> 768964.12 | J80: 0 | K80: 0 | L80: 653619.5 | M80: 115344.62 | N80: R.S.2.3030 Vaikų, pasinaudojusių pavėžėjimo paslaugomis naujai įsigytomis transporto priemonėmis, skaičius | asmenys per metus | O80: 160 | P80: 2024 m. IV ketv. | Q80: 2028 m. IV ketv.
O81: (2029)
N82: P.S.2.1029 Tikslinės transporto priemonės | skaičius | O82: 4
O83: (2028)
B84: 1.3. Ugdymo prieinamumo didinimas atskirtį patiriantiems vaikams Kelmės rajone | D84: Kelmės rajono savivaldybės administracija | E84: Kelmės r. savivaldybės BUM ir ikimokykliniopriešmokyklinio, pradinio bei pagrindinio ugdymo įstaigos | I84: =SUM(J84:M87) -> 1176472 | J84: 0 | K84: 0 | L84: 1000000 | M84: 176472 | N84: R.S.2.3030 Vaikų, pasinaudojusių pavėžėjimo paslaugomis naujai įsigytomis transporto priemonėmis, skaičius | asmenys per metus | O84: 75 | P84: 2024 m. IV ketv. | Q84: 2028 m. IV ketv.
O85: (2029)
N86: P.S.2.1029. Tikslinės transporto priemonės | skaičius | O86: 5
O87: (2029)
B88: 1.4. Ugdymo prieinamumo didinimas atskirtį patiriantiems vaikams Pakruojo rajono savivaldybėje | D88: Pakruojo rajono savivaldybės administracija | E88: Pakruojo r. savivaldybės BUM ir ikimokyklinio priešmokyklinio, pradinio, pagrindinio ugdymo įstaigos | I88: =SUM(J88:M91) -> 941748 | J88: 0 | K88: 0 | L88: 800485 | M88: 141263 | N88: R.S.2.3030 Vaikų, pasinaudojusių pavėžėjimo paslaugomis naujai įsigytomis transporto priemonėmis, skaičius | asmenys per metus | O88: 84 | P88: 2026 m. III ketv. | Q88: 2028 m. IV ketv.
O89: (2029)
N90: P.S.2.1029 Tikslinės transporto priemonės | skaičius | O90: 4
O91: (2029)
B92: 1.5. Ugdymo prieinamumo didinimas atskirtį patiriantiems vaikams Radviliškio rajone | D92: Radviliškio rajono savivaldybės administracija | E92: Radviliškio rajono savivaldybės BUM ir ikimokyklinio priešmokyklinio, pradinio, pagrindinio ugdymo įstaigos | I92: =SUM(J92:M99) -> 400000 | J92: 0 | K92: 0 | L92: 340000 | M92: 60000 | N92: R.S.2.3026 Mokyklų, kuriose buvo įdiegtos universalaus dizaino ir kitos inžinerinės priemonės, aplinką pritaikant asmenims turintiems negalią, dalis nuo visų mokyklų | procentas | O92: 5 | P92: 2024 m. III ketv. | Q92: 2028 m. IV ketv.
O93: (2029)
N94: R.B.2.2071 Naujos arba modernizuotos švietimo infrastruktūros naudotojų skaičius per metus | naudotojai per metus | O94: 40
O95: (2029)
N96: P.S.2.1025 Mokyklos, kuriose buvo įdiegtos universalaus dizaino ir kitos inžinerinės priemonės pritaikant aplinką asmenims, turintiems negalią | skaičius | O96: 1
O97: (2029)
N98: P.B.2.0067 Naujos ar modernizuotos švietimo infrastruktūros mokymo klasių talpumas | asmenys | O98: 501
O99: (2029)
B100: 1.6. Ugdymo prieinamumo didinimas atskirtį patiriantiems vaikams Šiaulių miesto savivaldybėje | D100: Šiaulių miesto savivaldybės administracija | E100: Šiaulių miesto savivaldybės BUM ir ikimokyklinio priešmokyklinio, pradinio, pagrindinio ugdymo įstaigos | I100: =SUM(J100:M105) -> 2941177 | J100: 0 | K100: 0 | L100: 2500000 | M100: 441177 | N100: R.B.2.2070 Naujos arba modernizuotos vaikų priežiūros infrastruktūros naudotojų skaičius per metus | naudotojai per metus | O100: 90 | P100: 2024 m. III ketv. | Q100: 2028 m. IV ketv.
O101: (2029)
N102: P.S.2.1024 Sukurtų naujų ikimokyklinio ugdymo vietų skaičius | skaičius | O102: 90
O103: (2029)
N104: P.B.2.0066 Naujos arba modernizuotos vaikų priežiūros infrastruktūros mokymo klasių talpumas | asmenys | O104: 90
O105: (2029)
B106: 1.7. Ugdymo prieinamumo didinimas atskirtį patiriantiems vaikams Šiaulių rajono savivaldybėje | D106: Šiaulių rajono savivaldybės administracija | E106: Šiaulių r. Ginkūnų Sofijos ir Vladimiro Zubovų progimnazija | I106: =SUM(J106:M111) -> 3200000 | J106: 0 | K106: 0 | L106: 2720000 | M106: 480000 | N106: R.B.2.2070 Naujos arba modernizuotos vaikų priežiūros infrastruktūros naudotojų skaičius per metus | naudotojai per metus | O106: 30 | P106: 2025 m. III ketv. | Q106: 2028 m. IV ketv.
O107: (2029)
...

Sheet IV skyrius II skirsnis
B2: ANTRAS SKIRSNIS
F4: ='III skyrius'!D11 -> LT026-02-01-02 | I4: ='III skyrius'!C11 -> Darnaus judumo skatinimas
B6: 4 lentelė. Pažangos priemonės įgyvendinimo rezultato rodikliai
B7: Eil. Nr. | C7: Rodiklio kodas | E7: Rodiklio pavadinimas (matavimo vienetas) | H7: Pradinė rodiklio reikšmė (metai) | K7: Siektinos rodiklio reikšmės
K8: Siektina tarpinė rodiklio reikšmė (metai) | N8: Siektina galutinė rodiklio reikšmė (metai)
B9: 1 | C9: 2 | E9: 3 | H9: 4 | K9: 5 | N9: 6
B10: 1. | C10: R.B.2.2064 | E10: Dviračiams skirtos infrastruktūros metinis naudotojų skaičius | naudotojai per metus | H10: 4150 | K10: 4150 | N10: =O44 -> 46500
H11: (2021) | K11: (2025) | N11: =O45 -> (2029)
B12: 2. | C12: R.S.2.3024 | E12: Panaikintos juodosios dėmės ar avaringos vietos vietinės reikšmės keliuose (gatvėse) | skaičius | H12: 0 | K12: 2 | N12: =O46 -> 4
H13: (2021) | K13: (2025) | N13: =O47 -> (2029)
B14: 3. | C14: R.S.2.3039 | E14: Metinis konsoliduotų viešųjų paslaugų vartotojų skaičius | vartotojai per metus | H14: 0 | K14: 0 | N14: =O74 -> 20800
H15: (2021) | K15: (2025) | N15: =O47 -> (2029)
B18: 5 lentelė. Pažangos priemonės finansavimo šaltiniai ir preliminarus pažangos lėšų poreikis
B19: Finansavimo šaltiniai | F19: Lėšų poreikis, eurais
B20: 1 | F20: 2
B21: 1. Lietuvos Respublikos valstybės biudžeto asignavimų lėšos: | F21: =SUM(F22,F25,F27,F30) -> 24091364
B22: 1.1. Valstybės biudžeto lėšos | F22: =F23 -> 0
B23: 1.1.1. lėšų pavadinimas ir finansavimo šaltinio kodas | F23: =J68 -> 0
B24: …
B25: 1.2. Europos Sąjungos (toliau – ES) ir kitos tarptautinės finansinės paramos bendrojo finansavimo lėšos | F25: =F26 -> 0
B26: … | F26: =K68 -> 0
B27: 1.3. ES ir kitos tarptautinės finansinės paramos lėšos | F27: =F28 -> 24091364
B28: 1.3.1. 2021–2027 m. ES struktūrinių fondų lėšos (1.3.2.8.1) | F28: =L87 -> 24091364
B29: …
B30: 1.4. Tikslinės paskirties valstybės biudžeto lėšos | F30: =F31 -> 0
B31: 1.4.1. lėšų pavadinimas ir finansavimo šaltinio kodas | F31: 0
B32: …
B33: 2. Kitos lėšos: | F33: =SUM(F34:H36) -> 4251417.8
B34: 2.1. Savivaldybių biudžetų lėšos | F34: =M87 -> 4251417.8
B35: 2.2. Privačios lėšos | F35: 0
B36: 2.3. Kitos viešosios lėšos | F36: 0
B37: IŠ VISO | F37: =SUM(F21,F33) -> 28342781
B39: 6 lentelė. Pažangos priemonės veiklos, poveiklės ir (arba) projektai
B40: Veiklos, poveiklės, projektai | C40: Veiklos, poveiklės, projekto tipas | D40: Galimi pareiškėjai arba projektų vykdytojai, kai projektai atrenkami planavimo būdu | E40: Galimi partneriai | F40: Projektų atrankos būdas | G40: Tiesiogiai prisidedama prie HP | H40: Projektų finansavimo forma | I40: Pažangos lėšos (eurais) ir jų finansavimo šaltiniai | N40: Stebėsenos rodikliai | P40: Įgyvendinimo pradžia (metai, ketv.) | Q40: Įgyvendinimo pabaiga (metai, ketv.)
I41: Iš viso | J41: Iš jų Lietuvos Respublikos valstybės biudžeto asignavimų lėšos, ne daugiau kaip | M41: Iš jų kitos lėšos, ne mažiau kaip | N41: Rodiklio kodas, pavadinimas ir matavimo vienetai | O41: Siektina rodiklio reikšmė (metai)
J42: Valstybės biudžeto lėšos | K42: ES ir kitos tarptautinės paramos bendrojo finansavimo lėšos | L42: ES ir kitos tarptautinės paramos lėšos
B43: 1 | C43: 2 | D43: 3 | E43: 4 | F43: 5 | G43: 6 | H43: 7 | I43: 8 | J43: 9 | K43: 10 | L43: 11 | M43: 12 | N43: 13 | O43: 14 | P43: 15 | Q43: 16
B44: 1. Šiaulių miesto darnaus judumo plane numatytų priemonių įgyvendinimas | C44: I | D44: Šiaulių miesto savivaldybės administracija | E44: - | F44: Projektų planavimo | G44: Darnaus vystymosi, Lygių galimybių HP | H44: Dotacija | I44: =SUM(I54:I67) -> 25954545 | J44: =SUM(J54:J67) -> 0 | K44: =SUM(K54:K67) -> 0 | L44: =SUM(L54:L67) -> 22061364 | M44: =SUM(M54:M67) -> 3893181.8 | N44: R.B.2.2064 Dviračiams skirtos infrastruktūros metinis naudotojų skaičius | naudotojai per metus | O44: =O54+O64 -> 46500 | P44: 2024 m. III ketv. | Q44: 2029 m. II ketv.
O45: (2029)
N46: R.S.2.3024 Panaikintos juodosios dėmės ar avaringos vietos vietinės reikšmės keliuose (gatvėse) | skaičius | O46: =O60 -> 4
O47: (2029)
N48: P.B.2.0058 Dviračiams skirta infrastruktūra, kuriai suteikta parama | kilometrai | O48: =O56+O66 -> 34.5
O49: (2029)
N50: P.S.2.1035 Įgyvendintos darnaus judumo priemonės | skaičius | O50: =O58 -> 3
O51: (2029)
N52: P.S.2.1023 Įdiegtos saugų eismą gerinančios priemonės vietinės reikšmės keliuose (gatvėse) | skaičius | O52: =O62 -> 4
O53: (2029)
B54: 1.1. Vientiso dviračių ir pėsčiųjų takų tinklo kūrimas, integruojant bevariklį transportą į bendrą transporto sistemą Šiaulių mieste | D54: Šiaulių miesto savivaldybės administracija | E54: - | I54: =SUM(J54:M57) -> 22000000 | J54: 0 | K54: 0 | L54: 18700000 | M54: 3300000 | N54: R.B.2.2064 Dviračiams skirtos infrastruktūros metinis naudotojų skaičius | naudotojai per metus | O54: 45000 | P54: 2024 m. III ketv. | Q54: 2029 m. II ketv.
O55: (2029)
N56: P.B.2.0058 Dviračiams skirta infrastruktūra, kuriai suteikta parama | kilometrai | O56: 33
O57: (2029)
B58: 1.2. Šiaulių miesto darnaus judumo plane numatytų priemonių, prisidedančių prie šiltnamio efektą sukeliančių dujų mažinimo, įgyvendinimas | D58: Šiaulių miesto savivaldybės administracija | E58: - | I58: =SUM(J58:M59) -> 2000000 | J58: 0 | K58: 0 | L58: 1700000 | M58: 300000 | N58: P.S.2.1035 Įgyvendintos darnaus judumo priemonės | skaičius | O58: 3 | P58: 2025 m. I ketv. | Q58: 2029 m. II ketv.
O59: (2029)
B60: 1.3. Eismo saugos gerinimas Šiaulių mieste, šalinant juodąsias dėmes | D60: Šiaulių miesto savivaldybės administracija | E60: - | I60: =SUM(J60:M63) -> 1000000 | J60: 0 | K60: 0 | L60: 850000 | M60: 150000 | N60: R.S.2.3024 Panaikintos juodosios dėmės ar avaringos vietos vietinės reikšmės keliuose (gatvėse) | skaičius | O60: 4 | P60: 2024 m. III ketv. | Q60: 2029 m. II ketv.
O61: (2029)
N62: P.S.2.1023 Įdiegtos saugų eismą gerinančios priemonės vietinės reikšmės keliuose (gatvėse) | skaičius | O62: 4
O63: (2029)
B64: 1.4. Vientiso dviračių ir pėsčiųjų takų tinklo kūrimas, integruojant bevariklį transportą į bendrą transporto sistemą Šiaulių mieste, II etapas | D64: Šiaulių miesto savivaldybės administracija | E64: - | I64: =SUM(J64:M67) -> 954545.48 | J64: 0 | K64: 0 | L64: 811363.65 | M64: 143181.83 | N64: R.B.2.2064 Dviračiams skirtos infrastruktūros metinis naudotojų skaičius | naudotojai per metus | O64: 1500 | P64: 2025 m. III ketv. | Q64: 2029 m. II ketv.
O65: (2029)
N66: P.B.2.0058 Dviračiams skirta infrastruktūra, kuriai suteikta parama | kilometrai | O66: 1,5
O67: (2029)
B68: Iš viso pažangos priemonės 1 veiklai: | I68: =SUM(I54:I67) -> 25954545 | J68: =SUM(J54:J67) -> 0 | K68: =SUM(K54:K67) -> 0 | L68: =SUM(L54:L67) -> 22061364 | M68: =SUM(M54:M67) -> 3893181.8
B70: Veiklos, poveiklės, projektai | C70: Veiklos, poveiklės, projekto tipas | D70: Galimi pareiškėjai arba projektų vykdytojai, kai projektai atrenkami planavimo būdu | E70: Galimi partneriai | F70: Projektų atrankos būdas | G70: Tiesiogiai prisidedama prie HP | H70: Projektų finansavimo forma | I70: Pažangos lėšos (eurais) ir jų finansavimo šaltiniai | N70: Stebėsenos rodikliai | P70: Įgyvendinimo pradžia (metai, ketv.) | Q70: Įgyvendinimo pabaiga (metai, ketv.)
I71: Iš viso | J71: Iš jų Lietuvos Respublikos valstybės biudžeto asignavimų lėšos, ne daugiau kaip | M71: Iš jų kitos lėšos, ne mažiau kaip | N71: Rodiklio kodas, pavadinimas ir matavimo vienetai | O71: Siektina rodiklio reikšmė (metai)
J72: Valstybės biudžeto lėšos | K72: ES ir kitos tarptautinės paramos bendrojo finansavimo lėšos | L72: ES ir kitos tarptautinės paramos lėšos
B73: 1 | C73: 2 | D73: 3 | E73: 4 | F73: 5 | G73: 6 | H73: 7 | I73: 8 | J73: 9 | K73: 10 | L73: 11 | M73: 12 | N73: 13 | O73: 14 | P73: 15 | Q73: 16
B74: 2. Šiaulių regiono viešojo keleivinio transporto efektyvumo didinimas (1 pastaba) | C74: I | D74: Radviliškio r. Šiaulių r., Šiaulių m. savivaldybių administracijos | E74: UAB "Kuršėnų autobusų parkas", AB „Via Lietuva“ | F74: Projektų planavimo | G74: Darnaus vystymosi, Lygių galimybių HP | H74: Dotacija | I74: =SUM(I78:I85) -> 2388236 | J74: =SUM(J78:J85) -> 0 | K74: =SUM(K78:K85) -> 0 | L74: =SUM(L78:L85) -> 2030000 | M74: =SUM(M78:M85) -> 358236 | N74: R.S.2.3039 Metinis konsoliduotų viešųjų paslaugų vartotojų skaičius | vartotojai per metus | O74: =O78+O82 -> 20800 | P74: 2025 m. II ketv. | Q74: 2029 m. III ketv.
O75: (2029)
N76: P.B.2.0076 Integruoti teritorinio vystymo projektai | projektai | O76: =O80+O84 -> 2
O77: (2029)
B78: 2.1. Radviliškio r. savivaldybės viešojo keleivinio transporto infrastruktūros plėtra ir modernizavimas | C78: - | D78: Radviliškio rajono savivaldybės administracija | E78: AB „Via Lietuva“ | I78: =SUM(J78:M81) -> 1800000 | J78: 0 | K78: 0 | L78: 1530000 | M78: 270000 | N78: R.S.2.3039 Metinis konsoliduotų viešųjų paslaugų vartotojų skaičius | vartotojai per metus | O78: 20000 | P78: 2025 m. II ketv. | Q78: 2028 m. II ketv.
O79: (2029)
N80: P.B.2.0076 Integruoti teritorinio vystymo projektai | projektai | O80: 1
O81: (2029)
B82: 2.2. Viešojo keleivinio transporto paslaugų prieinamumo didinimas Šiaulių r. savivaldybėje | C82: - | D82: Šiaulių rajono savivaldybės administracija | E82: UAB "Kuršėnų autobusų parkas | I82: =SUM(J82:M85) -> 588236 | J82: 0 | K82: 0 | L82: 500000 | M82: 88236 | N82: R.S.2.3039 Metinis konsoliduotų viešųjų paslaugų vartotojų skaičius | vartotojai per metus | O82: 800 | P82: 2026 m. I ketv. | Q82: 2029 m. III ketv.
O83: (2029)
N84: P.B.2.0076 Integruoti teritorinio vystymo projektai | projektai | O84: 1
O85: (2029)
B86: Iš viso pažangos priemonės 2 veiklai: | I86: =SUM(I78:I85) -> 2388236 | J86: =SUM(J78:J85) -> 0 | K86: =SUM(K78:K85) -> 0 | L86: =SUM(L78:L85) -> 2030000 | M86: =SUM(M78:M85) -> 358236
B87: Iš viso pažangos priemonei: | I87: =I68+I86 -> 28342781 | J87: =J68+J86 -> 0 | K87: =K68+K86 -> 0 | L87: =L68+L86 -> 24091364 | M87: =M68+M86 -> 4251417.8
B90: 7 lentelė. LT026-02-01-02 pažangos priemonės „Darnaus judumo skatinimas“ specialieji projektų atrankos kriterijai
B91: Eil. Nr. | C91: Specialieji projektų atrankos kriterijai | F91: Pažangos priemonės veikla (-os) | J91: Atitikties specialiajam projektų atrankos kriterijui vertinimo aspektai
B92: 1 | C92: 2 | F92: 3 | J92: 4
C93: Specialieji projektų atrankos kriterijai nebus taikomi.
B95: 8 lentelė. LT026-02-01-02 pažangos priemonės „Darnaus judumo skatinimas““ prioritetiniai projektų atrankos kriterijai
B96: Eil. Nr. | C96: Prioritetinis projektų atrankos kriterijus | F96: Pažangos priemonės veikla (-os) | J96: Atitikties prioritetiniam projektų atrankos kriterijui vertinimo aspektai
B97: 1 | C97: 2 | F97: 3 | J97: 4
C98: Prioritetiniai projektų atrankos kriterijai nebus taikomi, nes visi pažangos priemonės projektai bus atrenkami planavimo būdu.
B100: 16 lentelė. Reikalavimai projektams
B101: Eil. Nr. | C101: Veikla (-os) ir (ar) poveiklė (-ės), kurios projektams taikomas reikalavimas | F101: Reikalavimai projektams
B102: 1 | C102: 2 | F102: 3
C103: Veikla Nr.1. Šiaulių miesto darnaus judumo plane numatytų priemonių įgyvendinimas. Veikla Nr.2. Šiaulių regiono viešojo keleivinio transporto efektyvumo didinimas | F103: Veiklos Nr. 1 poveiklės Nr. 1.1, Nr. 1.2 ir Nr. 1.4 įgyvendinamos pagal Lietuvos Respublikos susisiekimo ministerijos regioninės pažangos priemonės Nr. 10-001-06-01-03 (RE) „Skatinti darnų judumą miestuose“ finansavimo gaires, o veiklos Nr. 1 poveiklė Nr. 1.3 – pagal Lietuvos Respublikos susisiekimo ministerijos regioninės pažangos priemonės Nr. 10-001-05-03-07 (RE) „Gerinti eismo saugą vietinės reikšmės keliuose ir gatvėse“ finansavimo gaires. Veikla Nr. 2 įgyvendinama pagal Lietuvos Respublikos vidaus reikalų ministerijos regioninės pažangos priemonės 01-004-07-02-01 (RE) „Pagerinti viešųjų paslaugų prieinamumą, darbo vietų pasiekiamumą ir tam reikalingų išteklių naudojimo efektyvumą“ finansavimo gaires.
B105: 17 lentelė. Kiti reikalavimai dėl pažangos priemonės įgyvendinimo
B106: Eil. Nr. | C106: Reikalavimai
B107: 1 | C107: 2
C108: Nebus taikomi
A110: Pastabos:
A111: 1. | B111: Projektais 2.1.–2.2. įgyvendinami 2024-2029 m. Šiaulių regiono funkcinės zonos strategijos, patvirtintos Šiaulių regiono savivaldybių tarybų 2026 m. vasario-kovo mėn. sprendimais, veiksmai.

Sheet IV skyrius III skirsnis
B2: TREČIAS SKIRSNIS
F4: ='III skyrius'!D17 -> LT026-03-02-03 | I4: ='III skyrius'!C17 -> Sveikatos ir ilgalaikės priežiūros paslaugų plėtra
B6: 4 lentelė. Pažangos priemonės įgyvendinimo rezultato rodikliai
B7: Eil. Nr. | C7: Rodiklio kodas | E7: Rodiklio pavadinimas (matavimo vienetas) | H7: Pradinė rodiklio reikšmė (metai) | K7: Siektinos rodiklio reikšmės
K8: Siektina tarpinė rodiklio reikšmė (metai) | N8: Siektina galutinė rodiklio reikšmė (metai)
B9: 1 | C9: 2 | E9: 3 | H9: 4 | K9: 5 | N9: 6
B10: 1. | C10: R.S.2.3523 | E10: Asmenų, kurie po dalyvavimo veiklose pagerino sveikatos raštingumo kompetenciją, dalis | procentai | H10: 0 | K10: 0 | N10: =O50 -> 80
H11: (2021) | K11: (2025) | N11: =O49 -> (2029)
B12: 2. | C12: R.S.2.3526 | E12: Asmenų, palankiai vertinančių visuomenės sveikatos priežiūros paslaugų kokybę, dalis | procentai | H12: 0 | K12: 0 | N12: =O56 -> 80
H13: (2021) | K13: (2025) | N13: =O57 -> (2029)
B14: 3. | C14: R.B.2.2073 | E14: Naujos arba modernizuotos sveikatos priežiūros infrastruktūros naudotojų skaičius per metus | naudotojai per metus | H14: 0 | K14: 0 | N14: =O110 -> 1516
H15: (2021) | K15: (2025) | N15: =O59 -> (2029)
B16: 4. | C16: R.S.2.3530 | E16: Ilgalaikės priežiūros paslaugų gavėjų, palankiai vertinančių gaunamų paslaugų kokybę, dalis | procentai | H16: 0 | K16: 0 | N16: =O64 -> 80
H17: (2021) | K17: (2025) | N17: =O65 -> (2029)
B21: 5 lentelė. Pažangos priemonės finansavimo šaltiniai ir preliminarus pažangos lėšų poreikis
B22: Finansavimo šaltiniai | F22: Lėšų poreikis, eurais
B23: 1 | F23: 2
B24: 1. Lietuvos Respublikos valstybės biudžeto asignavimų lėšos: | F24: =SUM(F25,F28,F31,F34) -> 7225335.4
B25: 1.1. Valstybės biudžeto lėšos | F25: =F26 -> 0
B26: 1.1.1. lėšų pavadinimas ir finansavimo šaltinio kodas | F26: =J104 -> 0
B27: …
B28: 1.2. Europos Sąjungos (toliau – ES) ir kitos tarptautinės finansinės paramos bendrojo finansavimo lėšos | F28: =F29 -> 0
B29: 1.2.1. 2021–2027 m. ES struktūrinių fondų bendrojo finansavimo lėšos (1.2.2.8.1) | F29: =K104 -> 0
B30: …
B31: 1.3. ES ir kitos tarptautinės finansinės paramos lėšos | F31: =F32 -> 7225335.4
B32: 1.3.1. 2021–2027 m. ES struktūrinių fondų lėšos (1.3.2.8.1) | F32: =L151 -> 7225335.4
B33: …
B34: 1.4. Tikslinės paskirties valstybės biudžeto lėšos | F34: =F35 -> 0
B35: 1.4.1. lėšų pavadinimas ir finansavimo šaltinio kodas | F35: 0
B36: …
B37: 2. Kitos lėšos: | F37: =SUM(F38:H40) -> 1588216.4
B38: 2.1. Savivaldybių biudžetų lėšos | F38: =M151 -> 1588216.4
B39: 2.2. Privačios lėšos | F39: 0
B40: 2.3. Kitos viešosios lėšos | F40: 0
B41: IŠ VISO | F41: =SUM(F24,F37) -> 8813551.8
B43: 6 lentelė. Pažangos priemonės veiklos, poveiklės ir (arba) projektai
B44: Veiklos, poveiklės, projektai | C44: Veiklos, poveiklės, projekto tipas | D44: Galimi pareiškėjai arba projektų vykdytojai, kai projektai atrenkami planavimo būdu | E44: Galimi partneriai | F44: Projektų atrankos būdas | G44: Tiesiogiai prisidedama prie HP | H44: Projektų finansavimo forma | I44: Pažangos lėšos (eurais) ir jų finansavimo šaltiniai | N44: Stebėsenos rodikliai | P44: Įgyvendinimo pradžia (metai, ketv.) | Q44: Įgyvendinimo pabaiga (metai, ketv.)
I45: Iš viso | J45: Iš jų Lietuvos Respublikos valstybės biudžeto asignavimų lėšos, ne daugiau kaip | M45: Iš jų kitos lėšos, ne mažiau kaip | N45: Rodiklio kodas, pavadinimas ir matavimo vienetai | O45: Siektina rodiklio reikšmė (metai)
J46: Valstybės biudžeto lėšos | K46: ES ir kitos tarptautinės paramos bendrojo finansavimo lėšos | L46: ES ir kitos tarptautinės paramos lėšos
B47: 1 | C47: 2 | D47: 3 | E47: 4 | F47: 5 | G47: 6 | H47: 7 | I47: 8 | J47: 9 | K47: 10 | L47: 11 | M47: 12 | N47: 13 | O47: 14 | P47: 15 | Q47: 16
B48: 1. Kokybiškų visuomenės sveikatos paslaugų prieinamumo didinimas Šiaulių regione | C48: I | D48: Šiaulių regiono savivaldybių visuomenės sveikatos biurai | E48: Šiaulių regiono savivaldybių administracijos | F48: Projektų planavimo | G48: Darnaus vystymosi, Lygių galimybių HP | H48: Dotacija | I48: =SUM(I56:I103) -> 1705013.9 | J48: =SUM(J56:J103) -> 0 | K48: =SUM(K56:K103) -> 0 | L48: =SUM(L56:L103) -> 1449261.8 | M48: =SUM(M56:M103) -> 255752.08 | N48: R.S.2.3523 Asmenų, kurie po dalyvavimo veiklose pagerino sveikatos raštingumo kompetenciją, dalis | procentai | O48: =O56 -> 80 | P48: 2024 m. II ketv. | Q48: 2029 m. I ketv.
O49: (2029)
N50: R.S.2.3526 Asmenų, palankiai vertinančių visuomenės sveikatos priežiūros paslaugų kokybę, dalis | procentai | O50: =O58 -> 80
O51: (2029)
N52: P.S.2.1519 Asmenys, dalyvavę sveikatos raštingumo didinimo veiklose | asmenys | O52: =O60+O68+O76+O84+O92+O100 -> 7387
O53: (2029)
N54: P.B.2.0518 / (EECO018) Paramą gavusių nacionalinio, regionų ar vietos lygmens viešojo administravimo ar viešąsias paslaugas teikiančių įstaigų skaičius | subjektų skaičius | O54: =O62+O70+O78+O86+O94+O102 -> 6
O55: (2029)
B56: 1.1. Akmenės rajono gyventojų sveikatos raštingumo didinimas | D56: Akmenės rajono savivaldybės visuomenės sveikatos biuras | E56: - | I56: =L56+M56 -> 319013.85 | J56: 0 | K56: 0 | L56: 271161.77 | M56: 47852.08 | N56: R.S.2.3523 Asmenų, kurie po dalyvavimo veiklose pagerino sveikatos raštingumo kompetenciją, dalis | procentai | O56: 80 | P56: 2025 m. II ketv. | Q56: 2028 m. II ketv.
O57: (2029)
N58: R.S.2.3526 Asmenų, palankiai vertinančių visuomenės sveikatos priežiūros paslaugų kokybę, dalis | procentai | O58: 80
O59: (2029)
N60: P.S.2.1519 Asmenys, dalyvavę sveikatos raštingumo didinimo veiklose | asmenys | O60: 495
O61: (2029)
N62: P.B.2.0518 / (EECO018) Paramą gavusių nacionalinio, regionų ar vietos lygmens viešojo administravimo ar viešąsias paslaugas teikiančių įstaigų skaičius | subjektų skaičius | O62: 1
O63: (2029)
B64: 1.2. Kokybiškų visuomenės sveikatos paslaugų prieinamumo didinimas Joniškio rajone | D64: Joniškio rajono savivaldybės visuomenės sveikatos biuras | E64: Joniškio rajono savivaldybės administracija | I64: =L64+M64 -> 150000 | J64: 0 | K64: 0 | L64: 127500 | M64: 22500 | N64: R.S.2.3523 Asmenų, kurie po dalyvavimo veiklose pagerino sveikatos raštingumo kompetenciją, dalis | procentai | O64: 80 | P64: 2024 m. II ketv. | Q64: 2027 m. IV ketv.
O65: (2029)
N66: R.S.2.3526 Asmenų, palankiai vertinančių visuomenės sveikatos priežiūros paslaugų kokybę, dalis | procentai | O66: 80
O67: (2029)
N68: P.S.2.1519 Asmenys, dalyvavę sveikatos raštingumo didinimo veiklose | asmenys | O68: 440
O69: (2029)
N70: P.B.2.0518 / (EECO018) Paramą gavusių nacionalinio, regionų ar vietos lygmens viešojo administravimo ar viešąsias paslaugas teikiančių įstaigų skaičius | subjektų skaičius | O70: 1
O71: (2029)
B72: 1.3. Prevencinių priemonių, skirtų visuomenės sveikatos stiprinimui, įgyvendinimas Kelmės rajono savivaldybėje | D72: Kelmės rajono savivaldybės visuomenės sveikatos biuras | E72: Kelmės rajono savivaldybės administracija | I72: =L72+M72 -> 230000 | J72: 0 | K72: 0 | L72: 195500 | M72: 34500 | N72: R.S.2.3523 Asmenų, kurie po dalyvavimo veiklose pagerino sveikatos raštingumo kompetenciją, dalis | procentai | O72: 80 | P72: 2025 m. I ketv. | Q72: 2027 m. IV ketv.
O73: (2029)
N74: R.S.2.3526 Asmenų, palankiai vertinančių visuomenės sveikatos priežiūros paslaugų kokybę, dalis | procentai | O74: 80
O75: (2029)
N76: P.S.2.1519 Asmenys, dalyvavę sveikatos raštingumo didinimo veiklose | asmenys | O76: 2300
O77: (2029)
N78: P.B.2.0518 / (EECO018) Paramą gavusių nacionalinio, regionų ar vietos lygmens viešojo administravimo ar viešąsias paslaugas teikiančių įstaigų skaičius | subjektų skaičius | O78: 1
O79: (2029)
B80: 1.4. Kokybiškų visuomenės sveikatos paslaugų prieinamumo didinimas Pakruojo rajone | D80: Pakruojo rajono savivaldybės visuomenės sveikatos biuras | E80: - | I80: =L80+M80 -> 400000 | J80: 0 | K80: 0 | L80: 340000 | M80: 60000 | N80: R.S.2.3523 Asmenų, kurie po dalyvavimo veiklose pagerino sveikatos raštingumo kompetenciją, dalis | procentai | O80: 80 | P80: 2025 m. I ketv. | Q80: 2029 m. I ketv.
O81: (2029)
N82: R.S.2.3526 Asmenų, palankiai vertinančių visuomenės sveikatos priežiūros paslaugų kokybę, dalis | procentai | O82: 80
O83: (2029)
N84: P.S.2.1519 Asmenys, dalyvavę sveikatos raštingumo didinimo veiklose | asmenys | O84: 1200
O85: (2029)
N86: P.B.2.0518 / (EECO018) Paramą gavusių nacionalinio, regionų ar vietos lygmens viešojo administravimo ar viešąsias paslaugas teikiančių įstaigų skaičius | subjektų skaičius | O86: 1
O87: (2029)
B88: 1.5. Kokybiškų visuomenės sveikatos paslaugų prieinamumo didinimas Radviliškio rajone | D88: Radviliškio rajono savivaldybės visuomenės sveikatos biuras | E88: Radviliškio rajono savivaldybės administracija | I88: =L88+M88 -> 306000 | J88: 0 | K88: 0 | L88: 260100 | M88: 45900 | N88: R.S.2.3523 Asmenų, kurie po dalyvavimo veiklose pagerino sveikatos raštingumo kompetenciją, dalis | procentai | O88: 80 | P88: 2024 m. IV ketv. | Q88: 2027 m. IV ketv.
O89: (2029)
N90: R.S.2.3526 Asmenų, palankiai vertinančių visuomenės sveikatos priežiūros paslaugų kokybę, dalis | procentai | O90: 80
O91: (2029)
N92: P.S.2.1519 Asmenys, dalyvavę sveikatos raštingumo didinimo veiklose | asmenys | O92: 2362
O93: (2029)
N94: P.B.2.0518 / (EECO018) Paramą gavusių nacionalinio, regionų ar vietos lygmens viešojo administravimo ar viešąsias paslaugas teikiančių įstaigų skaičius | subjektų skaičius | O94: 1
O95: (2029)
B96: 1.6. Kokybiškų visuomenės sveikatos paslaugų prieinamumo didinimas Šiaulių rajone | D96: Šiaulių rajono savivaldybės visuomenės sveikatos biuras | E96: Šiaulių rajono savivaldybės administracija | I96: =L96+M96 -> 300000 | J96: 0 | K96: 0 | L96: 255000 | M96: 45000 | N96: R.S.2.3523 Asmenų, kurie po dalyvavimo veiklose pagerino sveikatos raštingumo kompetenciją, dalis | procentai | O96: 80 | P96: 2025 m. II ketv. | Q96: 2028 m. II ketv.
O97: (2029)
N98: R.S.2.3526 Asmenų, palankiai vertinančių visuomenės sveikatos priežiūros paslaugų kokybę, dalis | procentai | O98: 80
O99: (2029)
N100: P.S.2.1519 Asmenys, dalyvavę sveikatos raštingumo didinimo veiklose | asmenys | O100: 590
O101: (2029)
N102: P.B.2.0518 / (EECO018) Paramą gavusių nacionalinio, regionų ar vietos lygmens viešojo administravimo ar viešąsias paslaugas teikiančių įstaigų skaičius | subjektų skaičius | O102: 1
O103: (2029)
B104: Iš viso pažangos priemonės 1 veiklai: | I104: =SUM(I56:I103) -> 1705013.9 | J104: =SUM(J56:J103) -> 0 | K104: =SUM(K56:K103) -> 0 | L104: =SUM(L56:L103) -> 1449261.8 | M104: =SUM(M56:M103) -> 255752.08
B106: Veiklos, poveiklės, projektai | C106: Veiklos, poveiklės, projekto tipas | D106: Galimi pareiškėjai arba projektų vykdytojai, kai projektai atrenkami planavimo būdu | E106: Galimi partneriai | F106: Projektų atrankos būdas | G106: Tiesiogiai prisidedama prie HP | H106: Projektų finansavimo forma | I106: Pažangos lėšos (eurais) ir jų finansavimo šaltiniai | N106: Stebėsenos rodikliai | P106: Įgyvendinimo pradžia (metai, ketv.) | Q106: Įgyvendinimo pabaiga (metai, ketv.)
I107: Iš viso | J107: Iš jų Lietuvos Respublikos valstybės biudžeto asignavimų lėšos, ne daugiau kaip | M107: Iš jų kitos lėšos, ne mažiau kaip | N107: Rodiklio kodas, pavadinimas ir matavimo vienetai | O107: Siektina rodiklio reikšmė (metai)
J108: Valstybės biudžeto lėšos | K108: ES ir kitos tarptautinės paramos bendrojo finansavimo lėšos | L108: ES ir kitos tarptautinės paramos lėšos
...

Sheet IV skyrius IV skirsnis
B2: KETVIRTAS SKIRSNIS
G4: ='III skyrius'!D14 -> LT026-02-02-04 | I4: ='III skyrius'!C14 -> Vandentvarkos paslaugų prieinamumo didinimas
B6: 4 lentelė. Pažangos priemonės įgyvendinimo rezultato rodikliai
B7: Eil. Nr. | C7: Rodiklio kodas | E7: Rodiklio pavadinimas (matavimo vienetas) | H7: Pradinė rodiklio reikšmė (metai) | K7: Siektinos rodiklio reikšmės
K8: Siektina tarpinė rodiklio reikšmė (metai) | N8: Siektina galutinė rodiklio reikšmė (metai)
B9: 1 | C9: 2 | E9: 3 | H9: 4 | K9: 5 | N9: 6
B10: 1. | C10: RCR41 R.B.2.2041 | E10: Gyventojai, prisijungę prie patobulintų viešojo vandens tiekimo sistemų | asmenys | H10: 0 | K10: 0 | N10: =O45 -> 7670
H11: (2021) | K11: (2025) | N11: =O48 -> (2029)
B12: 2. | C12: RCR42 R.B.2.2042 | E12: Gyventojai, prisijungę bent prie antrinio viešojo nuotekų valymo įrenginių | asmenys | H12: 0 | K12: 0 | N12: =O51 -> 6429
H13: (2021) | K13: (2025) | N13: =O52 -> (2029)
B14: 3. | C14: R.S.2.3055 | E14: Viešieji vandens tiekėjai ir nuotekų tvarkytojai, kurie investuoja į saugaus vandens tiekimo užtikrinimo priemones, siekdami padidinti įmonių veiklos atsparumą | skaičius | H14: 0 | K14: 0 | N14: =O141 -> 7
H15: (2025) | K15: (2025) | N15: =O142 -> (2030)
B18: 5 lentelė. Pažangos priemonės finansavimo šaltiniai ir preliminarus pažangos lėšų poreikis
B19: Finansavimo šaltiniai | F19: Lėšų poreikis, eurais
B20: 1 | F20: 2
B21: 1. Lietuvos Respublikos valstybės biudžeto asignavimų lėšos: | F21: =F22+F25+F28+F31 -> 21055357
B22: 1.1. Valstybės biudžeto lėšos | F22: =F23 -> 0
B23: 1.1.1. lėšų pavadinimas ir finansavimo šaltinio kodas | F23: =J135 -> 0
B24: …
B25: 1.2. Europos Sąjungos (toliau – ES) ir kitos tarptautinės finansinės paramos bendrojo finansavimo lėšos | F25: =F26 -> 0
B26: 1.2.1. 2021–2027 m. ES struktūrinių fondų bendrojo finansavimo lėšos (1.2.2.8.1) | F26: =K135 -> 0
B27: …
B28: 1.3. ES ir kitos tarptautinės finansinės paramos lėšos | F28: =F29 -> 21055357
B29: 1.3.1. 2021–2027 m. ES struktūrinių fondų lėšos (1.3.2.8.1) | F29: =L174 -> 21055357
B30: …
B31: 1.4. Tikslinės paskirties valstybės biudžeto lėšos | F31: =F32 -> 0
B32: 1.4.1. lėšų pavadinimas ir finansavimo šaltinio kodas | F32: 0
B33: …
B34: 2. Kitos lėšos: | F34: =SUM(F35:H37) -> 24471913
B35: 2.1. Savivaldybių biudžetų lėšos | F35: =M174-F36 -> 18046602
B36: 2.2. Privačios lėšos | F36: =N135+N173 -> 6425311.5
B37: 2.3. Kitos viešosios lėšos | F37: 0
B38: IŠ VISO | F38: =F21+F34 -> 45527270
B40: 6 lentelė. Pažangos priemonės veiklos, poveiklės ir (arba) projektai
B41: Veiklos, poveiklės, projektai | C41: Veiklos, poveiklės, projekto tipas | D41: Galimi pareiškėjai arba projektų vykdytojai, kai projektai atrenkami planavimo būdu | E41: Galimi partneriai | F41: Projektų atrankos būdas | G41: Tiesiogiai prisidedama prie HP | H41: Projektų finansavimo forma | I41: Pažangos lėšos (eurais) ir jų finansavimo šaltiniai | N41: Stebėsenos rodikliai | P41: Įgyvendinimo pradžia (metai, ketv.) | Q41: Įgyvendinimo pabaiga (metai, ketv.)
I42: Iš viso | J42: Iš jų Lietuvos Respublikos valstybės biudžeto asignavimų lėšos, ne daugiau kaip | M42: Iš jų kitos lėšos, ne mažiau kaip | N42: Rodiklio kodas, pavadinimas ir matavimo vienetai | O42: Siektina rodiklio reikšmė (metai)
J43: Valstybės biudžeto lėšos | K43: ES ir kitos tarptautinės paramos bendrojo finansavimo lėšos | L43: ES ir kitos tarptautinės paramos lėšos
B44: 1 | C44: 2 | D44: 3 | E44: 4 | F44: 5 | G44: 6 | H44: 7 | I44: 8 | J44: 9 | K44: 10 | L44: 11 | M44: 12 | N44: 13 | O44: 14 | P44: 15 | Q44: 16
B45: 1. Geriamojo vandens tiekimo ir nuotekų tvarkymo paslaugų plėtra Šiaulių regiono rajonų savivaldybėse | C45: I | D45: Šiaulių regiono rajonų savivaldybių UAB, atsakingi už geriamojo vandens tiekimo ir nuotekų tvarkymo paslaugas | E45: Šiaulių regiono savivaldybių administracijos | F45: Projektų planavimo | G45: Darnaus vystymosi, Lygių galimybių HP | H45: Dotacija | I45: =SUM(I57:I134) -> 38952235 | J45: =SUM(J57:J134) -> 0 | K45: =SUM(K57:K134) -> 0 | L45: =SUM(L57:L134) -> 14809074 | M45: =SUM(M57:M134) -> 24143161 | N45: RCR41 R.B.2.2041 Gyventojai, prisijungę prie patobulintų viešojo vandens tiekimo sistemų | asmenys | O45: =O61+O69+O98+O110+O115+O127 -> 7670 | P45: 2024 m. II ketv. | Q45: 2029 m. III ketv.
O46: (2029)
N47: RCO30 P.B.2.0030 Viešojo vandens tiekimo paskirstymo sistemų naujų arba atnaujintų vamzdynų ilgis | kilometrai | O47: =O57+O67+O88+O100+O113+O123 -> 34.387
O48: (2029)
N49: P.S.2.1013 Nauji arba atnaujinti geriamojo vandens ruošimo pajėgumai | m³/parą | O49: =O65+O94+O129 -> 1989
O50: (2029)
N51: RCR42 R.B.2.2042 Gyventojai, prisijungę bent prie antrinio viešojo nuotekų valymo įrenginių | asmenys | O51: 6429
O52: (2029)
N53: RCO31 P.B.2.0031 Viešojo nuotekų surinkimo tinklo naujų arba atnaujintų vamzdynų ilgis | kilometrai | O53: =O59+O71+O90+O103+O117+O125 -> 65.273
O54: (2029)
N55: RCO32 P.B.2.0032 Nauji arba atnaujinti nuotekų valymo pajėgumai | gyventojų ekvivalentas | O55: =O75+O92+O105+O121+O133 -> 5694
O56: (2029)
B57: 1.1. Geriamojo vandens tiekimo ir nuotekų tvarkymo paslaugų plėtra Akmenės rajono savivaldybėje | D57: UAB „Akmenės vandenys“ | I57: =SUM(J57:M57) -> 682672 | J57: 0 | K57: 0 | L57: 341336 | M57: 341336 | N57: RCO30 P.B.2.0030 Viešojo vandens tiekimo paskirstymo sistemų naujų arba atnaujintų vamzdynų ilgis | kilometrai | O57: 1.13 | P57: 2024 m. II ketv. | Q57: 2026 m. IV ketv.
O58: (2029)
N59: RCO31 P.B.2.0031 Viešojo nuotekų surinkimo tinklo naujų arba atnaujintų vamzdynų ilgis | kilometrai | O59: 3.562
O60: (2029)
N61: RCR41 R.B.2.2041 Gyventojai, prisijungę prie patobulintų viešojo vandens tiekimo sistemų | asmenys | O61: 103
O62: (2029)
N63: RCR42 R.B.2.2042 Gyventojai, prisijungę bent prie antrinio viešojo nuotekų valymo įrenginių | asmenys | O63: 104
O64: (2029)
N65: P.S.2.1013 Nauji arba atnaujinti geriamojo vandens ruošimo pajėgumai | m³/parą | O65: 29
O66: (2029)
B67: 1.2. Vandens tiekimo ir nuotekų tvarkymo infrastruktūros plėtra Joniškio rajone | D67: UAB „Joniškio vandenys“ | I67: =SUM(J67:M76) -> 5746643.8 | J67: 0 | K67: 0 | L67: 2292099.9 | M67: 3454543.9 | N67: RCO30 P.B.2.0030 Viešojo vandens tiekimo paskirstymo sistemų naujų arba atnaujintų vamzdynų ilgis | kilometrai | O67: 4.485 | P67: 2025 m. II ketv. | Q67: 2029 m. III ketv.
O68: (2029)
N69: RCR41 R.B.2.2041 Gyventojai, prisijungę prie patobulintų viešojo vandens tiekimo sistemų | asmenys | O69: 131
O70: (2029)
N71: RCO31 P.B.2.0031 Viešojo nuotekų surinkimo tinklo naujų arba atnaujintų vamzdynų ilgis | kilometrai | O71: 16.529
O72: (2029)
N73: RCR42 R.B.2.2042 Gyventojai, prisijungę bent prie antrinio viešojo nuotekų valymo įrenginių | asmenys | O73: 797
O74: (2029)
N75: RCO32 P.B.2.0032 Nauji arba atnaujinti nuotekų valymo pajėgumai | gyventojų ekvivalentas | O75: 593
O76: (2029)
B88: 1.3. Geriamojo vandens tiekimo bei nuotekų tvarkymo paslaugų prieinamumo didinimas Kelmės rajone | D88: UAB „Kelmės vanduo“ | E88: Kelmės rajono savivaldybės administracija | I88: =L88+M88+K88 -> 4838973.3 | J88: 0 | K88: 0 | L88: 1591745.2 | M88: 3247228.2 | N88: RCO30 P.B.2.0030 Viešojo vandens tiekimo paskirstymo sistemų naujų arba atnaujintų vamzdynų ilgis | kilometrai | O88: 3.7 | P88: 2025 m. II ketv. | Q88: 2029 m. III ketv.
O89: (2029)
N90: RCO31 P.B.2.0031 Viešojo nuotekų surinkimo tinklo naujų arba atnaujintų vamzdynų ilgis | kilometrai | O90: 8.1
O91: (2029)
N92: RCO32 P.B.2.0032 Nauji arba atnaujinti nuotekų valymo pajėgumai | gyventojų ekvivalentas | O92: 607
O93: (2029)
N94: P.S.2.1013 Nauji arba atnaujinti geriamojo vandens ruošimo pajėgumai | m³/parą | O94: 1920
O95: (2029)
N96: RCR42 R.B.2.2042 Gyventojai, prisijungę bent prie antrinio viešojo nuotekų valymo įrenginių | asmenys | O96: 562
O97: (2029)
N98: RCR41 R.B.2.2041 Gyventojai, prisijungę prie patobulintų viešojo vandens tiekimo sistemų | asmenys | O98: 6513
O99: (2029)
B100: 1.4. Geriamojo vandens tiekimo ir nuotekų tvarkymo paslaugų prieinamumo didinimas Pakruojo rajono savivaldybėje | D100: UAB „Pakruojo vandentiekis“ | I100: =SUM(J100:M104) -> 4864600 | J100: 0 | K100: 0 | L100: 2432300 | M100: 2432300 | N100: RCO30 P.B.2.0030 Viešojo vandens tiekimo paskirstymo sistemų naujų arba atnaujintų vamzdynų ilgis | kilometrai | O100: 5.853 | P100: 2026 I ketv. | Q100: 2028 m. I ketv.
O102: (2029)
N103: RCO31 P.B.2.0031 Viešojo nuotekų surinkimo tinklo naujų arba atnaujintų vamzdynų ilgis | kilometrai | O103: 8.713
O104: (2029)
N105: RCO32 P.B.2.0032 Nauji arba atnaujinti nuotekų valymo pajėgumai | gyventojų ekvivalentas | O105: 1257
O107: (2029)
N108: RCR42 R.B.2.2042 Gyventojai, prisijungę bent prie antrinio viešojo nuotekų valymo įrenginių | asmenys | O108: 983
O109: (2029)
N110: RCR41 R.B.2.2041 Gyventojai, prisijungę prie patobulintų viešojo vandens tiekimo sistemų | asmenys | O110: 105
O112: (2029)
B113: 1.5. Geriamojo vandens tiekimo ir nuotekų tvarkymo paslaugų prieinamumo didinimas Radviliškio rajono savivaldybėje | D113: UAB „Radviliškio vanduo | E113: Radviliškio rajono savivaldybės administracija | I113: =SUM(J113:M117) -> 4906719.9 | J113: 0 | K113: 0 | L113: 1393092.5 | M113: 3513627.4 | N113: RCO30 P.B.2.0030 Viešojo vandens tiekimo paskirstymo sistemų naujų arba atnaujintų vamzdynų ilgis | kilometrai | O113: 4.772 | P113: 2025 m. I ketv. | Q113: 2029 m. III ketv.
O114: (2029)
N115: RCR41 R.B.2.2041 Gyventojai, prisijungę prie patobulintų viešojo vandens tiekimo sistemų | asmenys | O115: 93
O116: (2029)
N117: RCO31 P.B.2.0031 Viešojo nuotekų surinkimo tinklo naujų arba atnaujintų vamzdynų ilgis | kilometrai | O117: 10.97
O118: (2029)
N119: RCR42 R.B.2.2042 Gyventojai, prisijungę bent prie antrinio viešojo nuotekų valymo įrenginių | asmenys | O119: 311
O120: (2029)
...

Sheet IV skyrius V skirsnis
B2: PENKTAS SKIRSNIS
F4: ='III skyrius'!D16 -> LT026-03-01-05 | I4: ='III skyrius'!C16 -> Socialinių paslaugų ir jų infrastruktūros plėtra
B6: 4 lentelė. Pažangos priemonės įgyvendinimo rezultato rodikliai
B7: Eil. Nr. | C7: Rodiklio kodas | E7: Rodiklio pavadinimas (matavimo vienetas) | H7: Pradinė rodiklio reikšmė (metai) | K7: Siektinos rodiklio reikšmės
K8: Siektina tarpinė rodiklio reikšmė (metai) | N8: Siektina galutinė rodiklio reikšmė (metai)
B9: 1 | C9: 2 | E9: 3 | H9: 4 | K9: 5 | N9: 6
B10: 1. | C10: R.B.2.2067 | E10: Naujų arba modernizuotų socialinių būstų naudotojų skaičius per metus | naudotojai per metus | H10: 0 | K10: 0 | N10: =O48 -> 339
H11: (2021) | K11: (2025) | N11: (2029)
B12: 2. | C12: R.S.2.3031 | E12: Asmenų, turinčių intelekto ir (ar) psichikos negalią, gavusių paslaugas naujoje ar modernizuotoje infrastruktūroje skaičius per metus | asmenys per metus | H12: 0 | K12: 0 | N12: =O90 -> 309
H13: (2021) | K13: (2025) | N13: (2029)
B14: 3. | C14: R.B.2.2074 | E14: Naujos arba modernizuotos socialinės rūpybos infrastruktūros naudotojų skaičius per metus | naudotojai per metus | H14: 0 | K14: 0 | N14: =O170 -> 100
H15: (2021) | K15: (2025) | N15: =O49 -> (2029)
B16: 4. | C16: R.S.2.3033 | E16: Socialiai pažeidžiamų, socialinę riziką (atskirtį) patiriančių asmenų, gavusių paslaugas naujoje ar modernizuotoje infrastruktūroje skaičius per metus | asmenys per metus | H16: 0 | K16: 0 | N16: =O94+O150 -> 570
H17: (2021) | K17: (2025) | N17: =O51 -> (2029)
B18: 5. | C18: R.B.2.2967 | E18: Naujų arba modernizuotų įperkamų, tvarių socialinių būstų naudotojų skaičius per metus | naudotojai per metus | H18: 0 | K18: 0 | N18: =O182 -> 30
H19: (2025) | K19: (2025) | N19: =O183 -> (2030)
B22: 5 lentelė. Pažangos priemonės finansavimo šaltiniai ir preliminarus pažangos lėšų poreikis
B23: Finansavimo šaltiniai | F23: Lėšų poreikis, eurais
B24: 1 | F24: 2
B25: 1. Lietuvos Respublikos valstybės biudžeto asignavimų lėšos: | F25: =SUM(F26,F29,F32,F34) -> 38286576
B26: 1.1. Valstybės biudžeto lėšos | F26: =F27 -> 0
B27: 1.1.1. lėšų pavadinimas ir finansavimo šaltinio kodas | F27: =J84 -> 0
B28: ...
B29: 1.2. Europos Sąjungos (toliau – ES) ir kitos tarptautinės finansinės paramos bendrojo finansavimo lėšos | F29: =F30 -> 0
B30: 1.2.1. 2021–2027 m. ES struktūrinių fondų bendrojo finansavimo lėšos (1.2.2.8.1) | F30: =K84 -> 0
B31: ...
B32: 1.3. ES ir kitos tarptautinės finansinės paramos lėšos | F32: =F33 -> 38286576
B33: 1.3.1. 2021–2027 m. ES struktūrinių fondų lėšos (1.3.2.8.1) | F33: =L203 -> 38286576
B34: 1.4. Tikslinės paskirties valstybės biudžeto lėšos | F34: =F35 -> 0
B35: 1.4.1. lėšų pavadinimas ir finansavimo šaltinio kodas | F35: 0
B36: ... | F36: =K209 -> 0
B37: 2. Kitos lėšos: | F37: =SUM(F38:H40) -> 6881317.3
B38: 2.1. Savivaldybių biudžetų lėšos | F38: =M203 -> 6881317.3
B39: 2.2. Privačios lėšos | F39: 0
B40: 2.3. Kitos viešosios lėšos | F40: 0
B41: IŠ VISO | F41: =SUM(F25,F37) -> 45167893
B43: 6 lentelė. Pažangos priemonės veiklos, poveiklės ir (arba) projektai
B44: Veiklos, poveiklės, projektai | C44: Veiklos, poveiklės, projekto tipas | D44: Galimi pareiškėjai arba projektų vykdytojai, kai projektai atrenkami planavimo būdu | E44: Galimi partneriai | F44: Projektų atrankos būdas | G44: Tiesiogiai prisidedama prie HP | H44: Projektų finansavimo forma | I44: Pažangos lėšos (eurais) ir jų finansavimo šaltiniai | N44: Stebėsenos rodikliai | P44: Įgyvendinimo pradžia (metai, ketv.) | Q44: Įgyvendinimo pabaiga (metai, ketv.)
I45: Iš viso | J45: Iš jų Lietuvos Respublikos valstybės biudžeto asignavimų lėšos, ne daugiau kaip | M45: Iš jų kitos lėšos, ne mažiau kaip | N45: Rodiklio kodas, pavadinimas ir matavimo vienetai | O45: Siektina rodiklio reikšmė (metai)
J46: Valstybės biudžeto lėšos | K46: ES ir kitos tarptautinės paramos bendrojo finansavimo lėšos | L46: ES ir kitos tarptautinės paramos lėšos
B47: 1 | C47: 2 | D47: 3 | E47: 4 | F47: 5 | G47: 6 | H47: 7 | I47: 8 | J47: 9 | K47: 10 | L47: 11 | M47: 12 | N47: 13 | O47: 14 | P47: 15 | Q47: 16
B48: 1. Socialinio būsto fondo plėtra Šiaulių regiono savivaldybėse | C48: I | D48: Šiaulių regiono savivaldybių administracijos | F48: Projektų planavimo | G48: Darnaus vystymosi, Lygių galimybių HP | H48: Dotacija | I48: =SUM(I52:I83) -> 11742347 | J48: =SUM(J52:J83) -> 0 | K48: =SUM(K52:K83) -> 0 | L48: =SUM(L52:L83) -> 9980994.7 | M48: =SUM(M52:M83) -> 1761352 | N48: R.B.2.2067 Naujų arba modernizuotų socialinių būstų naudotojų skaičius per metus | naudotojai per metus | O48: =O52+O56+O60+O64+O68+O72+O76+O80 -> 339 | P48: 2024 m. III ketv. | Q48: 2029 m. I ketv.
O49: (2029)
N50: P.B.2.0065 Naujų arba modernizuotų socialinių būstų talpumas | asmenys | O50: =O54+O58+O62+O66+O70+O74+O78+O82 -> 349
O51: (2029)
B52: 1.1. Socialinio būsto fondo plėtra Akmenės rajono savivaldybėje | D52: Akmenės rajono savivaldybės administracija | E52: - | I52: =L52+M52 -> 354000 | J52: 0 | K52: 0 | L52: 300900 | M52: 53100 | N52: R.B.2.2067 Naujų arba modernizuotų socialinių būstų naudotojų skaičius per metus | naudotojai per metus | O52: 25 | P52: 2025 m. I ketv. | Q52: 2027 m. IV ketv.
O53: (2029)
N54: P.B.2.0065 Naujų arba modernizuotų socialinių būstų talpumas | asmenys | O54: 25
O55: (2029)
B56: 1.2. Socialinio būsto fondo plėtra Joniškio rajono savivaldybėje | D56: Joniškio rajono savivaldybės administracija | E56: - | I56: =L56+M56 -> 1481875.9 | J56: 0 | K56: 0 | L56: 1259594.5 | M56: 222281.39 | N56: R.B.2.2067 Naujų arba modernizuotų socialinių būstų naudotojų skaičius per metus | naudotojai per metus | O56: 23 | P56: 2025 m. II ketv. | Q56: 2028 m. IV ketv.
O57: (2029)
N58: P.B.2.0065 Naujų arba modernizuotų socialinių būstų talpumas | asmenys | O58: 23
O59: (2029)
B60: 1.3. Socialinio būsto poreikio tenkinimas Kelmės rajone | D60: Kelmės rajono savivaldybės administracija | E60: - | I60: =L60+M60 -> 833346.74 | J60: 0 | K60: 0 | L60: 708344.72 | M60: 125002.02 | N60: R.B.2.2067 Naujų arba modernizuotų socialinių būstų naudotojų skaičius per metus | naudotojai per metus | O60: 30 | P60: 2024 m. IV ketv. | Q60: 2027 m. IV ketv.
O61: (2029)
N62: P.B.2.0065 Naujų arba modernizuotų socialinių būstų talpumas | asmenys | O62: 34
O63: (2029)
B64: 1.4. Socialinio būsto prieinamumo didinimas Pakruojo rajono savivaldybėje | D64: Pakruojo rajono savivaldybės administracija | E64: - | I64: =L64+M64 -> 960000 | J64: 0 | K64: 0 | L64: 816000 | M64: 144000 | N64: R.B.2.2067 Naujų arba modernizuotų socialinių būstų naudotojų skaičius per metus | naudotojai per metus | O64: 50 | P64: 2024 m. III ketv. | Q64: 2028 m. III ketv.
O65: (2029)
N66: P.B.2.0065 Naujų arba modernizuotų socialinių būstų talpumas | asmenys | O66: 50
O67: (2029)
B68: 1.5. Socialinio būsto fondo plėtra Radviliškio rajono savivaldybėje | D68: Radviliškio rajono savivaldybės administracija | E68: - | I68: =L68+M68 -> 1800000 | J68: 0 | K68: 0 | L68: 1530000 | M68: 270000 | N68: R.B.2.2067 Naujų arba modernizuotų socialinių būstų naudotojų skaičius per metus | naudotojai per metus | O68: 86 | P68: 2024 m. IV ketv. | Q68: 2028 m. IV ketv.
O69: (2029)
N70: P.B.2.0065 Naujų arba modernizuotų socialinių būstų talpumas | asmenys | O70: 86
O71: (2029)
B72: 1.6. Socialinio būsto fondo plėtra Šiaulių miesto savivaldybėje | D72: Šiaulių miesto savivaldybės administracija | E72: - | I72: =L72+M72 -> 3300000 | J72: 0 | K72: 0 | L72: 2805000 | M72: 495000 | N72: R.B.2.2067 Naujų arba modernizuotų socialinių būstų naudotojų skaičius per metus | naudotojai per metus | O72: 33 | P72: 2024 m. IV ketv. | Q72: 2029 m. III ketv.
O73: (2029)
N74: P.B.2.0065 Naujų arba modernizuotų socialinių būstų talpumas | asmenys | O74: 33
O75: (2029)
B76: 1.7. Socialinio būsto fondo plėtra Šiaulių rajono savivaldybėje | D76: Šiaulių rajono savivaldybės administracija | E76: - | I76: =L76+M76 -> 495000 | J76: 0 | K76: 0 | L76: 420750 | M76: 74250 | N76: R.B.2.2067 Naujų arba modernizuotų socialinių būstų naudotojų skaičius per metus | naudotojai per metus | O76: 19 | P76: 2024 m. III ketv. | Q76: 2029 m. I ketv.
O77: (2029)
N78: P.B.2.0065 Naujų arba modernizuotų socialinių būstų talpumas | asmenys | O78: 25
O79: (2029)
B80: 1.8. Socialinio būsto fondo plėtra Joniškio mieste | D80: Joniškio rajono savivaldybės administracija | E80: - | I80: =L80+M80 -> 2518124.1 | J80: 0 | K80: 0 | L80: 2140405.5 | M80: 377718.62 | N80: R.B.2.2067 Naujų arba modernizuotų socialinių būstų naudotojų skaičius per metus | naudotojai per metus | O80: 73 | P80: 2025 m. IV ketv. | Q80: 2028 m. IV ketv.
O81: (2029)
N82: P.B.2.0065 Naujų arba modernizuotų socialinių būstų talpumas | asmenys | O82: 73
O83: (2029)
B84: Iš viso pažangos priemonės 1 veiklai: | I84: =SUM(I52:I83) -> 11742347 | J84: =SUM(J52:J83) -> 0 | K84: =SUM(K52:K83) -> 0 | L84: =SUM(L52:L83) -> 9980994.7 | M84: =SUM(M52:M83) -> 1761352
B86: Veiklos, poveiklės, projektai | C86: Veiklos, poveiklės, projekto tipas | D86: Galimi pareiškėjai arba projektų vykdytojai, kai projektai atrenkami planavimo būdu | E86: Galimi partneriai | F86: Projektų atrankos būdas | G86: Tiesiogiai prisidedama prie HP | H86: Projektų finansavimo forma | I86: Pažangos lėšos (eurais) ir jų finansavimo šaltiniai | N86: Stebėsenos rodikliai | P86: Įgyvendinimo pradžia (metai, ketv.) | Q86: Įgyvendinimo pabaiga (metai, ketv.)
I87: Iš viso | J87: Iš jų Lietuvos Respublikos valstybės biudžeto asignavimų lėšos, ne daugiau kaip | M87: Iš jų kitos lėšos, ne mažiau kaip | N87: Rodiklio kodas, pavadinimas ir matavimo vienetai | O87: Siektina rodiklio reikšmė (metai)
J88: Valstybės biudžeto lėšos | K88: ES ir kitos tarptautinės paramos bendrojo finansavimo lėšos | L88: ES ir kitos tarptautinės paramos lėšos
B89: 1 | C89: 2 | D89: 3 | E89: 4 | F89: 5 | G89: 6 | H89: 7 | I89: 8 | J89: 9 | K89: 10 | L89: 11 | M89: 12 | N89: 13 | O89: 14 | P89: 15 | Q89: 16
B90: 2. Paslaugų, reikalingų institucinės globos pertvarkai įgyvendinti, infrastruktūros modernizavimas ir plėtra Šiaulių regione | C90: I | D90: Šiaulių regiono savivaldybių administracijos | F90: Projektų planavimo | G90: Darnaus vystymosi, Lygių galimybių HP | H90: Dotacija | I90: =SUM(I98:I149) -> 21033491 | J90: =SUM(J98:J149) -> 0 | K90: =SUM(K98:K149) -> 0 | L90: =SUM(L98:L149) -> 17808466 | M90: =SUM(M98:M149) -> 3225025 | N90: R.S.2.3031 Asmenų, turinčių intelekto ir (ar) psichikos negalią, gavusių paslaugas naujoje ar modernizuotoje infrastruktūroje skaičius per metus | asmenys per metus | O90: =O98+O102+O106+O114+O118+O122+O126+O130+O134+O138+O142+O146 -> 309 | P90: 2024 m. III ketv. | Q90: 2029 m. III ketv.
O91: (2029)
N92: P.S.2.1030 Paslaugų intelekto ir (ar) psichikos negalią turintiems asmenims vietų skaičius naujoje ar modernizuotoje infrastruktūroje | skaičius | O92: =O100+O104+O108+O116+O120+O128+O132+O136+O140+O144+O148+O124 -> 334
O93: (2029)
N94: R.S.2.3033 Socialiai pažeidžiamų, socialinę riziką (atskirtį) patiriančių asmenų, gavusių paslaugas naujoje ar modernizuotoje infrastruktūroje skaičius per metus | asmenys per metus | O94: =O110 -> 20
O95: (2029)
N96: P.S.2.1031 Paslaugų socialiai pažeidžiamiems, socialinę riziką (atskirtį) patiriantiems asmenims vietų skaičius naujoje ar modernizuotoje infrastruktūroje | skaičius | O96: =O112 -> 20
O97: (2029)
B98: 2.1. Grupinio gyvenimo namų plėtra Akmenės rajone | D98: Akmenės rajono savivaldybės administracija | I98: =L98+M98 -> 1000000 | J98: 0 | K98: 0 | L98: 850000 | M98: 150000 | N98: R.S.2.3031 Asmenų, turinčių intelekto ir (ar) psichikos negalią, gavusių paslaugas naujoje ar modernizuotoje infrastruktūroje skaičius per metus | asmenys per metus | O98: 10 | P98: 2026 m. IV ketv. | Q98: 2029 m. II ketv.
O99: (2029)
N100: P.S.2.1030 Paslaugų intelekto ir (ar) psichikos negalią turintiems asmenims vietų skaičius naujoje ar modernizuotoje infrastruktūroje | skaičius | O100: 10
O101: (2029)
B102: 2.2. Apsaugoto būsto plėtra Akmenės rajone | D102: Akmenės rajono savivaldybės administracija | E102: - | I102: =L102+M102 -> 125559.85 | J102: 0 | K102: 0 | L102: 106725.87 | M102: 18833.98 | N102: R.S.2.3031 Asmenų, turinčių intelekto ir (ar) psichikos negalią, gavusių paslaugas naujoje ar modernizuotoje infrastruktūroje skaičius per metus | asmenys per metus | O102: 4 | P102: 2025 m. I ketv. | Q102: 2028 m. II ketv.
O103: (2029)
N104: P.S.2.1030 Paslaugų intelekto ir (ar) psichikos negalią turintiems asmenims vietų skaičius naujoje ar modernizuotoje infrastruktūroje | skaičius | O104: 4
O105: (2029)
B106: 2.3. Bendruomeninių socialinių paslaugų plėtra Akmenės rajone | D106: Akmenės rajono savivaldybės administracija | E106: - | I106: =L106+M106 -> 2500000 | J106: 0 | K106: 0 | L106: 2125000 | M106: 375000 | N106: R.S.2.3031 Asmenų, turinčių intelekto ir (ar) psichikos negalią, gavusių paslaugas naujoje ar modernizuotoje infrastruktūroje skaičius per metus | asmenys per metus | O106: 20 | P106: 2026 m. IV ketv. | Q106: 2029 m. I ketv.
O107: (2029)
...

Sheet IV skyrius VI skirsnis
B2: ŠEŠTAS SKIRSNIS
G4: ='III skyrius'!D15 -> LT026-03-01-06 | I4: ='III skyrius'!C15 -> Šiaulių miesto integruota plėtra
B6: 4 lentelė. Pažangos priemonės įgyvendinimo rezultato rodikliai
B7: Eil. Nr. | C7: Rodiklio kodas | E7: Rodiklio pavadinimas (matavimo vienetas) | H7: Pradinė rodiklio reikšmė (metai) | K7: Siektinos rodiklio reikšmės
K8: Siektina tarpinė rodiklio reikšmė (metai) | N8: Siektina galutinė rodiklio reikšmė (metai)
B9: 1 | C9: 2 | E9: 3 | H9: 4 | K9: 5 | N9: 6
B10: 1. | C10: R.S.2.3039 | E10: Metinis konsoliduotų viešųjų paslaugų vartotojų skaičius | vartotojai per metus | H10: 0 | K10: 0 | N10: =O45 -> 852512
H11: (2021) | K11: (2025) | N11: (2029)
B12: 2. | C12: R.N.2.5720 | E12: Sukurtos arba atkurtos teritorijos, naudojamos ekonominei, rekreacinei ar turizmo paskirčiai | hektarai | H12: 0 | K12: 0 | N12: =O47 -> 12
H13: (2021) | K13: (2025) | N13: =O46 -> (2029)
B14: 3. | C14: R.B.2.2052 | E14: Rekultivuota žemė, naudojama žaliesiems plotams, socialiniams būstams, ekonominei arba kitai paskirčiai | hektarai | H14: 0 | K14: 0 | N14: =O49 -> 6.64
H15: (2021) | K15: (2025) | N15: =O48 -> (2029)
B18: 5 lentelė. Pažangos priemonės finansavimo šaltiniai ir preliminarus pažangos lėšų poreikis
B19: Finansavimo šaltiniai | F19: Lėšų poreikis, eurais
B20: 1 | F20: 2
B21: 1. Lietuvos Respublikos valstybės biudžeto asignavimų lėšos: | F21: =F22+F25+F28+F31 -> 39959033
B22: 1.1. Valstybės biudžeto lėšos | F22: =F23 -> 4021127.5
B23: 1.1.1. Valstybės biudžeto lėšos, skirtos apmokėti bendrai finansuojamų iš ES fondų lėšų projektų netinkamam finansuoti iš ES fondų lėšų pirkimo ir (arba) importo PVM (1.1.1.1.2) | F23: =J101 -> 4021127.5
B24: …
B25: 1.2. Europos Sąjungos (toliau – ES) ir kitos tarptautinės finansinės paramos bendrojo finansavimo lėšos | F25: =F26 -> 0
B26: 1.2.1. 2021–2027 m. ES struktūrinių fondų bendrojo finansavimo lėšos (1.2.2.8.1) | F26: =K101 -> 0
B27: …
B28: 1.3. ES ir kitos tarptautinės finansinės paramos lėšos | F28: =F29 -> 35937905
B29: 1.3.1. 2021–2027 m. ES struktūrinių fondų lėšos (1.3.2.8.1) | F29: =L101 -> 35937905
B30: …
B31: 1.4. Tikslinės paskirties valstybės biudžeto lėšos | F31: =F32 -> 0
B32: 1.4.1. lėšų pavadinimas ir finansavimo šaltinio kodas | F32: 0
B33: …
B34: 2. Kitos lėšos: | F34: =SUM(F35:H36) -> 14395560
B35: 2.1. Savivaldybių biudžetų lėšos | F35: =M101 -> 14395560
B36: 2.2. Privačios lėšos
B37: 2.3. Kitos viešosios lėšos | F37: 0
B38: IŠ VISO | F38: =F21+F34 -> 54354593
B40: 6 lentelė. Pažangos priemonės veiklos, poveiklės ir (arba) projektai
B41: Veiklos, poveiklės, projektai | C41: Veiklos, poveiklės, projekto tipas | D41: Galimi pareiškėjai arba projektų vykdytojai, kai projektai atrenkami planavimo būdu | E41: Galimi partneriai | F41: Projektų atrankos būdas | G41: Tiesiogiai prisidedama prie HP | H41: Projektų finansavimo forma | I41: Pažangos lėšos (eurais) ir jų finansavimo šaltiniai | N41: Stebėsenos rodikliai | P41: Įgyvendinimo pradžia (metai, ketv.) | Q41: Įgyvendinimo pabaiga (metai, ketv.)
I42: Iš viso | J42: Iš jų Lietuvos Respublikos valstybės biudžeto asignavimų lėšos, ne daugiau kaip | M42: Iš jų kitos lėšos, ne mažiau kaip | N42: Rodiklio kodas, pavadinimas ir matavimo vienetai | O42: Siektina rodiklio reikšmė (metai)
J43: Valstybės biudžeto lėšos | K43: ES ir kitos tarptautinės paramos bendrojo finansavimo lėšos | L43: ES ir kitos tarptautinės paramos lėšos
B44: 1 | C44: 2 | D44: 3 | E44: 4 | F44: 5 | G44: 6 | H44: 7 | I44: 8 | J44: 9 | K44: 10 | L44: 11 | M44: 12 | N44: 13 | O44: 14 | P44: 15 | Q44: 16
B45: 1. Šiaulių miesto integruota plėtra (1 pastaba) | C45: I | D45: Šiaulių miesto savivaldybės administracija | E45: - | F45: Projektų planavimo | G45: Darnaus vystymosi, Lygių galimybių HP | H45: Dotacija | I45: =SUM(I57:I100) -> 54354593 | J45: =SUM(J57:J100) -> 4021127.5 | K45: =SUM(K57:K100) -> 0 | L45: =SUM(L57:L100) -> 35937905 | M45: =SUM(M57:M100) -> 14395560 | N45: R.S.2.3039 Metinis konsoliduotų viešųjų paslaugų vartotojų skaičius | vartotojai per metus | O45: =O57+O63+O71+O75+O81+O67+O97 -> 852512 | P45: 2024 m. III ketv. | Q45: 2028 m. IV ketv.
O46: (2029)
N47: R.N.2.5720 Sukurtos arba atkurtos teritorijos, naudojamos ekonominei, rekreacinei ar turizmo paskirčiai | hektarai | O47: =O85 -> 12
O48: (2029)
N49: R.B.2.2052 Rekultivuota žemė, naudojama žaliesiems plotams, socialiniams būstams, ekonominei arba kitai paskirčiai | hektarai | O49: =O91 -> 6.64
O50: (2029)
N51: P.S.2.1034 Naujų ar rekonstruotų pastatų, kurių pirminės energijos paklausa yra bent 20 % mažesnė, nei reikalauja energijos beveik nevartojantis pastatas, plotas | kvadratiniai metrai | O51: =O59+O77 -> 14517
O52: (2029)
N53: P.B.2.0076 Integruoti teritorinio vystymo projektai | projektai | O53: =O65+O61+O69+O73+O79+O83+O87+O93+O99 -> 9
O54: (2029)
N55: P.B.2.0114 Atviros erdvės, sukurtos arba atkurtos miestų teritorijose | kvadratiniai metrai | O55: =O89+O95 -> 147884
O56: (2029)
B57: 1.1. Bendrojo ugdymo, neformaliojo ugdymo ir kitų viešųjų paslaugų teikimui trūkstamos infrastruktūros sukūrimas, adresu J. Jablonskio g. 14, Šiauliai | D57: Šiaulių miesto savivaldybės administracija | E57: - | I57: =SUM(J57:M57) -> 18079545 | J57: 2136618.9 | K57: 0 | L57: 9989385 | M57: 5953540.9 | N57: R.S.2.3039 Metinis konsoliduotų viešųjų paslaugų vartotojų skaičius | vartotojai per metus | O57: 220000 | P57: 2024 m. III ketv. | Q57: 2028 m. IV ketv.
O58: (2029)
N59: P.S.2.1034 Naujų ar rekonstruotų pastatų, kurių pirminės energijos paklausa yra bent 20 % mažesnė, nei reikalauja energijos beveik nevartojantis pastatas, plotas | kvadratiniai metrai | O59: 11745
O60: (2029)
N61: P.B.2.0076 Integruoti teritorinio vystymo projektai | projektai | O61: 1
O62: (2029)
B63: 1.2. S. Daukanto inžinerijos gimnazijos infrastruktūros modernizavimas, pritaikant specializuotų inžinerinio ugdymo programų vykdymui | D63: Šiaulių miesto savivaldybės administracija | E63: Šiaulių S. Daukanto inžinerijos gimnazija | I63: =SUM(J63:M66) -> 3438171.4 | J63: 0 | K63: 0 | L63: 2922445.7 | M63: 515725.72 | N63: R.S.2.3039 Metinis konsoliduotų viešųjų paslaugų vartotojų skaičius | vartotojai per metus | O63: 107300 | P63: 2025 m. I ketv. | Q63: 2028 m. IV ketv.
O64: (2029)
N65: P.B.2.0076 Integruoti teritorinio vystymo projektai | projektai | O65: 1
O66: (2029)
B67: 1.3. Bendrojo ugdymo paslaugų kokybės gerinimas ir prieinamumo didinimas Šiaulių mieste, modernizuojant Šiaulių Ragainės progimnaziją | D67: Šiaulių miesto savivaldybės administracija | E67: Šiaulių Ragainės progimnazija | I67: =SUM(J67:M70) -> 4767157.9 | J67: 0 | K67: 0 | L67: 4290442.1 | M67: 476715.78 | N67: R.S.2.3039 Metinis konsoliduotų viešųjų paslaugų vartotojų skaičius | vartotojai per metus | O67: 77700 | P67: 2024 m. IV ketv. | Q67: 2028 m. IV ketv.
O68: (2029)
N69: P.B.2.0076 Integruoti teritorinio vystymo projektai | projektai | O69: 1
O70: (2029)
B71: 1.4. Bendrojo ugdymo paslaugų kokybės gerinimas ir prieinamumo didinimas Šiaulių mieste, modernizuojant Vinco Kudirkos progimnaziją | D71: Šiaulių miesto savivaldybės administracija | E71: Šiaulių Vinco Kudirkos progimnazija | I71: =SUM(J71:M74) -> 5500000 | J71: 811363.64 | K71: 0 | L71: 3863636.4 | M71: 825000.01 | N71: R.S.2.3039 Metinis konsoliduotų viešųjų paslaugų vartotojų skaičius | vartotojai per metus | O71: 86400 | P71: 2025 m. I ketv. | Q71: 2028 m. IV ketv.
O72: (2029)
N73: P.B.2.0076 Integruoti teritorinio vystymo projektai | projektai | O73: 1
O74: (2029)
B75: 1.5. Šiaulių jaunųjų gamtininkų centro jojimo skyriaus modernizavimas, sukuriant tinkamas sąlygas visuomenės sveikatos stiprinimo, neformaliojo švietimo viešųjų paslaugų teikimui, gyventojų poilsio organizavimui | D75: Šiaulių miesto savivaldybės administracija | E75: Šiaulių Vinco Kudirkos progimnazija | I75: =SUM(J75:M80) -> 6508804.8 | J75: 1073144.9 | K75: 0 | L75: 5110219.9 | M75: 325439.94 | N75: R.S.2.3039 Metinis konsoliduotų viešųjų paslaugų vartotojų skaičius | vartotojai per metus | O75: 98000 | P75: 2024 m. IV ketv. | Q75: 2028 m. II ketv.
O76: (2029)
N77: P.S.2.1034 Naujų ar rekonstruotų pastatų, kurių pirminės energijos paklausa yra bent 20 % mažesnė, nei reikalauja energijos beveik nevartojantis pastatas, plotas | kvadratiniai metrai | O77: 2772
O78: (2029)
N79: P.B.2.0076 Integruoti teritorinio vystymo projektai | projektai | O79: 1
O80: (2029)
B81: 1.6. Šiaulių miesto „Romuvos", „Dainų" ir Salduvės progimnazijų bei Didždvario ir Lieporių gimnazijų lauko infrastruktūros atnaujinimas, pritaikymas ugdymo poreikiams ir funkcionalumo didinimas | D81: Šiaulių miesto savivaldybės administracija | E81: „Romuvos“ progimnazija, Šiaulių Dainų progimnazija, Salduvės progimnazija, Didždvario gimnazija, Šiaulių Lieporių gimnazija | I81: =SUM(J81:M84) -> 4676471 | J81: 0 | K81: 0 | L81: 3975000 | M81: 701471 | N81: R.S.2.3039 Metinis konsoliduotų viešųjų paslaugų vartotojų skaičius | vartotojai per metus | O81: 180700 | P81: 2024 m. IV ketv. | Q81: 2028 m. IV ketv.
O82: (2029)
N83: P.B.2.0076 Integruoti teritorinio vystymo projektai | projektai | O83: 1
O84: (2029)
B85: 1.7. Lieporių parko atgaivinimas ir pritaikymas bendruomenės veiklai | D85: Šiaulių miesto savivaldybės administracija | E85: - | I85: =SUM(J85:M90) -> 3000000 | J85: 0 | K85: 0 | L85: 2550000 | M85: 450000 | N85: R.N.2. 5720 Sukurtos arba atkurtos teritorijos, naudojamos ekonominei, rekreacinei ar turizmo paskirčiai | hektarai | O85: 12 | P85: 2024 m. IV ketv. | Q85: 2028 m. IV ketv.
O86: (2029)
N87: P.B.2.0076 Integruoti teritorinio vystymo projektai | projektai | O87: 1
O88: (2029)
N89: P.B.2.0114 Atviros erdvės, sukurtos arba atkurtos miestų teritorijose | kvadratiniai metrai | O89: 126884
O90: (2029)
B91: 1.8. Tankiai apgyvendintos Šiaulių miesto urbanizuotos teritorijos atgaivinimas, žalinimas ir funkcionalumo didinimas | D91: Šiaulių miesto savivaldybės administracija | E91: - | I91: =SUM(J91:M95) -> 3784442.7 | J91: 0 | K91: 0 | L91: 3216776.3 | M91: 567666.41 | N91: R.B.2.2052 Rekultivuota žemė, naudojama žaliesiems plotams, socialiniams būstams, ekonominei arba kitai paskirčiai | hektarai | O91: 6.64 | P91: 2024 m. III ketv. | Q91: 2027 m. IV ketv.
O92: (2029)
N93: P.B.2.0076 Integruoti teritorinio vystymo projektai | projektai | O93: 1
O94: (2029)
N95: P.B.2.0114 Atviros erdvės, sukurtos arba atkurtos miestų teritorijose | kvadratiniai metrai | O95: 21000
O96: (2029)
B97: 1.9. Šiaulių miesto Ragainės ir Vinco Kudirkos progimnazijų bei Stasio Šalkauskio gimnazijos lauko infrastruktūros atnaujinimas, pritaikymas ugdymo poreikiams ir funkcionalumo didinimas (II etapas) | D97: Šiaulių miesto savivaldybės administracija | E97: Šiaulių Ragainės progimnazija, Šiaulių Vinco Kudirkos progimnazija, Šiaulių Stasio Šalkauskio gimnazija | I97: =SUM(J97:M100) -> 4600000 | J97: 0 | K97: 0 | L97: 20000 | M97: 4580000 | N97: R.S.2.3039 Metinis konsoliduotų viešųjų paslaugų vartotojų skaičius | vartotojai per metus | O97: 82412 | P97: 2026 m. IV ketv. | Q97: 2029 m. III ketv.
N98: - | O98: (2029)
N99: P.B.2.0076 Integruoti teritorinio vystymo projektai | projektai | O99: 1
O100: (2029)
B101: Iš viso pažangos priemonės veikloms: | I101: =SUM(I57:I100) -> 54354593 | J101: =SUM(J57:J100) -> 4021127.5 | K101: =SUM(K57:K100) -> 0 | L101: =SUM(L57:L100) -> 35937905 | M101: =SUM(M57:M100) -> 14395560
B103: 7 lentelė. LT026-03-01-06 pažangos priemonės „Šiaulių miesto integruota plėtra“ specialieji projektų atrankos kriterijai
B104: Eil. Nr. | C104: Specialieji projektų atrankos kriterijai | F104: Pažangos priemonės veikla (-os) | J104: Atitikties specialiajam projektų atrankos kriterijui vertinimo aspektai
B105: 1 | C105: 2 | F105: 3 | J105: 4
C106: Specialieji projektų atrankos kriterijai nebus taikomi.
B108: 8 lentelė. LT026-03-01-06 pažangos priemonės „Šiaulių miesto integruota plėtra“ prioritetiniai projektų atrankos kriterijai
...

Sheet IV skyrius VII skirsnis
B2: SEPTINTAS SKIRSNIS
G4: ='III skyrius'!D13 -> LT026-02-02-07 | I4: ='III skyrius'!C13 -> Atliekų tvarkymo paslaugų gerinimas
B6: 4 lentelė. Pažangos priemonės įgyvendinimo rezultato rodikliai
B7: Eil. Nr. | C7: Rodiklio kodas | E7: Rodiklio pavadinimas (matavimo vienetas) | H7: Pradinė rodiklio reikšmė (metai) | K7: Siektinos rodiklio reikšmės
K8: Siektina tarpinė rodiklio reikšmė (metai) | N8: Siektina galutinė rodiklio reikšmė (metai)
B9: 1 | C9: 2 | E9: 3 | H9: 4 | K9: 5 | N9: 6
B10: 1. | C10: RCR103 R.B.2.2103 | E10: Surinktos atskirai išrūšiuotos atliekos | tonos per metus | H10: 0 | K10: 0 | N10: =O41 -> 2292.19
H11: (2021) | K11: (2025) | N11: =O44 -> (2029)
B14: 5 lentelė. Pažangos priemonės finansavimo šaltiniai ir preliminarus pažangos lėšų poreikis
B15: Finansavimo šaltiniai | F15: Lėšų poreikis, eurais
B16: 1 | F16: 2
B17: 1. Lietuvos Respublikos valstybės biudžeto asignavimų lėšos: | F17: =F18+F21+F24+F27 -> 2608895
B18: 1.1. Valstybės biudžeto lėšos | F18: =F19 -> 0
B19: 1.1.1. lėšų pavadinimas ir finansavimo šaltinio kodas | F19: =J77 -> 0
B20: …
B21: 1.2. Europos Sąjungos (toliau – ES) ir kitos tarptautinės finansinės paramos bendrojo finansavimo lėšos | F21: =F22 -> 0
B22: 1.2.1. 2021–2027 m. ES struktūrinių fondų bendrojo finansavimo lėšos (1.2.2.8.1) | F22: =K77 -> 0
B23: …
B24: 1.3. ES ir kitos tarptautinės finansinės paramos lėšos | F24: =F25 -> 2608895
B25: 1.3.2.8.1 2021–2027 m. ES struktūrinių fondų lėšos | F25: =L77 -> 2608895
B26: …
B27: 1.4. Tikslinės paskirties valstybės biudžeto lėšos | F27: =F28 -> 0
B28: 1.4.1. lėšų pavadinimas ir finansavimo šaltinio kodas | F28: 0
B29: …
B30: 2. Kitos lėšos: | F30: =SUM(F31:H33) -> 460393.24
B31: 2.1. Savivaldybių biudžetų lėšos | F31: =M77 -> 460393.24
B32: 2.2. Privačios lėšos | F32: 0
B33: 2.3. Kitos viešosios lėšos | F33: 0
B34: IŠ VISO | F34: =F17+F30 -> 3069288.2
B36: 6 lentelė. Pažangos priemonės veiklos, poveiklės ir (arba) projektai
B37: Veiklos, poveiklės, projektai | C37: Veiklos, poveiklės, projekto tipas | D37: Galimi pareiškėjai arba projektų vykdytojai, kai projektai atrenkami planavimo būdu | E37: Galimi partneriai | F37: Projektų atrankos būdas | G37: Tiesiogiai prisidedama prie HP | H37: Projektų finansavimo forma | I37: Pažangos lėšos (eurais) ir jų finansavimo šaltiniai | N37: Stebėsenos rodikliai | P37: Įgyvendinimo pradžia (metai, ketv.) | Q37: Įgyvendinimo pabaiga (metai, ketv.)
I38: Iš viso | J38: Iš jų Lietuvos Respublikos valstybės biudžeto asignavimų lėšos, ne daugiau kaip | M38: Iš jų kitos lėšos, ne mažiau kaip | N38: Rodiklio kodas, pavadinimas ir matavimo vienetai | O38: Siektina rodiklio reikšmė (metai)
J39: Valstybės biudžeto lėšos | K39: ES ir kitos tarptautinės paramos bendrojo finansavimo lėšos | L39: ES ir kitos tarptautinės paramos lėšos
B40: 1 | C40: 2 | D40: 3 | E40: 4 | F40: 5 | G40: 6 | H40: 7 | I40: 8 | J40: 9 | K40: 10 | L40: 11 | M40: 12 | N40: 13 | O40: 14 | P40: 15 | Q40: 16
B41: 1. Atliekų tvarkymo paslaugų gerinimas Šiaulių regione (1 pastaba) | C41: I | D41: VšĮ Šiaulių regiono atliekų tvarkymo centras, Akmenės rajono savivaldybės administracija | E41: Šiaulių regiono savivaldybių administracijos | F41: Projektų planavimo | G41: Darnaus vystymosi, Lygių galimybių HP | H41: Dotacija | I41: =SUM(I47:I76) -> 3069288.2 | J41: =SUM(J47:J76) -> 0 | K41: =SUM(K47:K76) -> 0 | L41: =SUM(L47:L76) -> 2608895 | M41: =SUM(M47:M76) -> 460393.24 | N41: RCR103 R.B.2.2103 Surinktos atskirai išrūšiuotos atliekos | tonos per metus | O41: =O47+O53+O59+O65+O71 -> 2292.19 | P41: 2024 m. IV ketv. | Q41: 2028 m III ketv.
O42: (2029)
N43: P.S.2.1015 Įgyvendintos viešinimo kampanijos atliekų prevencijos ir tvarkymo temomis | skaičius | O43: =O49+O55+O61+O67+O73 -> 5
O44: (2029)
N45: RCO107 P.B.2.0107 Investicijos į rūšiuojamojo atliekų surinkimo įrenginius | eurai | O45: =O51+O57+O63+O69+O75 -> 2952232.4
O46: (2029)
B47: 1.1. Atliekų tvarkymo paslaugų gerinimas Akmenės rajono savivaldybėje | D47: Akmenės rajono savivaldybės administracija | E47: - | I47: =L47+M47 -> 198016.92 | J47: 0 | K47: 0 | L47: 168314.38 | M47: 29702.54 | N47: RCR103 R.B.2.2103 Surinktos atskirai išrūšiuotos atliekos | tonos per metus | O47: 302 | P47: 2024 m. IV ketv. | Q47: 2026 m IV ketv.
O48: (2029)
N49: P.S.2.1015 Įgyvendintos viešinimo kampanijos atliekų prevencijos ir tvarkymo temomis | skaičius | O49: 1
O50: (2029)
N51: RCO107 P.B.2.0107 Investicijos į rūšiuojamojo atliekų surinkimo įrenginius | eurai | O51: 177988.12
O52: (2029)
B53: 1.2. Ventos DGAS aikštelės išplėtimas | D53: VšĮ Šiaulių regiono atliekų tvarkymo centras | E53: Akmenės rajono savivaldybės administracija | I53: =L53+M53 -> 288900 | J53: 0 | K53: 0 | L53: 245565 | M53: 43335 | N53: RCR103 R.B.2.2103 Surinktos atskirai išrūšiuotos atliekos | tonos per metus | O53: 250 | P53: 2026 m. IV ketv. | Q53: 2027 m III ketv.
O54: (2029)
N55: P.S.2.1015 Įgyvendintos viešinimo kampanijos atliekų prevencijos ir tvarkymo temomis | skaičius | O55: 1
O56: (2029)
N57: RCO107 P.B.2.0107 Investicijos į rūšiuojamojo atliekų surinkimo įrenginius | eurai | O57: 260010
O58: (2029)
B59: 1.3. Atliekų tvarkymo paslaugų gerinimas Kelmės rajone | D59: VšĮ Šiaulių regiono atliekų tvarkymo centras | E59: Kelmės rajono savivaldybės administracija | I59: =L59+M59 -> 992117.15 | J59: 0 | K59: 0 | L59: 843299.57 | M59: 148817.58 | N59: RCR103 R.B.2.2103 Surinktos atskirai išrūšiuotos atliekos | tonos per metus | O59: 808.75 | P59: 2025 m. III ketv. | Q59: 2028 m I ketv.
O60: (2029)
N61: P.S.2.1015 Įgyvendintos viešinimo kampanijos atliekų prevencijos ir tvarkymo temomis | skaičius | O61: 1
O62: (2029)
N63: RCO107 P.B.2.0107 Investicijos į rūšiuojamojo atliekų surinkimo įrenginius | eurai | O63: 982117.15
O64: (2029)
B65: 1.4. Rūšiuojamojo atliekų surinkimo skatinimas Radviliškio rajone | D65: VšĮ Šiaulių regiono atliekų tvarkymo centras | E65: Radviliškio rajono savivaldybės administracija | I65: =L65+M65 -> 990254.14 | J65: 0 | K65: 0 | L65: 841716.02 | M65: 148538.12 | N65: RCR103 R.B.2.2103 Surinktos atskirai išrūšiuotos atliekos | tonos per metus | O65: 581.44 | P65: 2025 m. III ketv. | Q65: 2028 m II ketv.
O66: (2029)
N67: P.S.2.1015 Įgyvendintos viešinimo kampanijos atliekų prevencijos ir tvarkymo temomis | skaičius | O67: 1
O68: (2029)
N69: RCO107 P.B.2.0107 Investicijos į rūšiuojamojo atliekų surinkimo įrenginius | eurai | O69: 982117.15
O70: (2029)
B71: 1.5. Atliekų tvarkymo paslaugų gerinimas Pakruojo rajone | D71: VšĮ Šiaulių regiono atliekų tvarkymo centras | E71: Pakruojo rajono savivaldybės administracija | I71: =L71+M71 -> 600000 | J71: 0 | K71: 0 | L71: 510000 | M71: 90000 | N71: RCR103 R.B.2.2103 Surinktos atskirai išrūšiuotos atliekos | tonos per metus | O71: 350 | P71: 2026 m. II ketv. | Q71: 2028 m III ketv.
O72: (2029)
N73: P.S.2.1015 Įgyvendintos viešinimo kampanijos atliekų prevencijos ir tvarkymo temomis | skaičius | O73: 1
O74: (2029)
N75: RCO107 P.B.2.0107 Investicijos į rūšiuojamojo atliekų surinkimo įrenginius | eurai | O75: 550000
O76: (2029)
B77: Iš viso pažangos priemonės veikloms: | I77: =SUM(I47:I76) -> 3069288.2 | J77: =SUM(J47:J76) -> 0 | K77: =SUM(K47:K76) -> 0 | L77: =SUM(L47:L76) -> 2608895 | M77: =SUM(M47:M76) -> 460393.24
B79: 7 lentelė. LT026-02-02-07 pažangos priemonės „Atliekų tvarkymo paslaugų gerinimas“ specialieji projektų atrankos kriterijai
B80: Eil. Nr. | C80: Specialieji projektų atrankos kriterijai | F80: Pažangos priemonės veikla (-os) | J80: Atitikties specialiajam projektų atrankos kriterijui vertinimo aspektai
B81: 1 | C81: 2 | F81: 3 | J81: 4
C82: Specialieji projektų atrankos kriterijai nebus taikomi.
B84: 8 lentelė. LT026-02-02-07 pažangos priemonės „Atliekų tvarkymo paslaugų gerinimas“ prioritetiniai projektų atrankos kriterijai
B85: Eil. Nr. | C85: Prioritetinis projektų atrankos kriterijus | F85: Pažangos priemonės veikla (-os) | J85: Atitikties prioritetiniam projektų atrankos kriterijui vertinimo aspektai
B86: 1 | C86: 2 | F86: 3 | J86: 4
C87: Prioritetiniai projektų atrankos kriterijai nebus taikomi, nes visi pažangos priemonės projektai bus atrenkami planavimo būdu.
B89: 9 lentelė. Reikalavimai projektams
B90: Eil. Nr. | C90: Veikla (-os) ir (ar) poveiklė (-ės), kurios projektams taikomas reikalavimas | F90: Reikalavimai projektams
B91: 1 | C91: 2 | F91: 3
B92: 1. | C92: Veikla 1. Atliekų tvarkymo paslaugų gerinimas Šiaulių regione | F92: Bus vykdomi reikalavimai projektams, nurodyti Regioninės pažangos priemonės Nr. 02-001-06-10-01(RE) „Skatinti rūšiuojamąjį atliekų surinkimą“ finansavimo gairėse. Kiti reikalavimai projektams nebus taikomi.
B94: 10 lentelė. Kiti reikalavimai dėl pažangos priemonės įgyvendinimo
B95: Eil. Nr. | C95: Reikalavimai
B96: 1 | C96: 2
C97: Nebus taikomi
A101: Pastabos:
A102: 1. | B102: Projektais 1.2–-1.5. įgyvendinami 2024-2029 m. Šiaulių regiono funkcinės zonos strategijos, patvirtintos Šiaulių regiono savivaldybių tarybų 2026 m. vasario-kovo mėn. sprendimais, veiksmai.

Sheet IV skyrius VIII skirsinis
B2: AŠTUNTAS SKIRSNIS
G4: ='III skyrius'!D12 -> LT026-02-01-08 | I4: ='III skyrius'!C12 -> Žaliosios ir kritinės infrastruktūros plėtra
B6: 4 lentelė. Pažangos priemonės įgyvendinimo rezultato rodikliai
B7: Eil. Nr. | C7: Rodiklio kodas | E7: Rodiklio pavadinimas (matavimo vienetas) | H7: Pradinė rodiklio reikšmė (metai) | K7: Siektinos rodiklio reikšmės
K8: Siektina tarpinė rodiklio reikšmė (metai) | N8: Siektina galutinė rodiklio reikšmė (metai)
B9: 1 | C9: 2 | E9: 3 | H9: 4 | K9: 5 | N9: 6
B10: 1. | C10: RCR95 R.B.2.2095 | E10: Gyventojai, galintys naudotis nauja ar patobulinta žaliąja infrastruktūra | asmenys | H10: 0 | K10: 0 | N10: =O43 -> 5500
H11: (2021) | K11: (2025) | N11: =O46 -> (2029)
B12: 2. | C12: RCR96 R.B.2.2096 | E12: Gyventojai, galintys pasinaudoti apsaugos nuo su klimatu nesusijusios gamtinio pavojaus rizikos ir nuo su žmogaus veikla susijusios rizikos priemonėmis | asmenys | H12: 0 | K12: 0 | N12: =O53 -> 5509
H13: (2025) | K13: (2025) | N13: (2030)
B16: 5 lentelė. Pažangos priemonės finansavimo šaltiniai ir preliminarus pažangos lėšų poreikis
B17: Finansavimo šaltiniai | F17: Lėšų poreikis, eurais
B18: 1 | F18: 2
B19: 1. Lietuvos Respublikos valstybės biudžeto asignavimų lėšos: | F19: =F20+F23+F26+F29 -> 9523815.2
B20: 1.1. Valstybės biudžeto lėšos | F20: =F21 -> 0
B21: 1.1.1. lėšų pavadinimas ir finansavimo šaltinio kodas | F21: =J47 -> 0
B22: ...
B23: 1.2. Europos Sąjungos (toliau – ES) ir kitos tarptautinės finansinės paramos bendrojo finansavimo lėšos | F23: =F24 -> 0
B24: 1.2.1. 2021–2027 m. ES struktūrinių fondų bendrojo finansavimo lėšos (1.2.2.8.1) | F24: =K47 -> 0
B25: ...
B26: 1.3. ES ir kitos tarptautinės finansinės paramos lėšos | F26: =F27 -> 9523815.2
B27: 1.3.1. 2021–2027 m. ES struktūrinių fondų lėšos (1.3.2.8.1) | F27: =L108 -> 9523815.2
B28: ...
B29: 1.4. Tikslinės paskirties valstybės biudžeto lėšos | F29: =F30 -> 0
B30: 1.4.1. lėšų pavadinimas ir finansavimo šaltinio kodas | F30: 0
B31: ...
B32: 2. Kitos lėšos: | F32: =F33 -> 1095594.1
B33: 2.1. Savivaldybių biudžetų lėšos | F33: =M108 -> 1095594.1
B34: 2.2. Privačios lėšos | F34: 0
B35: 2.3. Kitos viešosios lėšos | F35: 0
B36: IŠ VISO | F36: =F19+F32 -> 10619409
B38: 6 lentelė. Pažangos priemonės veiklos, poveiklės ir (arba) projektai
B39: Veiklos, poveiklės, projektai | C39: Veiklos, poveiklės, projekto tipas | D39: Galimi pareiškėjai arba projektų vykdytojai, kai projektai atrenkami planavimo būdu | E39: Galimi partneriai | F39: Projektų atrankos būdas | G39: Tiesiogiai prisidedama prie HP | H39: Projektų finansavimo forma | I39: Pažangos lėšos (eurais) ir jų finansavimo šaltiniai | N39: Stebėsenos rodikliai | P39: Įgyvendinimo pradžia (metai, ketv.) | Q39: Įgyvendinimo pabaiga (metai, ketv.)
I40: Iš viso | J40: Iš jų Lietuvos Respublikos valstybės biudžeto asignavimų lėšos, ne daugiau kaip | M40: Iš jų kitos lėšos, ne mažiau kaip | N40: Rodiklio kodas, pavadinimas ir matavimo vienetai | O40: Siektina rodiklio reikšmė (metai)
J41: Valstybės biudžeto lėšos | K41: ES ir kitos tarptautinės paramos bendrojo finansavimo lėšos | L41: ES ir kitos tarptautinės paramos lėšos
B42: 1 | C42: 2 | D42: 3 | E42: 4 | F42: 5 | G42: 6 | H42: 7 | I42: 8 | J42: 9 | K42: 10 | L42: 11 | M42: 12 | N42: 13 | O42: 14 | P42: 15 | Q42: 16
B43: 1. Žaliosios infrastruktūros plėtojimas Naujosios Akmenės mieste | C43: I | D43: Akmenės rajono savivaldybės administracija | E43: - | F43: Projektų planavimo | G43: Darnaus vystymosi, Lygių galimybių HP | H43: Dotacija | I43: =SUM(J43:M46) -> 5646219 | J43: 0 | K43: 0 | L43: 4799286.2 | M43: 846932.85 | N43: RCR95 R.B.2.2095 Gyventojai, galintys naudotis nauja ar patobulinta žaliąja infrastruktūra | asmenys | O43: 5500 | P43: 2026 m. IV ketv. | Q43: 2029 m. I ketv.
O44: (2029)
N45: RCO36 P.B.2.0036 Žalioji infrastruktūra, kuriai suteikta parama kitais nei prisitaikymo prie klimato kaitos tikslais | hektarai | O45: 5.84
O46: (2029)
B47: Iš viso pažangos priemonės 1 veiklai: | I47: =I43 -> 5646219 | J47: =J43 -> 0 | K47: =K43 -> 0 | L47: =L43 -> 4799286.2 | M47: =M43 -> 846932.85
B49: Veiklos, poveiklės, projektai | C49: Veiklos, poveiklės, projekto tipas | D49: Galimi pareiškėjai arba projektų vykdytojai, kai projektai atrenkami planavimo būdu | E49: Galimi partneriai | F49: Projektų atrankos būdas | G49: Tiesiogiai prisidedama prie HP | H49: Projektų finansavimo forma | I49: Pažangos lėšos (eurais) ir jų finansavimo šaltiniai | N49: Stebėsenos rodikliai | P49: Įgyvendinimo pradžia (metai, ketv.) | Q49: Įgyvendinimo pabaiga (metai, ketv.)
I50: Iš viso | J50: Iš jų Lietuvos Respublikos valstybės biudžeto asignavimų lėšos, ne daugiau kaip | M50: Iš jų kitos lėšos, ne mažiau kaip | N50: Rodiklio kodas, pavadinimas ir matavimo vienetai | O50: Siektina rodiklio reikšmė (metai)
J51: Valstybės biudžeto lėšos | K51: ES ir kitos tarptautinės paramos bendrojo finansavimo lėšos | L51: ES ir kitos tarptautinės paramos lėšos
B52: 1 | C52: 2 | D52: 3 | E52: 4 | F52: 5 | G52: 6 | H52: 7 | I52: 8 | J52: 9 | K52: 10 | L52: 11 | M52: 12 | N52: 13 | O52: 14 | P52: 15 | Q52: 16
B53: 2. Civilinės parengties stiprinimas Šiaulių regione | C53: I | D53: Šiaulių regiono savivaldybių administracijos | E53: - | F53: Projektų planavimo | G53: Darnaus vystymosi, Lygių galimybių HP | H53: Dotacija | I53: =SUM(J53:M60) -> 4973190.3 | J53: =SUM(J91:J106) -> 0 | K53: =SUM(K91:K106) -> 0 | L53: =SUM(L61:L106) -> 4724529 | M53: =SUM(M61:M106) -> 248661.28 | N53: RCR96 R.B.2.2096 Gyventojai, galintys pasinaudoti apsaugos nuo su klimatu nesusijusios gamtinio pavojaus rizikos ir nuo su žmogaus veikla susijusios rizikos priemonėmis | asmenys | O53: =O91+O99+O67+O61+O75+O83 -> 5509 | P53: 2027 m. I ketv. | Q53: 2030 m. III ketv.
O54: (2030)
N55: P.S.2.1048 Naujos arba modernizuotos priedangos | skaičius | O55: =O93+O101+O69+O63+O77+O85 -> 12
O56: (2030)
N57: RCO29 P.B.2.0029 Pastatytų arba renovuotų daugiafunkcių priedangų talpumas | asmenys | O57: =O95+O103+O71+O79+O87+O65 -> 5509
O58: (2030)
N59: P.S.2.1049 Modernizuoti savivaldybių ekstremaliųjų situacijų operacijų centrai | skaičius | O59: =O97+O105+O73+O81+O89 -> 5
O60: (2030)
B61: 2.1. Priedangų infrastruktūros plėtra Akmenės rajone | D61: Akmenės rajono savivaldybės administracija | E61: - | I61: =L61+M61 -> 1064263 | J61: 0 | K61: 0 | L61: 1011049 | M61: 53214 | N61: RCR96 R.B.2.2096 Gyventojai, galintys pasinaudoti apsaugos nuo su klimatu nesusijusios gamtinio pavojaus rizikos ir nuo su žmogaus veikla susijusios rizikos priemonėmis | asmenys | O61: 530 | P61: 2027 m. III ketv. | Q61: 2029 m. IV ketv.
O62: (2030)
N63: P.S.2.1048 Naujos arba modernizuotos priedangos | skaičius | O63: 1
O64: (2030)
N65: RCO29 P.B.2.0029 Pastatytų arba renovuotų daugiafunkcių priedangų talpumas | asmenys | O65: 530
O66: (2029)
B67: 2.2. Priedangų infrastruktūros modernizavimas Joniškio rajono savivaldybėje | D67: Joniškio rajono savivaldybės administracija | E67: - | I67: =L67+M67 -> 458396.85 | J67: 0 | K67: 0 | L67: 435477 | M67: 22919.85 | N67: RCR96 R.B.2.2096 Gyventojai, galintys pasinaudoti apsaugos nuo su klimatu nesusijusios gamtinio pavojaus rizikos ir nuo su žmogaus veikla susijusios rizikos priemonėmis | asmenys | O67: 200 | P67: 2027 m. III ketv. | Q67: 2030 m. III ketv.
O68: (2030)
N69: P.S.2.1048 Naujos arba modernizuotos priedangos | skaičius | O69: 1
O70: (2030)
N71: RCO29 P.B.2.0029 Pastatytų arba renovuotų daugiafunkcių priedangų talpumas | asmenys | O71: 200
O72: (2030)
B73: 2.3. Kelmės rajono savivaldybės ekstremaliųjų situacijų operacijų centro modernizavimas ir parengties stiprinimas | D73: Kelmės rajono savivaldybės administracija | E73: - | I73: =SUM(J73:M74) -> 874215.79 | J73: 0 | K73: 0 | L73: =830487+18 -> 830505 | M73: 43710.79 | N73: P.S.2.1049 Modernizuoti savivaldybių ekstremaliųjų situacijų operacijų centrai | skaičius | O73: 1 | P73: 2027 m. I ketv. | Q73: 2029 m. IV ketv.
O74: (2030)
B75: 2.4. Priedangų ir ekstremaliųjų operacijų centro plėtra Pakruojo rajono savivaldybėje | D75: Pakruojo rajono savivaldybės administracija | E75: - | I75: =L75+M75 -> 321572.64 | J75: 0 | K75: 0 | L75: 305494 | M75: 16078.64 | N75: RCR96 R.B.2.2096 Gyventojai, galintys pasinaudoti apsaugos nuo su klimatu nesusijusios gamtinio pavojaus rizikos ir nuo su žmogaus veikla susijusios rizikos priemonėmis | asmenys | O75: 375 | P75: 2027 m. III ketv. | Q75: 2030 m. III ketv.
O76: (2030)
N77: P.S.2.1048 Naujos arba modernizuotos priedangos | skaičius | O77: 2
O78: (2030)
N79: RCO29 P.B.2.0029 Pastatytų arba renovuotų daugiafunkcių priedangų talpumas | asmenys | O79: 375
O80: (2030)
N81: P.S.2.1049 Modernizuoti savivaldybių ekstremaliųjų situacijų operacijų centrai | skaičius | O81: 1
O82: (2030)
B83: 2.5. Priedangų ir ekstremaliųjų situacijų operacijų centro įrengimas Radviliškio rajono savivaldybėje | D83: Radviliškio rajono savivaldybės administracija | E83: - | I83: =L83+M83 -> 526316 | J83: 0 | K83: 0 | L83: 500000 | M83: 26316 | N83: RCR96 R.B.2.2096 Gyventojai, galintys pasinaudoti apsaugos nuo su klimatu nesusijusios gamtinio pavojaus rizikos ir nuo su žmogaus veikla susijusios rizikos priemonėmis | asmenys | O83: 1676 | P83: 2027 m. II ketv. | Q83: 2029 m. IV ketv.
O84: (2030)
N85: P.S.2.1048 Naujos arba modernizuotos priedangos | skaičius | O85: 3
O86: (2030)
N87: RCO29 P.B.2.0029 Pastatytų arba renovuotų daugiafunkcių priedangų talpumas | asmenys | O87: 1676
O88: (2030)
N89: P.S.2.1049 Modernizuoti savivaldybių ekstremaliųjų situacijų operacijų centrai | skaičius | O89: 1
O90: (2030)
B91: 2.6. Civilinės parengties stiprinimas Šiaulių miesto savivaldybėje | D91: Šiaulių miesto savivaldybės administracija | E91: - | I91: =L91+M91 -> 1465268 | J91: 0 | K91: 0 | L91: 1392004 | M91: 73264 | N91: RCR96 R.B.2.2096 Gyventojai, galintys pasinaudoti apsaugos nuo su klimatu nesusijusios gamtinio pavojaus rizikos ir nuo su žmogaus veikla susijusios rizikos priemonėmis | asmenys | O91: 1039 | P91: 2027 m. I ketv. | Q91: 2030 m. II ketv.
O92: (2030)
N93: P.S.2.1048 Naujos arba modernizuotos priedangos | skaičius | O93: 2
O94: (2030)
N95: RCO29 P.B.2.0029 Pastatytų arba renovuotų daugiafunkcių priedangų talpumas | asmenys | O95: 1039
O96: (2029)
N97: P.S.2.1049 Modernizuoti savivaldybių ekstremaliųjų situacijų operacijų centrai | skaičius | O97: 1
O98: (2030)
B99: 2.7. Civilinės parengties stiprinimas Šiaulių rajono savivaldybėje | D99: Šiaulių rajono savivaldybės administracija | E99: - | I99: =L99+M99 -> 263158 | J99: 0 | K99: 0 | L99: 250000 | M99: 13158 | N99: RCR96 R.B.2.2096 Gyventojai, galintys pasinaudoti apsaugos nuo su klimatu nesusijusios gamtinio pavojaus rizikos ir nuo su žmogaus veikla susijusios rizikos priemonėmis | asmenys | O99: 1689 | P99: 2027 m. II ketv. | Q99: 2030 m. III ketv.
O100: (2030)
N101: P.S.2.1048 Naujos arba modernizuotos priedangos | skaičius | O101: 3
O102: (2030)
N103: RCO29 P.B.2.0029 Pastatytų arba renovuotų daugiafunkcių priedangų talpumas | asmenys | O103: 1689
O104: (2030)
N105: P.S.2.1049 Modernizuoti savivaldybių ekstremaliųjų situacijų operacijų centrai | skaičius | O105: 1
O106: (2030)
B107: Iš viso pažangos priemonės 2 veiklai: | I107: =SUM(I61:I106) -> 4973190.3 | J107: =SUM(J61:J106) -> 0 | K107: =SUM(K61:K106) -> 0 | L107: =SUM(L61:L106) -> 4724529 | M107: =SUM(M61:M106) -> 248661.28
...

Sheet IV skyrius IX skirsnis
B2: DEVINTAS SKIRSNIS
F4: ='III skyrius'!D9 -> LT026-01-01-09 | I4: ='III skyrius'!C9 -> Investicinės aplinkos ir verslo plėtros sąlygų gerinimas
B6: 4 lentelė. Pažangos priemonės įgyvendinimo rezultato rodikliai
B7: Eil. Nr. | C7: Rodiklio kodas | E7: Rodiklio pavadinimas (matavimo vienetas) | H7: Pradinė rodiklio reikšmė (metai) | K7: Siektinos rodiklio reikšmės
K8: Siektina tarpinė rodiklio reikšmė (metai) | N8: Siektina galutinė rodiklio reikšmė (metai)
B9: 1 | C9: 2 | E9: 3 | H9: 4 | K9: 5 | N9: 6
B10: 1. | C10: R.S.2.3039 | E10: Metinis konsoliduotų viešųjų paslaugų vartotojų skaičius | vartotojai per metus | H10: 0 | K10: 0 | N10: =O43 -> 18950
H11: (2021) | K11: (2025) | N11: =O44 -> (2029)
B12: 2. | C12: R.S.2.3040 | E12: Sukurtos arba atkurtos teritorijos, naudojamos ekonominei, rekreacinei ar turizmo paskirčiai | hektarai | H12: 0 | K12: 0 | N12: =O45 -> 4.45
H13: (2021) | K13: (2025) | N13: =O48 -> (2029)
B16: 5 lentelė. Pažangos priemonės finansavimo šaltiniai ir preliminarus pažangos lėšų poreikis
B17: Finansavimo šaltiniai | F17: Lėšų poreikis, eurais
B18: 1 | F18: 2
B19: 1. Lietuvos Respublikos valstybės biudžeto asignavimų lėšos: | F19: =SUM(F20,F23,F26,F29) -> 12909451
B20: 1.1. Valstybės biudžeto lėšos | F20: =F21 -> 0
B21: 1.1.1. lėšų pavadinimas ir finansavimo šaltinio kodas | F21: =J73 -> 0
B22: …
B23: 1.2. Europos Sąjungos (toliau – ES) ir kitos tarptautinės finansinės paramos bendrojo finansavimo lėšos | F23: =F24 -> 0
B24: 1.2.1. 2021–2027 m. ES struktūrinių fondų bendrojo finansavimo lėšos (1.2.2.8.1) | F24: =K73 -> 0
B25: …
B26: 1.3. ES ir kitos tarptautinės finansinės paramos lėšos | F26: =F27 -> 12909451
B27: 1.3.1. 2021–2027 m. ES struktūrinių fondų lėšos (1.3.2.8.1) | F27: =L73 -> 12909451
B28: …
B29: 1.4. Tikslinės paskirties valstybės biudžeto lėšos | F29: =F30 -> 0
B30: 1.4.1. lėšų pavadinimas ir finansavimo šaltinio kodas | F30: 0
B31: …
B32: 2. Kitos lėšos: | F32: =SUM(F33:H35) -> 2278139
B33: 2.1. Savivaldybių biudžetų lėšos | F33: =M73 -> 2278139
B34: 2.2. Privačios lėšos | F34: 0
B35: 2.3. Kitos viešosios lėšos | F35: 0
B36: IŠ VISO | F36: =SUM(F19,F32) -> 15187590
B38: 6 lentelė. Pažangos priemonės veiklos, poveiklės ir (arba) projektai
B39: Veiklos, poveiklės, projektai | C39: Veiklos, poveiklės, projekto tipas | D39: Galimi pareiškėjai arba projektų vykdytojai, kai projektai atrenkami planavimo būdu | E39: Galimi partneriai | F39: Projektų atrankos būdas | G39: Tiesiogiai prisidedama prie HP | H39: Projektų finansavimo forma | I39: Pažangos lėšos (eurais) ir jų finansavimo šaltiniai | N39: Stebėsenos rodikliai | P39: Įgyvendinimo pradžia (metai, ketv.) | Q39: Įgyvendinimo pabaiga (metai, ketv.)
I40: Iš viso | J40: Iš jų Lietuvos Respublikos valstybės biudžeto asignavimų lėšos, ne daugiau kaip | M40: Iš jų kitos lėšos, ne mažiau kaip | N40: Rodiklio kodas, pavadinimas ir matavimo vienetai | O40: Siektina rodiklio reikšmė (metai)
J41: Valstybės biudžeto lėšos | K41: ES ir kitos tarptautinės paramos bendrojo finansavimo lėšos | L41: ES ir kitos tarptautinės paramos lėšos
B42: 1 | C42: 2 | D42: 3 | E42: 4 | F42: 5 | G42: 6 | H42: 7 | I42: 8 | J42: 9 | K42: 10 | L42: 11 | M42: 12 | N42: 13 | O42: 14 | P42: 15 | Q42: 16
B43: 1. Šiaulių regiono investicinės aplinkos ir verslo plėtros sąlygų gerinimas (1 pastaba) | C43: I | D43: Akmenės r., Joniškio r., Kelmės r., Radviliškio r., Šiaulių r. savivaldybių administracijos | E43: Juridiniai asmenys, kurių turtas planuojamas tvarkyti ir tvarkomas projekto lėšomis | F43: Projektų planavimo | G43: Darnaus vystymosi, Lygių galimybių HP | H43: Dotacija | I43: =SUM(I49:I72) -> 15187590 | J43: =SUM(J49:J72) -> 0 | K43: =SUM(K49:K72) -> 0 | L43: =SUM(L49:L72) -> 12909451 | M43: =SUM(M49:M72) -> 2278139 | N43: R.S.2.3039 Metinis konsoliduotų viešųjų paslaugų vartotojų skaičius | vartotojai per metus | O43: =O49+O53+O61+O65 -> 18950 | P43: 2025 m. I ketv. | Q43: 2029 m. III ketv.
O44: (2029)
N45: R.S.2.3040 Sukurtos arba atkurtos teritorijos, naudojamos ekonominei, rekreacinei ar turizmo paskirčiai | hektarai | O45: =O57+O69 -> 4.45
O46: (2029)
N47: P.B.2.0076 Integruoti teritorinio vystymo projektai | projektai | O47: =O51+O55+O59+O63+O67+O71 -> 6
O48: (2029)
B49: 1.1. Pastato, esančio adresu Žemaitijos g. 6A, Naujoji Akmenė, pritaikymas verslo bendradarbystės reikmėms | D49: Akmenės r. savivaldybės administracija | E49: - | I49: =L49+M49 -> 2344747 | J49: 0 | K49: 0 | L49: 1993035 | M49: 351712.05 | N49: R.S.2.3039 Metinis konsoliduotų viešųjų paslaugų vartotojų skaičius | vartotojai per metus | O49: 1750 | P49: 2026 m. I ketv. | Q49: 2029 m. III ketv.
O50: (2029)
N51: P.B.2.0076 Integruoti teritorinio vystymo projektai | projektai | O51: 1
O52: (2029)
B53: 1.2. Bendradarbystės erdvės įkūrimas Joniškio rajono savivaldybėje | D53: Joniškio r. savivaldybės administracija | E53: - | I53: =L53+M53 -> 500000 | J53: 0 | K53: 0 | L53: 425000 | M53: 75000 | N53: R.S.2.3039 Metinis konsoliduotų viešųjų paslaugų vartotojų skaičius | vartotojai per metus | O53: 750 | P53: 2025 m. II ketv. | Q53: 2029 m. III ketv.
O54: (2029)
N55: P.B.2.0076 Integruoti teritorinio vystymo projektai | projektai | O55: 1
O56: (2029)
B57: 1.3. Kelmės r. savivaldybės pramonės teritorijos Pagojo k. infrastruktūros įrengimas ir modernizavimas | D57: Kelmės r. savivaldybės administracija | E57: - | I57: =L57+M57 -> 1725000 | J57: 0 | K57: 0 | L57: 1466250 | M57: 258750 | N57: R.S.2.3040 Sukurtos arba atkurtos teritorijos, naudojamos ekonominei, rekreacinei ar turizmo paskirčiai | hektarai | O57: 0,65 | P57: 2025 m. I ketv. | Q57: 2029 m. III ketv.
O58: (2029)
N59: P.B.2.0076 Integruoti teritorinio vystymo projektai | projektai | O59: 1
O60: (2029)
B61: 1.4. Šeduvos verslo parko įrengimas | D61: Radviliškio r. savivaldybės administracija | E61: - | I61: =L61+M61 -> 1917843 | J61: 0 | K61: 0 | L61: 1630166 | M61: 287677 | N61: R.S.2.3039 Metinis konsoliduotų viešųjų paslaugų vartotojų skaičius | vartotojai per metus | O61: 3000 | P61: 2026 m. IV ketv. | Q61: 2029 m. I ketv.
O62: (2029)
N63: P.B.2.0076 Integruoti teritorinio vystymo projektai | projektai | O63: 1
O64: (2029)
B65: 1.5. Smulkiųjų verslininkų ir amatininkų kompetencijų centro įkūrimas Kuršėnų mieste | D65: Šiaulių r. savivaldybės administracija | E65: Juridiniai asmenys, kurių turtas planuojamas tvarkyti ir tvarkomas projekto lėšomis | I65: =L65+M65 -> 5700000 | J65: 0 | K65: 0 | L65: 4845000 | M65: 855000 | N65: R.S.2.3039 Metinis konsoliduotų viešųjų paslaugų vartotojų skaičius | vartotojai per metus | O65: 13450 | P65: 2025 m. I ketv. | Q65: 2029 m. III ketv.
O66: (2029)
N67: P.B.2.0076 Integruoti teritorinio vystymo projektai | projektai | O67: 1
O68: (2029)
B69: 1.6. Pramonės teritorijos vystymas ir verslo sąlygų gerinimas Kuršėnų mieste | D69: Šiaulių r. savivaldybės administracija | E69: - | I69: =L69+M69 -> 3000000 | J69: 0 | K69: 0 | L69: 2550000 | M69: 450000 | N69: R.S.2.3040 Sukurtos arba atkurtos teritorijos, naudojamos ekonominei, rekreacinei ar turizmo paskirčiai | hektarai | O69: 3,8 | P69: 2025 m. IV ketv. | Q69: 2029 m. III ketv.
O70: (2029)
N71: P.B.2.0076 Integruoti teritorinio vystymo projektai | projektai | O71: 1
O72: (2029)
B73: Iš viso pažangos priemonės veikloms: | I73: =SUM(I49:I72) -> 15187590 | J73: =SUM(J49:J72) -> 0 | K73: =SUM(K49:K72) -> 0 | L73: =SUM(L49:L72) -> 12909451 | M73: =SUM(M49:M72) -> 2278139
B75: 7 lentelė. LT026-01-01-09 pažangos priemonės „Investicinės aplinkos ir verslo plėtros sąlygų gerinimas“ specialieji projektų atrankos kriterijai
B76: Eil. Nr. | C76: Specialieji projektų atrankos kriterijai | F76: Pažangos priemonės veikla (-os) | J76: Atitikties specialiajam projektų atrankos kriterijui vertinimo aspektai
B77: 1 | C77: 2 | F77: 3 | J77: 4
C78: Specialieji projektų atrankos kriterijai nebus taikomi.
B80: 8 lentelė. LT026-01-01-09 pažangos priemonės „Investicinės aplinkos ir verslo plėtros sąlygų gerinimas“ prioritetiniai projektų atrankos kriterijai
B81: Eil. Nr. | C81: Prioritetinis projektų atrankos kriterijus | F81: Pažangos priemonės veikla (-os) | J81: Atitikties prioritetiniam projektų atrankos kriterijui vertinimo aspektai
B82: 1 | C82: 2 | F82: 3 | J82: 4
C83: Prioritetiniai projektų atrankos kriterijai nebus taikomi, nes visi pažangos priemonės projektai bus atrenkami planavimo būdu.
B85: 9 lentelė. Reikalavimai projektams
B86: Eil. Nr. | C86: Veikla (-os) ir (ar) poveiklė (-ės), kurios projektams taikomas reikalavimas | F86: Reikalavimai projektams
B87: 1 | C87: 2 | F87: 3
B88: 1. | C88: Veikla „Šiaulių regiono investicinės aplinkos ir verslo plėtros sąlygų gerinimas“ | F88: Bus vykdomi reikalavimai projektams, nurodyti Regioninės pažangos priemonės 01-004-07-01-01 (RE) „Paskatinti regionų, funkcinių zonų, savivaldybių ir miestų ekonominį augimą pasitelkiant jų turimus išteklius“ finansavimo gairėse. Kiti reikalavimai projektams nebus taikomi.
B90: 67 lentelė. Kiti reikalavimai dėl pažangos priemonės įgyvendinimo
B91: Eil. Nr. | C91: Reikalavimai
B92: 1 | C92: 2
C93: Nebus taikomi
A97: Pastabos:
A98: 1. | B98: Projektais 1.1. –1.6. įgyvendinami 2024-2029 m. Šiaulių regiono funkcinės zonos strategijos, patvirtintos Šiaulių regiono savivaldybių tarybų 2026 m. vasario-kovo mėn. sprendimais, veiksmai.

Sheet IV skyrius X skirsnis
B2: DEŠIMTAS SKIRSNIS
F4: ='III skyrius'!D10 -> LT026-01-03-10 | I4: ='III skyrius'!C10 -> Turizmo objektų patrauklumo gerinimas
B6: 4 lentelė. Pažangos priemonės įgyvendinimo rezultato rodikliai
B7: Eil. Nr. | C7: Rodiklio kodas | E7: Rodiklio pavadinimas (matavimo vienetas) | H7: Pradinė rodiklio reikšmė (metai) | K7: Siektinos rodiklio reikšmės
K8: Siektina tarpinė rodiklio reikšmė (metai) | N8: Siektina galutinė rodiklio reikšmė (metai)
B9: 1 | C9: 2 | E9: 3 | H9: 4 | K9: 5 | N9: 6
B10: 1. | C10: R.S.2.3039 | E10: Metinis konsoliduotų viešųjų paslaugų vartotojų skaičius | vartotojai per metus | H10: 0 | K10: 0 | N10: =O45 -> 18750
H11: (2021) | K11: (2025) | N11: =O46 -> (2029)
B12: 2. | C12: R.S.2.3040 | E12: Sukurtos arba atkurtos teritorijos, naudojamos ekonominei, rekreacinei ar turizmo paskirčiai | hektarai | H12: 0 | K12: 0 | N12: =O47 -> 215.9945
H13: (2021) | K13: (2025) | N13: =O46 -> (2029)
B14: 3. | C14: R.S.2.3025 | E14: Dviračiams skirtos infrastruktūros metinis naudotojų skaičius | naudotojai per metus | H14: 0 | K14: 0 | N14: =O49 -> 4800
H15: (2021) | K15: (2025) | N15: =O58 -> (2029)
B18: 5 lentelė. Pažangos priemonės finansavimo šaltiniai ir preliminarus pažangos lėšų poreikis
B19: Finansavimo šaltiniai | F19: Lėšų poreikis, eurais
B20: 1 | F20: 2
B21: 1. Lietuvos Respublikos valstybės biudžeto asignavimų lėšos: | F21: =SUM(F22,F25,F28,F31) -> 26322091
B22: 1.1. Valstybės biudžeto lėšos | F22: =F23 -> 0
B23: 1.1.1. lėšų pavadinimas ir finansavimo šaltinio kodas | F23: =J265 -> 0
B24: …
B25: 1.2. Europos Sąjungos (toliau – ES) ir kitos tarptautinės finansinės paramos bendrojo finansavimo lėšos | F25: =F26 -> 0
B26: 1.2.1. 2021–2027 m. ES struktūrinių fondų bendrojo finansavimo lėšos (1.2.2.8.1) | F26: =K265 -> 0
B27: …
B28: 1.3. ES ir kitos tarptautinės finansinės paramos lėšos | F28: =F29 -> 26322091
B29: 1.3.1. 2021–2027 m. ES struktūrinių fondų lėšos (1.3.2.8.1) | F29: =L265 -> 26322091
B30: …
B31: 1.4. Tikslinės paskirties valstybės biudžeto lėšos | F31: =F32 -> 0
B32: 1.4.1. lėšų pavadinimas ir finansavimo šaltinio kodas | F32: 0
B33: …
B34: 2. Kitos lėšos: | F34: =SUM(F35:H37) -> 5789169
B35: 2.1. Savivaldybių biudžetų lėšos | F35: =M265 -> 5789169
B36: 2.2. Privačios lėšos | F36: 0
B37: 2.3. Kitos viešosios lėšos | F37: 0
B38: IŠ VISO | F38: =SUM(F21,F34) -> 32111260
B40: 6 lentelė. Pažangos priemonės veiklos, poveiklės ir (arba) projektai
B41: Veiklos, poveiklės, projektai | C41: Veiklos, poveiklės, projekto tipas | D41: Galimi pareiškėjai arba projektų vykdytojai, kai projektai atrenkami planavimo būdu | E41: Galimi partneriai | F41: Projektų atrankos būdas | G41: Tiesiogiai prisidedama prie HP | H41: Projektų finansavimo forma | I41: Pažangos lėšos (eurais) ir jų finansavimo šaltiniai | N41: Stebėsenos rodikliai | P41: Įgyvendinimo pradžia (metai, ketv.) | Q41: Įgyvendinimo pabaiga (metai, ketv.)
I42: Iš viso | J42: Iš jų Lietuvos Respublikos valstybės biudžeto asignavimų lėšos, ne daugiau kaip | M42: Iš jų kitos lėšos, ne mažiau kaip | N42: Rodiklio kodas, pavadinimas ir matavimo vienetai | O42: Siektina rodiklio reikšmė (metai)
J43: Valstybės biudžeto lėšos | K43: ES ir kitos tarptautinės paramos bendrojo finansavimo lėšos | L43: ES ir kitos tarptautinės paramos lėšos
B44: 1 | C44: 2 | D44: 3 | E44: 4 | F44: 5 | G44: 6 | H44: 7 | I44: 8 | J44: 9 | K44: 10 | L44: 11 | M44: 12 | N44: 13 | O44: 14 | P44: 15 | Q44: 16
B45: 1. Šiaulių regiono turizmo objektų patrauklumo gerinimas (1 pastaba) | C45: I | D45: Akmenės r., Joniškio r., Kelmės r., Pakruojo r., Radviliškio r. ir Šiaulių r. savivaldybių administracijos | E45: Juridiniai asmenys, kurių turtas planuojamas tvarkyti ir tvarkomas projekto lėšomis | F45: Projektų planavimo | G45: Darnaus vystymosi, Lygių galimybių HP | H45: Dotacija | I45: =SUM(I59:I264) -> 32111260 | J45: =SUM(J59:J264) -> 0 | K45: =SUM(K59:K264) -> 0 | L45: =SUM(L59:L264) -> 26322091 | M45: =SUM(M59:M264) -> 5789169 | N45: R.S.2.3039 Metinis konsoliduotų viešųjų paslaugų vartotojų skaičius | vartotojai per metus | O45: =O77+O121+O261 -> 18750 | P45: 2025 m. I ketv. | Q45: 2029 m. III ketv.
O46: (2029)
N47: R.S.2.3040 Sukurtos arba atkurtos teritorijos, naudojamos ekonominei, rekreacinei ar turizmo paskirčiai | hektarai | O47: =O59+O71+O81+O87+O93+O99+O109+O115+O127+O133+O139+O145+O151+O157+O163+O170+O176+O181+O187+O193+O199+O205+O215+O221+O227+O233+O243+O249+O255+O65 -> 215.9945
O48: (2029)
N49: R.S.2.3025 Dviračiams skirtos infrastruktūros metinis naudotojų skaičius | naudotojai per metus | O49: =O105+O211+O239 -> 4800
O50: (2029)
N51: P.S.2.1039 Sukurtos arba atkurtos atviros erdvės | kvadratiniai metrai | O51: =O61+O67+O73+O83+O89+O95+O101+O111+O117+O129+O135+O141+O147+O153+O159+O165+O172+O183+O189+O195+O201+O207+O217+O223+O229+O235+O245+O251+O257 -> 1732391.4
O52: (2029)
N53: P.S.2.1034 Naujų ar rekonstruotų pastatų, kurių pirminės energijos paklausa yra bent 20 % mažesnė, nei reikalauja energijos beveik nevartojantis pastatas, plotas | kvadratiniai metrai | O53: =O123 -> 870
O54: (2029)
N55: P.B.2.0076 Integruoti teritorinio vystymo projektai | projektai | O55: =O63+O69+O75+O79+O85+O91+O97+O103+O113+O119+O125+O131+O137+O143+O149+O161+O167+O174+O178+O174+O185+O191+O197+O203+O209+O219+O225+O231+O237+O247+O253+O259+O263 -> 33
O56: (2029)
N57: P.B.2.0058 Dviračiams skirta infrastruktūra, kuriai suteikta parama | kilometrai | O57: =O107+O213+O241 -> 4.35
O58: (2029)
B59: 1.1. Akmenės gamtos ir kultūros parko pritaikymas lankymui | D59: Akmenės rajono savivaldybės administracija | E59: Juridiniai asmenys, kurių turtas planuojamas tvarkyti ir tvarkomas projekto lėšomis | I59: =L59+M59 -> 347754 | J59: 0 | K59: 0 | L59: 295590.9 | M59: 52163.1 | N59: R.S.2.3040 Sukurtos arba atkurtos teritorijos, naudojamos ekonominei, rekreacinei ar turizmo paskirčiai | hektarai | O59: 34.73 | P59: 2025 m. IV ketv. | Q59: 2028 m. IV ketv.
O60: (2029)
N61: P.S.2.1039 Sukurtos arba atkurtos atviros erdvės | kvadratiniai metrai | O61: 340660
O62: (2029)
N63: P.B.2.0076 Integruoti teritorinio vystymo projektai | projektai | O63: 1
O64: (2029)
B65: 1.2. Apžadų kapelių pritaikymas lankymui | D65: Akmenės rajono savivaldybės administracija | E65: Juridiniai asmenys, kurių turtas planuojamas tvarkyti ir tvarkomas projekto lėšomis | I65: =L65+M65 -> 55840.41 | J65: 0 | K65: 0 | L65: 47464.34 | M65: 8376.07 | N65: R.S.2.3040 Sukurtos arba atkurtos teritorijos, naudojamos ekonominei, rekreacinei ar turizmo paskirčiai | hektarai | O65: 0.4 | P65: 2025 m. II ketv. | Q65: 2029 m. II ketv.
O66: (2029)
N67: P.S.2.1039 Sukurtos arba atkurtos atviros erdvės | kvadratiniai metrai | O67: 511
O68: (2029)
N69: P.B.2.0076 Integruoti teritorinio vystymo projektai | projektai | O69: 1
O70: (2029)
B71: 1.3. Dabikinės dvaro parko pritaikymas lankymui | D71: Akmenės rajono savivaldybės administracija | E71: Juridiniai asmenys, kurių turtas planuojamas tvarkyti ir tvarkomas projekto lėšomis | I71: =L71+M71 -> 673398.29 | J71: 0 | K71: 0 | L71: 572388.54 | M71: 101009.75 | N71: R.S.2.3040 Sukurtos arba atkurtos teritorijos, naudojamos ekonominei, rekreacinei ar turizmo paskirčiai | hektarai | O71: 3 | P71: 2026 m. IV ketv. | Q71: 2028 m. IV ketv.
O72: (2029)
N73: P.S.2.1039 Sukurtos arba atkurtos atviros erdvės | kvadratiniai metrai | O73: 30000
O74: (2029)
N75: P.B.2.0076 Integruoti teritorinio vystymo projektai | projektai | O75: 1
O76: (2029)
B77: 1.4. Inovatyvių turizmo ir ženklinimo sprendinių diegimas Akmenės rajono savivaldybėje | D77: Akmenės rajono savivaldybės administracija | E77: - | I77: =L77+M77 -> 481517.21 | J77: 0 | K77: 0 | L77: 409289.62 | M77: 72227.59 | N77: R.S.2.3039 Metinis konsoliduotų viešųjų paslaugų vartotojų skaičius | vartotojai per metus | O77: 11750 | P77: 2025 m. II ketv. | Q77: 2027 m. IV ketv.
O78: (2029)
N79: P.B.2.0076 Integruoti teritorinio vystymo projektai | projektai | O79: 1
O80: (2029)
B81: 1.5. Luokavos piliakalnio pritaikymas lankymui | D81: Akmenės rajono savivaldybės administracija | E81: Juridiniai asmenys, kurių turtas planuojamas tvarkyti ir tvarkomas projekto lėšomis | I81: =L81+M81 -> 141122.3 | J81: 0 | K81: 0 | L81: 119953.95 | M81: 21168.35 | N81: R.S.2.3040 Sukurtos arba atkurtos teritorijos, naudojamos ekonominei, rekreacinei ar turizmo paskirčiai | hektarai | O81: 1 | P81: 2025 m. II ketv. | Q81: 2029 m. III ketv.
O82: (2029)
N83: P.S.2.1039 Sukurtos arba atkurtos atviros erdvės | kvadratiniai metrai | O83: 5000
O84: (2029)
N85: P.B.2.0076 Integruoti teritorinio vystymo projektai | projektai | O85: 1
O86: (2029)
B87: 1.6. Papilės II piliakalnio pritaikymas lankymui | D87: Akmenės rajono savivaldybės administracija | E87: Juridiniai asmenys, kurių turtas planuojamas tvarkyti ir tvarkomas projekto lėšomis | I87: =L87+M87 -> 50000 | J87: 0 | K87: 0 | L87: 0 | M87: 50000 | N87: R.S.2.3040 Sukurtos arba atkurtos teritorijos, naudojamos ekonominei, rekreacinei ar turizmo paskirčiai | hektarai | O87: 1 | P87: 2026 m. IV ketv. | Q87: 2028 m. IV ketv.
O88: (2029)
N89: P.S.2.1039 Sukurtos arba atkurtos atviros erdvės | kvadratiniai metrai | O89: 10000
O90: (2029)
N91: P.B.2.0076 Integruoti teritorinio vystymo projektai | projektai | O91: 1
O92: (2029)
B93: 1.7. Žemės gelmių sluoksnių Menčių karjere ir Sablauskių tvenkinio pritaikymas lankymui | D93: Akmenės rajono savivaldybės administracija | E93: - | I93: =L93+M93 -> 703012.36 | J93: 0 | K93: 0 | L93: 597560.5 | M93: 105451.86 | N93: R.S.2.3040 Sukurtos arba atkurtos teritorijos, naudojamos ekonominei, rekreacinei ar turizmo paskirčiai | hektarai | O93: 4 | P93: 2025 m. II ketv. | Q93: 2027 m. IV ketv.
O94: (2029)
N95: P.S.2.1039 Sukurtos arba atkurtos atviros erdvės | kvadratiniai metrai | O95: 3300
O96: (2029)
N97: P.B.2.0076 Integruoti teritorinio vystymo projektai | projektai | O97: 1
O98: (2029)
B99: 1.8. Lietuvos valstybės atkūrimo šimtmečio ąžuolyno, Sidabros upės ir tvenkinio pritaikymas lankymui | D99: Joniškio rajono savivaldybės administracija | E99: - | I99: =L99+M99 -> 3205579.2 | J99: 0 | K99: 0 | L99: 2265284.8 | M99: 940294.43 | N99: R.S.2.3040 Sukurtos arba atkurtos teritorijos, naudojamos ekonominei, rekreacinei ar turizmo paskirčiai | hektarai | O99: 56,40 | P99: 2025 m. I ketv. | Q99: 2029 m. III ketv.
O100: (2029)
N101: P.S.2.1039 Sukurtos arba atkurtos atviros erdvės | kvadratiniai metrai | O101: 349131,02
O102: (2029)
N103: P.B.2.0076 Integruoti teritorinio vystymo projektai | projektai | O103: 1
O104: (2029)
N105: R.S.2.3025 Dviračiams skirtos infrastruktūros metinis naudotojų skaičius | naudotojai per metus | O105: 1000
O106: (2029)
...

Sheet Lapas1

Sheet 1 lentelė
S2: PATVIRTINTA
S3: Kauno regiono plėtros tarybos 2024 m. sausio 31 d. sprendimu Nr. 6KS-3
L4: 2022–2030 M. KAUNO REGIONO PLĖTROS PLANO
L5: 2023 METŲ ĮGYVENDINIMO ATASKAITA
A8: 1 lentelė. Regiono plėtros plano įgyvendinimo rezultatai
A9: Eil. Nr. | B9: Tikslas, uždavinys, priemonė | C9: Stebėsenos rodikliai | J9: Regiono plėtros plane suplanuotos pažangos lėšos1 (Eur) | N9: Sudaryta sutarčių (Eur) | R9: Išmokėtos pažangos lėšos (Eur) | V9: Pastabos, paaiškinimai3
C10: Kodas | E10: Pavadinimas, mato vnt. | F10: Pradinė rodiklio reikšmė (metai) | G10: Ataskaitiniu laikotarpiu pasiekta rodiklio reikšmė2 | H10: Siektina rodiklio tarpinė reikšmė | I10: Siektina rodiklio reikšmė | J10: Iš viso | K10: Iš jų: ES ir kitos tarptautinės paramos lėšos | L10: Iš jų: Lietuvos Respublikos valstybės biudžeto lėšos | M10: Iš jų: kitos lėšos | N10: Iš viso | O10: Iš jų: ES ir kitos tarptautinės paramos lėšos | P10: Iš jų: Lietuvos Respublikos valstybės biudžeto lėšos | Q10: Iš jų: kitos lėšos | R10: Iš viso | S10: Iš jų: ES ir kitos tarptautinės paramos lėšos | T10: Iš jų: Lietuvos Respublikos valstybės biudžeto lėšos | U10: Iš jų: kitos lėšos
A11: 1 | B11: 2 | C11: 3 | E11: 4 | F11: 5 | G11: 6 | H11: 7 | I11: 8 | J11: 9 | K11: 10 | L11: 11 | M11: 12 | N11: 13 | O11: 14 | P11: 15 | Q11: 16 | R11: 17 | S11: 18 | T11: 19 | U11: 20 | V11: 21
A12: {='II skyrius'!B11:B14} -> 1. | B12: {='II skyrius'!C11:C14} -> Išnaudoti ekonominį regiono potencialą ir sudaryti sąlygas kurti naujas darbo vietas | J12: =J37+J43+J53+J59 -> 86465853 | K12: =K37+K43+K53+K59 -> 62259997 | L12: =L37+L43+L53+L59 -> 0 | M12: =M37+M43+M53+M59 -> 24205856 | N12: =N37+N43+N53+N59 -> 0 | O12: =O37+O43+O53+O59 -> 0 | P12: =P37+P43+P53+P59 -> 0 | Q12: =Q37+Q43+Q53+Q59 -> 0 | ... U12: =U37+U43+U53+U59 -> 0
A13: 0 | B13: 0
A14: 0 | B14: 0
A15: 0 | B15: 0
C22: – | E22: Sąvartynuose šalinamų komunalinių atliekų dalis (procentai) | F22: ='II skyrius'!G11 -> 16.8 | G22: 10 | H22: ='II skyrius'!H11 -> 19.9 | I22: ='II skyrius'!I11 -> 24.5
E23: 0 | F23: ='II skyrius'!G12 -> (2019)
F24: ='II skyrius'!G12 -> (2019) | G24: (2021) | H24: ='II skyrius'!H12 -> (2025) | I24: ='II skyrius'!I12 -> (2029)
C25: – | E25: Paruoštų pakartotinai naudoti ir perdirbtų komunalinių atliekų dalis (procentai) | F25: ='II skyrius'!G13 -> 69.1 | G25: 50 | H25: ='II skyrius'!H13 -> 70.4 | I25: ='II skyrius'!I13 -> 72.5
E26: 0 | F26: ='II skyrius'!G14 -> (2020)
F27: ='II skyrius'!G14 -> (2020) | G27: (2021) | H27: ='II skyrius'!H14 -> (2025) | I27: ='II skyrius'!I14 -> (2029)
C28: – | E28: Nepralaidžių dangų ir žaliosios infrastruktūros plotų santykis 1 500 gyv./km2 ir didesnio tankumo teritorijoje (santykis, dešimtainė trupmena) | F28: {='II skyrius'!#REF!} -> #REF! | G28: 1.03 | H28: ='II skyrius'!#REF! -> #REF! | I28: ='II skyrius'!#REF! -> #REF!
E29: 0 | G29: (2021)
F30: ='II skyrius'!#REF! -> #REF! | G30: (2021) | H30: ='II skyrius'!#REF! -> #REF! | I30: ='II skyrius'!#REF! -> #REF!
C31: – | E31: Priešlaikinės mirtys, priskiriamos ilgalaikiam kietųjų dalelių KD2,5 poveikiui (mirusiųjų skaičius 100 tūkst. gyventojų) | F31: {='II skyrius'!#REF!} -> #REF! | G31: 81 | H31: ='II skyrius'!#REF! -> #REF! | I31: ='II skyrius'!#REF! -> #REF!
E32: 0
F33: ='II skyrius'!#REF! -> #REF! | G33: (2021) | H33: ='II skyrius'!#REF! -> #REF! | I33: ='II skyrius'!#REF! -> #REF!
C34: – | E34: Šiltnamio efektą sukeliančių dujų išmetimas 1 gyventojui – gyventojų kelionių įtaka (lengvųjų automobilių, motociklų, mopedų ir viešojo transporto naudojimas) (tonos) | F34: {='II skyrius'!#REF!} -> #REF! | G34: 1.38 | H34: ='II skyrius'!#REF! -> #REF! | I34: ='II skyrius'!#REF! -> #REF!
E35: 0 | G35: (2019)
F36: ='II skyrius'!#REF! -> #REF! | G36: (2019) | H36: ='II skyrius'!#REF! -> #REF! | I36: ='II skyrius'!#REF! -> #REF!
A37: {='II skyrius'!B15:B16} -> 1.1. | B37: {='II skyrius'!C15:C16} -> Sukurti ir modernizuoti trūkstamą pramoninių, komercinių ir kitų teritorijų infrastruktūrą | J37: =J42 -> 0 | K37: =K42 -> 0 | L37: =L42 -> 0 | M37: =M42 -> 0 | N37: =N42 -> 0 | O37: =O42 -> 0 | P37: =P42 -> 0 | Q37: =Q42 -> 0 | ... U37: =U42 -> 0
A38: 0 | B38: 0 | J38: 0 | K38: 0 | L38: 0 | M38: 0 | N38: 0 | O38: 0 | P38: 0 | Q38: 0 | R38: 0 | S38: 0 | T38: 0 | U38: 0
C39: RCR103 / R.B.2.2103 | E39: Surinktos atskirai išrūšiuotos atliekos (tonos per metus) | F39: ='II skyrius'!G15 -> 0 | G39: 0 | H39: ='II skyrius'!H15 -> 0 | I39: ='II skyrius'!I15 -> 4.45
E40: 0 | F40: ='II skyrius'!G16 -> (2021)
F41: ='II skyrius'!G16 -> (2021) | H41: ='II skyrius'!H16 -> (2025) | I41: ='II skyrius'!I16 -> (2029)
A42: 1.1.1. | B42: ='III skyrius'!C9 -> Investicinės aplinkos ir verslo plėtros sąlygų gerinimas | J42: 0 | K42: 0 | L42: 0 | M42: 0 | N42: 0 | O42: 0 | P42: 0 | Q42: 0 | R42: 0 | S42: 0 | T42: 0 | U42: 0
A43: {='II skyrius'!B17:B18} -> 1.2. | B43: {='II skyrius'!C17:C18} -> Sukurti palankią aplinką SVV steigimuisi per bendros infrastruktūros naudojimo iniciatyvas | J43: =J48 -> 32111260 | K43: =K48 -> 26322091 | L43: =L48 -> 0 | M43: =M48 -> 5789169 | N43: =N48 -> 0 | O43: =O48 -> 0 | P43: =P48 -> 0 | Q43: =Q48 -> 0 | ... U43: =U48 -> 0
A44: 0 | B44: 0
C45: {='IV skyrius III skirsnis'!C10:D11} -> R.S.2.3523 | D45: 0 | E45: Miestai, kuriuose įrengta ar modernizuota oro monitoringo infrastruktūra (skaičius) | F45: ='II skyrius'!G17 -> 0 | G45: 0 | H45: ='II skyrius'!H17 -> 0 | I45: ='II skyrius'!I17 -> 18950
C46: 0 | D46: 0 | E46: 0 | F46: ='II skyrius'!G18 -> (2021)
F47: ='II skyrius'!G18 -> (2021) | H47: ='II skyrius'!H18 -> (2025) | I47: ='II skyrius'!I18 -> (2029)
A48: 1.2.1. | B48: ='III skyrius'!C10 -> Turizmo objektų patrauklumo gerinimas | J48: ='III skyrius'!J10 -> 32111260 | K48: ='III skyrius'!K10 -> 26322091 | L48: ='III skyrius'!L10 -> 0 | M48: =J48-K48 -> 5789169 | N48: 0 | O48: 0 | P48: 0 | Q48: 0 | R48: 0 | S48: 0 | T48: 0 | U48: 0
C49: =C45 -> R.S.2.3523 | D49: =D45 -> 0 | E49: Miestai, kuriuose įrengta ar modernizuota oro monitoringo infrastruktūra (skaičius) | F49: =F45 -> 0 | G49: 0 | H49: =H45 -> 0 | I49: =I45 -> 18950
F50: =F46 -> (2021) | H50: =H47 -> (2025) | I50: =I47 -> (2029)
C51: P.B.2.0039 | E51: Teritorijos, kurioms taikomos oro taršos stebėsenos sistemos, oro kokybės zonos, skaičius | F51: n.d. | G51: 0 | H51: n.d. | I51: ='IV skyrius III skirsnis'!O48 -> 80
I52: ='IV skyrius III skirsnis'!O49 -> (2029)
A53: {='II skyrius'!B19:B20} -> 1.3. | B53: {='II skyrius'!C19:C20} -> Didinti turizmo ir kultūros paslaugų prieinamumą | J53: =J58 -> 0 | K53: =K58 -> 0 | L53: =L58 -> 0 | M53: =M58 -> 0 | N53: =N58 -> 0 | O53: =O58 -> 0 | P53: =P58 -> 0 | Q53: =Q58 -> 0 | ... U53: =U58 -> 0
A54: 0 | B54: 0
C55: RCR95 / R.B.2.2095 | E55: Gyventojai, galintys naudotis nauja ar patobulinta žaliąja infrastruktūra (asmenys) | F55: ='II skyrius'!G19 -> 0 | G55: 0 | H55: ='II skyrius'!H19 -> 0 | I55: ='II skyrius'!I19 -> 215.9945
E56: 0 | F56: ='II skyrius'!G20 -> (2021)
F57: ='II skyrius'!G20 -> (2021) | H57: ='II skyrius'!H20 -> (2025) | I57: ='II skyrius'!I20 -> (2029)
A58: 1.3.1. | B58: ='III skyrius'!C11 -> Darnaus judumo skatinimas | J58: 0 | K58: 0 | L58: 0 | M58: 0 | N58: 0 | O58: 0 | P58: 0 | Q58: 0 | R58: 0 | S58: 0 | T58: 0 | U58: 0
A59: {='II skyrius'!B21:B22} -> 0 | B59: {='II skyrius'!C21:C22} -> 0 | J59: =J69 -> 54354593 | K59: =K69 -> 35937905 | L59: =L69 -> 0 | M59: =M69 -> 18416687 | N59: =N69 -> 0 | O59: =O69 -> 0 | P59: =P69 -> 0 | Q59: =Q69 -> 0 | ... U59: =U69 -> 0
A60: 0 | B60: 0
C63: {='IV skyrius VI skirsnis'!C14:D15} -> R.B.2.2052 | D63: 0 | E63: Dviračiams skirtos infrastruktūros naudotojų skaičius per metus (naudotojai per metus) | F63: ='II skyrius'!G21 -> 0 | G63: 0 | H63: ='II skyrius'!H21 -> 0 | I63: ='II skyrius'!I21 -> 18750
C64: 0 | D64: 0 | F64: {='II skyrius'!G22:G22} -> (2020)
F65: ='II skyrius'!G22 -> (2020) | H65: ='II skyrius'!H22 -> (2025) | I65: ='II skyrius'!I22 -> (2029)
C66: R.B.2.2062 | E66: Naujo ar modernizuoto viešojo transporto naudotojų skaičius per metus (naudotojai per metus) | F66: ='II skyrius'!#REF! -> #REF! | G66: 0 | H66: ='II skyrius'!#REF! -> #REF! | I66: ='II skyrius'!#REF! -> #REF!
E67: 0 | F67: ='II skyrius'!#REF! -> #REF!
F68: ='II skyrius'!#REF! -> #REF! | H68: ='II skyrius'!#REF! -> #REF! | I68: ='II skyrius'!#REF! -> #REF!
A69: 1.4.1. | B69: ='III skyrius'!C12 -> Žaliosios ir kritinės infrastruktūros plėtra | J69: ='IV skyrius VI skirsnis'!I101 -> 54354593 | K69: ='IV skyrius VI skirsnis'!L101 -> 35937905 | L69: ='III skyrius'!L12 -> 0 | M69: =J69-K69 -> 18416687 | N69: 0 | O69: 0 | P69: 0 | Q69: 0 | R69: 0 | S69: 0 | T69: 0 | U69: 0
C70: =C63 -> R.B.2.2052 | D70: =D63 -> 0 | E70: Dviračiams skirtos infrastruktūros naudotojų skaičius per metus (naudotojai per metus) | F70: =F63 -> 0 | G70: 0 | H70: =H63 -> 0 | I70: =I63 -> 18750
F71: =F65 -> (2020) | H71: =H65 -> (2025) | I71: =I65 -> (2029)
C72: P.B.2.0058 | E72: Dviračiams skirta infrastruktūra, kuriai suteikta parama, kilometrai | F72: n.d. | G72: 0 | H72: n.d. | I72: ='IV skyrius VI skirsnis'!O45 -> 852512
I73: ='IV skyrius VI skirsnis'!O46 -> (2029)
C74: P.S.2.1035 | E74: Įgyvendintos darnaus judumo priemonės, skaičius | F74: n.d. | G74: 0 | H74: n.d. | I74: ='IV skyrius VI skirsnis'!#REF! -> #REF!
I75: ='IV skyrius VI skirsnis'!#REF! -> #REF!
A76: {='II skyrius'!B25:B48} -> 2. | B76: {='II skyrius'!C25:C48} -> Kurti tvarią regiono aplinką | J76: =J146+J156+J179+J196+J219+J229+J275 -> #REF! | K76: =K146+K156+K179+K196+K219+K229+K275 -> #REF! | L76: =L146+L156+L179+L196+L219+L229+L275 -> #REF! | M76: =M146+M156+M179+M196+M219+M229+M275 -> #REF! | N76: =N146+N156+N179+N196+N219+N229+N275 -> 0 | O76: =O146+O156+O179+O196+O219+O229+O275 -> 0 | P76: =P146+P156+P179+P196+P219+P229+P275 -> 0 | Q76: =Q146+Q156+Q179+Q196+Q219+Q229+Q275 -> 0 | ... U76: =U146+U156+U179+U196+U219+U229+U275 -> 0
A77: 0 | B77: 0
A78: 0 | B78: 0
A79: 0 | B79: 0
A80: 0 | B80: 0
A81: 0 | B81: 0
A82: 0 | B82: 0
A83: 0 | B83: 0
A84: 0 | B84: 0
A85: 0 | B85: 0
A86: 0 | B86: 0
A87: 0 | B87: 0
A88: 0 | B88: 0
... A99: 0 | B99: 0
C104: – | E104: Gyventojų užimtumo lygis (15–64 metų) | vidutiniai skirtumai tarp regiono savivaldybių (standartinis nuokrypis) | F104: ='II skyrius'!G25 -> 1.3 | G104: 7.17 | H104: ='II skyrius'!H25 -> 1.3 | I104: ='II skyrius'!I25 -> 1.25
E105: 0 | F105: ='II skyrius'!G26 -> (2018-2019)
F106: ='II skyrius'!G26 -> (2018-2019) | G106: (2022) | H106: ='II skyrius'!H26 -> (2025) | I106: ='II skyrius'!I26 -> (2029)
C107: – | E107: Pridėtinė vertė gamybos sąnaudomis pagal veiklos vykdymo vietą (nefinansinių įmonių), tenkanti vienam dirbančiajam per metus (tūkst. Eur) | F107: ='II skyrius'!G27 -> 21 | G107: 29.6 | H107: ='II skyrius'!H27 -> 21 | I107: ='II skyrius'!I27 -> 14
E108: 0 | F108: ='II skyrius'!G28 -> (2020)
F109: ='II skyrius'!G28 -> (2020) | G109: (2022) | H109: ='II skyrius'!H28 -> (2025) | I109: ='II skyrius'!I28 -> (2029)
C110: – | E110: Asmenys, patiriantys skurdo riziką ar socialinę atskirtį (procentai) | F110: ='II skyrius'!G29 -> 76.1 | G110: 23.8 | H110: ='II skyrius'!H29 -> 76.1 | I110: ='II skyrius'!I29 -> 79
E111: 0 | F111: ='II skyrius'!G30 -> (2020)
F112: ='II skyrius'!G30 -> (2020) | G112: (2022) | H112: ='II skyrius'!H30 -> (2025) | I112: ='II skyrius'!I30 -> (2029)
C113: – | E113: Gyventojų, aprūpinamų geriamojo vandens tiekimo paslaugomis, dalis, palyginti su visais gyventojais (procentai) | F113: ='II skyrius'!G31 -> 70.3 | G113: 89 | H113: ='II skyrius'!H31 -> 70.3 | I113: ='II skyrius'!I31 -> 76
E114: 0 | F114: ='II skyrius'!G32 -> (2020)
F115: ='II skyrius'!G32 -> (2020) | G115: (2022) | H115: ='II skyrius'!H32 -> (2025) | I115: ='II skyrius'!I32 -> (2029)
C116: – | E116: Gyventojų, aprūpinamų centralizuotai teikiamomis nuotekų tvarkymo paslaugomis, dalis, palyginti su visais gyventojais (procentai) | F116: ='II skyrius'!G39 -> 1.06 | G116: 84 | H116: ='II skyrius'!H39 -> 1.06 | I116: ='II skyrius'!I39 -> 1.02
E117: 0 | F117: ='II skyrius'!G40 -> (2021)
F118: ='II skyrius'!G40 -> (2021) | G118: (2022) | H118: ='II skyrius'!H40 -> (2025) | I118: ='II skyrius'!I40 -> (2029)
C119: – | E119: Patenkintas socialinio būsto poreikis nuo tokią teisę turinčių asmenų (šeimų) skaičiaus (procentai) | F119: ='II skyrius'!G41 -> 85 | G119: 63 | H119: ='II skyrius'!H41 -> 85 | I119: ='II skyrius'!I41 -> 83
E120: 0 | F120: ='II skyrius'!G42 -> (2019)
F121: ='II skyrius'!G42 -> (2019) | G121: (2022) | H121: ='II skyrius'!H42 -> (2025) | I121: ='II skyrius'!I42 -> (2029)
C122: – | E122: Socialines paslaugas gaunančių tikslinės grupės asmenų dalis nuo bendro su skurdo rizika ar socialine atskirtimi susiduriančių gyventojų skaičiaus (procentai) | F122: ='II skyrius'!G43 -> 0.15 | G122: 24 | H122: ='II skyrius'!H43 -> 0.15 | I122: ='II skyrius'!I43 -> 0.14
E123: 0 | F123: ='II skyrius'!G44 -> (2020) | G123: (2020)
F124: ='II skyrius'!G44 -> (2020) | G124: (2020) | H124: ='II skyrius'!H44 -> (2025) | I124: ='II skyrius'!I44 -> (2029)
C125: – | E125: Prevencinėmis priemonėmis išvengiamas mirtingumas (standartizuotas) (mirusiųjų skaičius 100 tūkst. gyventojų) | F125: ='II skyrius'!G45 -> 50 | G125: 263.09 | H125: ='II skyrius'!H45 -> 50 | I125: ='II skyrius'!I45 -> 44
...

Sheet 2 lentelė
A2: 2 lentelė. Išankstinių sąlygų įgyvendinimo rezultatai
A3: Nr. | B3: Tikslas, uždavinys, priemonė1 | C3: Išankstinės sąlygos2 | D3: Išankstinių sąlygų įgyvendinimas3
A5: 1 | B5: 2 | C5: 2 | D5: 3
A6: ='1 lentelė'!A12 -> 1. | B6: ='1 lentelė'!B12 -> Išnaudoti ekonominį regiono potencialą ir sudaryti sąlygas kurti naujas darbo vietas | C6: Veiklų atitiktis patvirtintiems regioniniams ir (ar) savivaldybių atliekų prevencijos ir tvarkymo planams, parengtiems Valstybiniam atliekų prevencijos ir tvarkymo 2021–2027 m. planui įgyvendinti. | D6: Išankstinė sąlyga neįgyvendinta. Kauno regiono atliekų prevencijos ir tvarkymo 2021–2027 m. planas patvirtintas 2023 m. liepos 4 d. Kauno regiono plėtros tarybos sprendimu Nr. 6KS-29. Planuojama laikantis 2022–2030 metų regionų plėtros programos įgyvendinimo priežiūros plane nustatytų terminų parengti ir patvirtinti pažangos priemonės aprašą, kuriame veiklos bus suplanuotos atsižvelgiant į Kauno regiono atliekų prevencijos ir tvarkymo 2021–2027 m. planą, siekiant įgyvendinti išankstinę sąlygą.
C7: Miestams, turintiems daugiau kaip 20 000 gyventojų, parengti ir patvirtinti žalinimo planai pagal aplinkos ministro patvirtintą metodiką žalinimo planams rengti. Kitoms urbanizuotoms vietovėms parengti ir patvirtinti žaliosios infrastruktūros poreikio žemėlapiai pagal aplinkos ministro patvirtintą metodiką žaliosios infrastruktūros poreikio žemėlapių sudarymui. | D7: Išankstinė sąlyga neįgyvendinta. Vadovaujantis Regioninės pažangos priemonės 02-001-06-08-02 (RE) „Plėtoti žaliąją infrastruktūrą urbanizuotoje aplinkoje“ finansavimo gairių, patvirtintų Lietuvos Respublikos aplinkos ministro 2023 m. lapkričio 3 d. įsakymu Nr. D1-361 „Dėl Regioninės pažangos priemonės 02-001-06-08-02 (RE) „Plėtoti žaliąją infrastruktūrą urbanizuotoje aplinkoje“ finansavimo gairių patvirtinimo“, 2.12.1 papunkčiu, išankstinių sąlygų įgyvendinimą įrodančius dokumentus pareiškėjas turi pateikti administruojančiajai institucijai kartu su projekto įgyvendinimo planu. Planuojama laikantis 2022–2030 metų regionų plėtros programos įgyvendinimo priežiūros plane nustatytų terminų parengti ir patvirtinti pažangos priemonės aprašą.
C8: Projektai įgyvendinami urbanizuotose teritorijose, kurių gyventojų tankis yra 1500 gyventojų/km2 arba didesnis ir kurių gamtinių ir antropogeninių plotų santykis yra mažesnis nei 1,5 (t. y. neatitinka optimalaus Lietuvos teritorijos žemės naudmenų plotų santykio, kurį sudaro 60 proc. natūralios naudmenos ir 40 proc. intensyvaus naudojimo antropogeninės naudmenos) taip, kaip numatyta žalinimo planuose ar žaliosios infrastruktūros poreikio žemėlapiuose. Į mažesnio nei 1500/km2 gyventojų tankumo teritoriją gali patekti ne daugiau kaip 20 proc. tvarkomos teritorijos. | D8: Visi šios išankstinės sąlygos reikalavimai nustatyti projektų lygmeniu.
C9: Projektai įgyvendinami urbanizuotose teritorijose, kurių gyventojų tankis didesnis kaip 300 gyventojų/km2 ir aplinkinėje teritorijoje (iki 2 km). Rekultivuota žemė naudojama želdynų ir želdinių įrengimui, socialiniams būstams, ūkinei, kultūrinei, sporto ar bendruomeninei veiklai. | D9: 2022–2030 m. Kauno regiono plėtros plane neplanuojama priemonė, kuriai taikoma ši išankstinė sąlyga.
C10: Savivaldybės tarybos patvirtinta Bendrųjų savivaldybių aplinkos monitoringo nuostatų reikalavimus atitinkanti savivaldybės aplinkos (oro) monitoringo programa kietųjų dalelių KD2,5 koncentracijos aplinkos ore matavimams ir kitų oro teršalų (kai reikia) koncentracijos aplinkos ore matavimams, su Aplinkos apsaugos agentūros derinimo išvada, kad matavimų, atliktų pagal programoje kietųjų dalelių KD2,5 matavimams nustatytas sąlygas duomenys bus tinkami naudoti valstybinio aplinkos monitoringo tikslams. | D10: Išankstinė sąlyga neįgyvendinta. Vadovaujantis Regioninės pažangos priemonės Nr. 02-001-06-11-02 (RE) „Stiprinti savivaldybių aplinkos oro monitoringą“ finansavimo gairių, patvirtintų Lietuvos Respublikos aplinkos ministro 2023 m. rugpjūčio 4 d. įsakymu Nr. D1-272 „Dėl Regioninės pažangos priemonės Nr. 02-001-06-11-02 (RE) „Stiprinti savivaldybių aplinkos oro monitoringą“ finansavimo gairių patvirtinimo“, 2.4.1 papunkčiu, išankstinių sąlygų įgyvendinimą įrodančią informaciją pareiškėjas turi pateikti administruojančiajai institucijai kartu su projekto įgyvendinimo planu. Jonavos rajono savivaldybės taryba 2020 m. lapkričio 26 d. sprendimu Nr. 1TS-199 yra patvirtinusi Jonavos rajono savivaldybės aplinkos monitoringo 2021–2026 metų programą ir Pienų rajono savivaldybės taryba 2022 m. gegužės 26 d. sprendimu Nr. T3-199 yra patvirtinusi Prienų rajono savivaldybės aplinkos monitoringo 2023–2028 metų programą. Patvirtintas 2022–2030 m. Kauno regiono plėtros plano pažangos priemonės Nr. LT022-01-02-01 „Aplinkos oro monitoringo stiprinimas“ pagrindimo aprašas parengtas atsižvelgiant į šias programas, tačiau vadovaujantis VšĮ Centrinės projektų valdymo agentūros išaiškinimu4, savivaldybės kartu su projekto įgyvendinimo planu turės pateikti naują Aplinkos apsaugos agentūros teigiamą derinimo išvadą dėl matavimų duomenų tinkamumo naudoti valstybinio aplinkos (oro) monitoringo tikslams. Remiantis pažangos priemonės informacija apie planuojamą projektų įgyvendinimo pradžios datas, planuojama, kad išankstinė sąlyga bus įgyvendinta iki 2024 m. gruodžio 31 d.
C11: Savivaldybės tarybos patvirtintas darnaus judumo mieste planas, kurio parengimas finansuotas 2014–2020 m. ES fondų lėšomis. | D11: Lietuvos Respublikos susisiekimo ministerijos susisiekimo plėtros programos regioninės pažangos priemonės Nr. 10-001-06-01-03 (RE) „Skatinti darnų judumą miestuose“ finansavimo gairėse aiškiai nenurodyti išankstinių sąlygų įgyvendinimą detalizuojantys reikalavimai. Teikiame bendrąją informaciją apie išankstinės sąlygos įgyvendimą: 2022–2030 m. Kauno regiono plėtros plane suplanuoti pažangos priemonės Nr. LT022-01-04-01 „Darnaus judumo miestuose skatinimas“ projektai šiuo metu atitinka arba projektų įgyvendinimo planų teikimo įgyvendinančiajai institucijai (VšĮ Centrinei projektų valdymo agentūrai) metu atitiks šiuos darnaus judumo planus, kurių parengimas finansuotas 2014–2020 m. ES fondų lėšomis: ➢ Darnaus judumo Birštono mieste planas; ➢ Kauno miesto darnaus judumo planas; ➢ Kėdainių miesto darnaus judumo planas; ➢ Jonavos miesto darnaus judumo planas. Patvirtintas 2022–2030 m. Kauno regiono plėtros plano pažangos priemonės Nr. LT022-01-04-01 „Darnaus judumo miestuose skatinimas“ pagrindimo aprašas parengtas atsižvelgiant į šiuos patvirtinus darnaus judumo planus.
C12: Pagal Lietuvos Respublikos alternatyviųjų degalų įstatymo nuostatas parengtas ir patvirtintas viešųjų ir pusiau viešųjų elektromobilių įkrovimo prieigų vietinės reikšmės keliuose planas iki 2030 m. | D12: 2022–2030 m. Kauno regiono plėtros plane neplanuojama priemonės veikla, kuriai taikoma ši išankstinė sąlyga.
A13: ='1 lentelė'!A76 -> 2. | B13: ='1 lentelė'!B76 -> Kurti tvarią regiono aplinką | C13: Patvirtintos teritorinės strategijos, atitinkančios Europos Parlamento ir Tarybos reglamento (ES) 2021/1060, kuriuo nustatomos bendros Europos regioninės plėtros fondo, „Europos socialinio fondo +“, Sanglaudos fondo, Teisingos pertvarkos fondo ir Europos jūrų reikalų, žvejybos ir akvakultūros fondo nuostatos ir šių fondų bei Prieglobsčio, migracijos ir integracijos fondo, Vidaus saugumo fondo ir Sienų valdymo ir vizų politikos finansinės paramos priemonės taisyklės (Bendrųjų nuostatų reglamento), 29 straipsnio reikalavimus ir patvirtintose regionų plėtros planų pažangos priemonėse yra numatytos veiklos šioms strategijoms įgyvendinti. | D13: Išankstinė sąlyga neįgyvendinta. Už Kauno regiono funkcinės zonos strategijos parengimą atsakinga VšĮ Kauno regiono plėtros agentūra, už Kauno miesto tvarios plėtros strategijos parengimą atsakingos Kauno miesto savivaldybė bei Kauno rajono savivaldybė. Planuojama laikantis 2022–2030 metų regionų plėtros programos įgyvendinimo priežiūros plane nustatytų terminų parengti ir patvirtinti pažangos priemonės aprašą.
C14: Projekto veiklų atitiktis geriamojo vandens tiekimo ir nuotekų tvarkymo infrastruktūros plėtros planui. | D14: Visi šios išankstinės sąlygos reikalavimai nustatyti projektų lygmeniu.
C15: Patvirtintose regionų plėtros planų pažangos priemonėse numatytos veiklos, skirtos socialinio būsto prieinamumui didinti, ir investicijomis užtikrinamas socialinio būsto prieinamumas neįgaliesiems bei gausioms šeimoms. | D15: Išankstinė sąlyga įgyvendinta. Į planą įtraukti projektai, kurių tikslinė grupė yra neįgalieji ir (ar) gausios šeimos ir jie yra regiono savivaldybių sudarytuose asmenų ir šeimų, turinčių teisę į socialinio būsto nuomą, sąrašuose. Pažangos priemone yra numatytos veiklos, skirtos socialinio būsto prieinamumui didinti ir pažangos priemonės apraše (plano IV skyriaus V skirsnyje) yra pateiktas sąrašas projektų, kuriais kuriamas socialinis būstas, skirtas asmenims su negalia ir (ar) gausioms šeimoms.
C16: Patvirtintose regionų plėtros planų pažangos priemonėse numatytos veiklos, skirtos institucinės globos pertvarkai įgyvendinti, ir iki 2022 m. liepos 1 d. yra parengti ir suderinti su Socialinės apsaugos ir darbo ministerija regioniniai socialinių paslaugų ir socialinių paslaugų infrastruktūros, reikalingos institucinės globos pertvarkai įgyvendinti, žemėlapiai. | D16: Išankstinė sąlyga įgyvendinta iš dalies. Lietuvos Respublikos socialinės apsaugos ir darbo ministerijos parengtas Perėjimo nuo institucinės globos prie šeimoje ir bendruomenėje teikiamų paslaugų Kauno regiono žemėlapis suderintas 2022 m. birželio 22 d. Planuojama laikantis 2022–2030 metų regionų plėtros programos įgyvendinimo priežiūros plane nustatytų terminų parengti ir patvirtinti pažangos priemonės aprašą.
C17: Patvirtintose regionų plėtros planų pažangos priemonėse numatytos veiklos, skirtos kokybiškų visuomenės sveikatos priežiūros paslaugų prieinamumui didinti, yra pagrįstos mokslo įrodymais, pripažinta gerąja praktika ar tarptautiniais standartais, pagal Sveikatos apsaugos ministerijos pateiktas rekomendacijas (metodiką). | D17: Tai, ar išankstinė sąlyga įvykdyta pagal Regioninės pažangos priemonės Nr. 11-001-02-10-03 (RE) „Gerinti kokybiškų visuomenės sveikatos paslaugų prieinamumą regionuose“ finansavimo gairių 2.1 dalyje nustatytus reikalavimus, nustato projektų, kuriais įgyvendinamos regionų plėtros plano pažangos priemonės, administruojančioji institucija, PAFT nustatyta tvarka vertindama projekto įgyvendinimo planą. Planuojama laikantis 2022–2030 metų regionų plėtros programos įgyvendinimo priežiūros plane nustatytų terminų parengti ir patvirtinti pažangos priemonės aprašą.
C18: Patvirtintose regionų plėtros planų pažangos priemonėse numatytos veiklos, skirtos ilgalaikės priežiūros paslaugų plėtrai savivaldybėse, ir iki 2023 m. IV ketv. su Sveikatos apsaugos ministerija suderinti regiono ilgalaikės priežiūros paslaugų savivaldybėse organizavimo ir infrastruktūros, reikalingos ilgalaikės priežiūros paslaugų teikimui, modernizavimo žemėlapiai. | D18: Išankstinė sąlyga neįgyvendinta. Regioninės pažangos priemonės Nr. 11-002-02-11-02 (RE) „Užtikrinti ilgalaikės priežiūros paslaugų plėtrą“ finansavimo gairės, kuriose buvo nustatyti metodiniai reikalavimai žemėlapio parengimui, buvo patvirtintos tik 2023 m. lapkričio 6 d. Pažangos priemonės aprašą kartu su regiono ilgalaikės priežiūros paslaugų savivaldybėse organizavimo ir infrastruktūros, reikalingos ilgalaikės priežiūros paslaugų teikimui, modernizavimo žemėlapiu planuojama parengti, suderinti su Lietuvos Respublikos sveikatos apsaugos ministerija ir patvirtinti laikantis 2022–2030 metų regionų plėtros programos įgyvendinimo priežiūros plane nustatytų terminų.
C19: Pagal Juodųjų dėmių nustatymo, tyrimo ir šalinimo reikalavimų ir tvarkos aprašą, patvirtintą Lietuvos Respublikos susisiekimo ministro 2022 m. sausio 27 d. įsakymu Nr.3 51 „Dėl Juodųjų dėmių nustatymo, tyrimo ir šalinimo reikalavimų ir tvarkos aprašo patvirtinimo“, nustatytos juodosios dėmės ir avaringos vietos vietinės reikšmės keliuose ir gatvėse. | D19: Visi šios išankstinės sąlygos reikalavimai nustatyti projektų lygmeniu.
A20: Pastaba. Lentelėje laukai pilkame fone nevertinami laikantis formos reikalavimų, taip pat nes konkrečių išankstinių sąlygų reikalavimai nustatyti tik projektų lygmeniu arba neplanuojamos įgyvendinti priemonės ar veiklos, kurioms taikomos konkrečios išankstinės sąlygos (informacija pateikiama dėl sisteminio aiškumo).
A21: 1 2022–2030 m. Kauno regiono plėtros planas buvo parengtas pagal Strateginio valdymo metodikos, patvirtintos Lietuvos Respublikos Vyriausybės 2021 m. balandžio 28 d. nutarimu Nr. 292 „Dėl strateginio valdymo metodikos patvirtinimo“, 7 priede pateiktą regiono plėtros plano formą, kurioje nurodyta, kad išankstinės sąlygos, nustatytos Regionų plėtros programoje, yra nurodomos tik prie regiono plėtros plano tikslo, o ne uždavinio ar priemonės. Dėl šios priežasties lentelėje pateikiama informacija tik apie tikslus ir jiems priskirtas išankstines sąlygas.
A22: 2 Stulpelyje nurodomos tik Regionų plėtros programoje nustatytos išankstinės sąlygos (strategijų, planų, žemėlapių ar kitų dokumentų, tvirtinamų kompetentingų institucijų, parengimas), išskyrus atvejus, kai visi išankstinių sąlygų reikalavimai nustatyti projekto lygmeniu.
A23: 3 Stulpelyje nurodoma, ar išankstinės sąlygos įgyvendintos. Jei sąlygos neįgyvendintos, nurodoma įgyvendinimo eiga, priežastys, kodėl neįgyvendinta, ir terminai, kada planuojama sąlygas įgyvendinti. Papildomai atkreipiamas dėmesys, kad Regioninės pažangos priemonės finansavimo gairių formoje, patvirtintoje Lietuvos Respublikos finansų ministro įsakymu (https://www.e-tar.lt/portal/lt/legalAct/14e33320f1ed11ec8fa7d02a65c371ad/asr) detalizuojama, kad kiekvienos regioninės pažangos priemonės finansavimo gairėse „nurodomi išankstinių sąlygų įgyvendinimą detalizuojantys reikalavimai (išankstinių sąlygų įgyvendinimui taikytinos metodikos, žemėlapių formos ir pan.) (jeigu reikia), detalizuojama, kaip ir kuriuo metu turi būti įgyvendinta kiekviena išankstinė sąlyga, aiškiai nurodomi kriterijai, kada išankstinė sąlyga laikoma įgyvendinta;“. Šioje dalyje vertinimas pateikiamas atsižvelgiant į šią nuostatą.
A24: 4 Prieiga per internetą: https://www.esinvesticijos.lt/igyvendinimas-1/duk-1

Sheet 3 lentelė
A6: 3 lentelė. Regiono problemos ir jų giluminės priežastys
A7: Prašome nurodyti, ar Regionų plėtros programoje suplanuotos pažangos lėšos leidžia spręsti visas regiono problemas ir jų gilumines priežastis. Jei ne – nurodykite nesprendžiamas problemas ar sprendžiamas ne visa apimtimi, taip pat regiono plėtros plane neidentifikuotas, tačiau atsiradusias naujas problemas ir jų gilumines priežastis, pagrindžiant esamos situacijos duomenimis (analize).
A8: Regionų plėtros programoje suplanuotomis pažangos lėšomis nesprendžiamos arba ne visa apimtimi sprendžiamos regiono problemos ir jų giluminės priežastys:
A9: 1. Problema. Poveikis klimato kaitai ir nepakankamas atsparumas klimato kaitos poveikiui. Lėšų poreikis1 – 33 400 000 Eur. Šios ne visa apimtimi sprendžiamos problemos ir priežasties Nr. 1.1. „Netvari susisiekimo sistema“ pagrindimas esamos situacijos duomenimis (analize) pateiktas 2022–2030 m. Kauno regiono plėtros plano I skyriuje „Regiono plėtros plano teritorinė aprėptis ir regiono esamos situacijos analizė“.
A10: 1.1. Priežastis. Netvari susisiekimo sistema. Lėšų poreikis – 8 900 000 Eur. Regioninės pažangos priemonės Nr. 10-001-06-01-03 (RE) „Skatinti darnų judumą miestuose“ finansavimo gairės2 apriboja tiek veiklas galinčių vykdyti savivaldybių skaičių (veiklas gali vykyti tik tos savivaldybės, kurių darnaus judumo mieste planų parengimas finansuotas 2014–2020 m. ES fondų lėšomis), tiek veiklų teritoriją. Regiono savivaldybės identifikuoja poreikį diegti darnaus judumo priemones ne tik miestų teritorijose, bet ir už jų ribų, siekiant užtikrinti kaimiškųjų teritorijų darnų ir saugios susisiekimo infrastruktūros vystymą, investuojant į saugių jungčių dviračių-pėsčiųjų takais su miesto teritorija ir kaimyninėmis savivaldybėmis įrengimą, įrengiant saugias autobusų stoteles, prieigas prie paslaugas teikiančių įstaigų taikant universalaus dizaino principus ir pan.
A11: 1.2. Priežastis. Nepakankamas viešųjų pastatų, daugiabučių namų ir jų inžinerinių sistemų energinis efektyvumas. Lėšų poreikis – 24 500 000 Eur. Atlikus regiono savivaldybių pateiktos informacijos analizę buvo nustatyta nauja problemos giluminė priežastis susijusi su nepakankamu energiniu pastatų efektyvumu, kuri visiškai neprendžiama Regionų plėtros programoje suplanuotomis pažangos lėšomis. Atsižvelgiant į tai, kad dėl duomenų trūkumo nėra galimybės atlikti esamos situacijos analizės savivaldybių ar regionų pjūviais, žemiau pateikiami priežastį pagrindžiantys duomenys nacionaliniu lygiu. Daugiabučių namų atnaujinimo (modernizavimo) programos3 duomenimis, Lietuvoje apie 60 procentų daugiabučių namų pastatyti per praėjusio šimtmečio paskutinius keturis dešimtmečius, kai vyravo plytinių ir stambiaplokščių tipinių daugiabučių namų statyba. Šių namų išorinių atitvarų šiluminės varžos charakteristikos prastos, neatitinka esamų normatyvinių reikalavimų ir artimesnių šiaurės kaimynų (Skandinavijos valstybių) praktikos. Šiluminės energijos projektinės sąnaudos, išreikštos kilovatvalandėmis patalpų naudingojo ploto vienam kvadratiniam metrui, šiuose namuose – 160–180 kWh/m² per metus, o naujos statybos namuose, statytuose po 1993 metų, – 80–90 kWh/m² per metus. Šiluminės energijos sąnaudos daugiabučiuose namuose, pastatyuose pagal galiojusius iki 1993 metų statybos techninius normatyvus – apie 5 000 GWh per metus (apskaičiuota pagal pastarųjų trejų metų šiluminės energijos suvartojimo statistikos duomenis). Valstybės įmonės Registrų centro duomenimis, 2014 m. sausio 1 d. Nekilnojamojo turto registre įregistruoti 13 123 viešieji pastatai, kurie nuosavybės teise priklauso valstybei ir savivaldybėms. Apie 7 600 pastatų (8,9 mln. kv. metrų) nuosavybės teise priklauso savivaldybėms. Viešųjų pastatų energinio efektyvumo didinimo programos4 duomenimis, apytiksliai 89 procentai šių pastatų pastatyti 1900–1990 metais, kai vyravo plytinių ir stambiaplokščių pastatų statyba. Šie pastatai neatitinka dabar galiojančių pastatams keliamų energijos vartojimo efektyvumo reikalavimų, jiems šildyti per metus vidutiniškai suvartojama apie 2 300 GWh šilumos energijos. Tokie pastatai priskiriami D, E, F ir G pastato energinio naudingumo klasėms, o šilumos energijos sąnaudos, išreikštos kilovatvalandėmis 1 kv. metrui patalpų naudingojo ploto, juose – nuo 160–610 kWh/m2 per metus. Dėl menko viešųjų pastatų energijos vartojimo efektyvumo ir didelių jų priežiūros ir eksploatavimo sąnaudų šiuo metu teikiamų viešųjų paslaugų savikaina atitinkamai didesnė.
A12: 2. Problema. Neužtikrinama socialinė gerovė ir tolygus užimtumas. Lėšų poreikis – 89 808 600 Eur. Šios ne visa apimtimi sprendžiamos problemos ir jos priežasčių pagrindimas esamos situacijos duomenimis (analize) pateiktas 2022–2030 m. Kauno regiono plėtros plano I skyriuje „Regiono plėtros plano teritorinė aprėptis ir regiono esamos situacijos analizė“.
A13: 2.1. Priežastis. Neužtikrinamas darbo vietų ir paslaugų pasiekiamumas. Lėšų poreikis – 48 500 000 Eur. Regioninės pažangos priemonės 01-004-07-02-01 (RE) „Pagerinti viešųjų paslaugų prieinamumą, darbo vietų pasiekiamumą ir tam reikalingų išteklių naudojimo efektyvumą“ finansavimo gairės5 nenumato galimybės finansuoti, naujų lankytinų objektų kūrimo, kurie formuotų papildomų turistų trauką į savivaldybę, Kauno regioną. Taip pat, atsižvelgiant į regiono savivaldybių identifikuotą poreikį atnaujinti ir plėsti sporto bazių infrastruktūrą, nustatytas investicijų trūkumas projektų įgyvendinimui visa apimtimi.
A14: 2.2. Priežastis. Neužtikrinamas gyventojų saugumas keliuose. Lėšų poreikis – 20 700 000 Eur. Regioninės pažangos priemonės Nr. 10-001-05-03-07 (RE) „Gerinti eismo saugą vietinės reikšmės keliuose ir gatvėse“ finansavimo gairių6 reikalavimai dėl pagal Juodųjų dėmių nustatymo tvarkos aprašą identifikuotų juodųjų dėmių nesudarė galimybių visa apimtimi pašalinti nužtikrinto gyventojų saugumo regiono keliuose priežastį. Regiono savivaldybės nurodo, kad tiek miestų, tiek kaimiškųjų vietovių susisiekimo infrastruktūra yra pasenusi, dangos susidėvėjusios, neatitinka keliamų šiuolaikinių eismo saugumo reikalavimų. Tai lemia eismo įvykių, juose sužalotų asmenų skaičiaus augimą, didesnę taršą, regiono patrauklumo investuotojams ir turistams mažėjimą. Siekiant užtikrinti eismo saugą būtina investuoti į susisiekimo infrastruktūros atnaujinimą bei plėtrą.
A15: 2.3. Priežastis. Ne visiems prieinamos švietimo paslaugos. Lėšų poreikis – 16 508 600 Eur. Lietuvos Respublikos švietimo, mokslo ir sporto ministerijai į gaires įtraukus papildomus privalomus reikalavimus projektams, investicijų poreikis regione išaugo. Taip pat, Regioninės pažangos priemonės Nr. 12-003-03-01-23 (RE) „Padidinti ugdymo prieinamumą atskirtį patiriantiems vaikams“ finansavimo gairių7 ir Regioninės pažangos priemonės Nr. 12-003-03-02-17 (RE) „Plėtoti įvairialypį švietimą vykdant visos dienos mokyklų veiklą“ finansavimo gairių8 finansavimo sąlygos nenumato galimybės finansuoti ugdymo įstaigų pastatų modernizavimo, naujų bendrojo ugdymo pastatų ar priestatų statybos veiklų. Šių veiklų finansavimas sudarytų galimybes kompleksiškai pašalinti regione identifikuotą problemos priežastį dėl ne visiems prieinamų švietimo paslaugų.
A16: 2.4. Priežastis. Gyventojų lūkesčių neatliepiančios geriamojo vandens tiekimo ir nuotekų tvarkymo paslaugos. Lėšų poreikis – 4 100 000 Eur. Regioninės pažangos priemonės Nr. 02-001-06-07-02 (RE) „Didinti geriamojo vandens tiekimo ir nuotekų tvarkymo paslaugų prieinamumą“ finansavimo gairių9 finansavimo sąlygos nesudarė galimybės visoms regiono savivaldybėms vykdyti šios priemonės veiklas dėl nustatyto mažiausio (didžiausio) gyventojų skaičiaus gyvenamosiose vietovėse reikalavimo. Siekiant užtikrinti kokybišką ir nenutrūkstamą geriamojo vandens tiekimą ir nuotekų surinkimą visiems regiono gyventojams, reikalinga investuoti į esamos tiekimo ir surinkimo inžinerinės infrastruktūros atnaujinimą ir plėtrą, skaitmenizavimo sprendimų diegimą bei atsinaujinančių energijos šaltinių panaudojimą paslaugų teikimo procesuose visose regiono savivaldybėse.
A17: 1Kauno regiono savivaldybės lėšų poreikį pagrindė pagal įvykdytus viešuosius pirkimus panašiems darbams atlikti, parengtus investicijų arba techninius projektus.
... A25: 9Regioninės pažangos priemonės Nr. 02-001-06-07-02 (RE) „Didinti geriamojo vandens tiekimo ir nuotekų tvarkymo paslaugų prieinamumą“ finansavimo gairės, patvirtintos Lietuvos Respublikos aplinkos ministro 2023 m. liepos 21 d. įsakymu Nr. D1-243 „Dėl 2022–2030 metų plėtros programos valdytojos Lietuvos Respublikos aplinkos ministerijos aplinkos apsaugos ir klimato kaitos valdymo plėtros programos regioninės pažangos priemonės Nr. 02-001-06-07-02 (RE) „Didinti geriamojo vandens tiekimo ir nuotekų tvarkymo paslaugų prieinamumą“ finansavimo gairių patvirtinimo“.
