Workbook
Name _ftn1: 'II skyrius'!$B$31
Name _ftnref1: 'II skyrius'!#REF!

Sheet II skyrius
K2: PATVIRTINTA Šiaulių regiono plėtros tarybos 2023 m. vasario 8 d. sprendimu Nr. ŠR/TS-6 (2026 m. d. sprendimo Nr. TS- redakcija)
B4: II SKYRIUS
B5: REGIONO PLĖTROS TIKSLAI IR UŽDAVINIAI
B7: 2 lentelė. Regiono plėtros tikslai ir uždaviniai
B8: Eil. Nr. | C8: Regiono plėtros tikslai ir uždaviniai | E8: Stebėsenos rodiklio tipas | F8: Stebėsenos rodikliai | J8: Teritorijos naudojimo privalomosios nuostatos | K8: Išankstinės sąlygos
C9: Tikslų ir uždavinių pavadinimai | D9: Tikslų ir uždavinių kodai | F9: Rodiklio pavadinimas (matavimo vienetai) | G9: Pradinė reikšmė (metai) | H9: Tarpinė siektina reikšmė (metai) | I9: Galutinė siektina reikšmė
B10: 1 | C10: 2 | D10: 3 | E10: 4 | F10: 5 | G10: 6 | H10: 7 | I10: 8 | J10: 9 | K10: 10
B11: 1. | C11: Išnaudoti ekonominį regiono potencialą ir sudaryti sąlygas kurti naujas darbo vietas | D11: LT026-01 | E11: Poveikio | F11: Pridėtinė vertė gamybos sąnaudomis pagal veiklos vykdymo vietą (nefinansinių įmonių), tenkanti vienam dirbančiajam per metus | tūkst. Eur | G11: 16.8 | H11: 19.9 | I11: 24.5 | J11: LR teritorijos bendrojo plano privalomosios nuostatos (punktai): 20, 21, 23, 172-175, 195, 197, 198, 200-203, 204 | K11: Patvirtintos teritorinės strategijos, atitinkančios Europos Parlamento ir Tarybos reglamento (ES) 2021/1060, kuriuo nustatomos bendros Europos regioninės plėtros fondo, „Europos socialinio fondo +“, Sanglaudos fondo, Teisingos pertvarkos fondo ir Europos jūrų reikalų, žvejybos ir akvakultūros fondo nuostatos ir šių fondų bei Prieglobsčio, migracijos ir integracijos fondo, Vidaus saugumo fondo ir Sienų valdymo ir vizų politikos finansinės paramos priemonės taisyklės (Bendrųjų nuostatų reglamento), 29 straipsnio reikalavimus ir patvirtintose regionų plėtros planų pažangos priemonėse yra numatytos veiklos šioms strategijoms įgyvendinti.
G12: (2019) | H12: (2025) | I12: (2029)
E13: Poveikio | F13: Gyventojų užimtumo lygis (15–64 metų) | procentai | G13: 69.1 | H13: 70.4 | I13: 72.5
G14: (2020) | H14: (2025) | I14: (2029)
B15: 1.1. | C15: Sukurti ir modernizuoti trūkstamą pramoninių, komercinių ir kitų teritorijų infrastruktūrą | D15: LT026-01-01 | E15: Rezultato | F15: Sukurtos arba atkurtos teritorijos, naudojamos ekonominei, rekreacinei ar turizmo paskirčiai | hektarai | G15: 0 | H15: 0 | I15: ='IV skyrius IX skirsnis'!N12 -> 4.45
G16: (2021) | H16: (2025) | I16: (2029)
B17: 1.2. | C17: Sukurti palankią aplinką SVV steigimuisi per bendros infrastruktūros naudojimo iniciatyvas | D17: LT026-01-02 | E17: Rezultato | F17: Metinis konsoliduotų viešųjų paslaugų vartotojų skaičius | vartotojai per metus | G17: 0 | H17: 0 | I17: ='IV skyrius IX skirsnis'!N10 -> 18950
G18: (2021) | H18: (2025) | I18: (2029)
B19: 1.3. | C19: Didinti turizmo ir kultūros paslaugų prieinamumą | D19: LT026-01-03 | E19: Rezultato | F19: Sukurtos arba atkurtos teritorijos, naudojamos ekonominei, rekreacinei ar turizmo paskirčiai | hektarai | G19: 0 | H19: 0 | I19: ='IV skyrius X skirsnis'!N12 -> 215.9945
G20: (2021) | H20: (2025) | I20: (2029)
E21: Rezultato | F21: Metinis konsoliduotų viešųjų paslaugų vartotojų skaičius | vartotojai per metus | G21: 0 | H21: 0 | I21: ='IV skyrius X skirsnis'!N10 -> 18750
G22: (2020) | H22: (2025) | I22: (2029)
E23: Rezultato | F23: Dviračiams skirtos infrastruktūros metinis naudotojų skaičius | naudotojai per metus | G23: 0 | H23: 0 | I23: ='IV skyrius X skirsnis'!N14 -> 4800
G24: (2021) | H24: (2025) | I24: (2029)
B25: 2. | C25: Kurti tvarią regiono aplinką | D25: LT026-02 | E25: Poveikio | F25: Šiltnamio efektą sukeliančių dujų išmetimai 1 gyventojui - gyventojų kelionių įtaka (lengvųjų automobilių, motociklų, mopedų ir viešojo transporto naudojimas) | tonos | G25: 1.3 | H25: 1.3 | I25: 1.25 | J25: LR teritorijos bendrojo plano privalomosios nuostatos (punktai): 24, 25, 66, 77, 68-72, 210-217, 219-222, 224-227, 230, 236, 283-286, 295, 296, 306, 307, 309, 312-316, 323-331, 333-338, 344, 345, 347-349, 352, 353, 355-358, 359-363, 365, 366, 368-370, 372, 373, 396-400, 435-437 | K25: Šiaulių miesto darnaus judumo planas, patvirtintas Šiaulių miesto savivaldybės tarybos 2018 m. liepos 5 d. sprendimu Nr. T-264. Pagal Juodųjų dėmių nustatymo, tyrimo ir šalinimo reikalavimų ir tvarkos aprašą, patvirtintą Lietuvos Respublikos susisiekimo ministro 2022 m. sausio 27 d. įsakymu Nr.3-51 „Dėl Juodųjų dėmių nustatymo, tyrimo ir šalinimo reikalavimų ir tvarkos aprašo patvirtinimo“, nustatytos juodosios dėmės ir avaringos vietos vietinės reikšmės keliuose ir gatvėse. Pagal Lietuvos Respublikos alternatyviųjų degalų įstatymo nuostatas parengtas ir patvirtintas viešųjų ir pusiau viešųjų elektromobilių įkrovimo prieigų vietinės reikšmės keliuose planas iki 2030 m. Projekto veiklų atitiktis geriamojo vandens tiekimo ir nuotekų tvarkymo infrastruktūros plėtros planui. Projekto veiklų atitiktis patvirtintiems Nacionaliniam saugumui užtikrinti svarbių įmonių saugumo planams, parengtiems vadovaujantis Lietuvos Respublikos nacionaliniam saugumui užtikrinti svarbių objektų apsaugos įstatymo 15 straipsnio 2 dalimi. Miestams, turintiems daugiau kaip 20 000 gyventojų, parengti ir patvirtinti žalinimo planai pagal aplinkos ministro patvirtintą metodiką žalinimo planams rengti. Kitoms urbanizuotoms vietovėms parengti ir patvirtinti žaliosios infrastruktūros poreikio žemėlapiai pagal aplinkos ministro patvirtintą metodiką žaliosios infrastruktūros poreikio žemėlapių sudarymui. Projektai įgyvendinami urbanizuotose teritorijose, kurių gyventojų tankis yra 1500 gyventojų/km² arba didesnis ir kurių gamtinių ir antropogeninių plotų santykis yra mažesnis nei 1,5 (t. y. neatitinka optimalaus Lietuvos teritorijos žemės naudmenų plotų santykio, kurį sudaro 60 proc. natūralios naudmenos ir 40 proc. intensyvaus naudojimo antropogeninės naudmenos) taip, kaip numatyta žalinimo planuose ar žaliosios infrastruktūros poreikio žemėlapiuose. Į mažesnio nei 1500/km² gyventojų tankumo teritoriją gali patekti ne daugiau kaip 20 proc. tvarkomos teritorijos. Projektai įgyvendinami urbanizuotose teritorijose, kurių gyventojų tankis didesnis kaip 300 gyventojų/km² ir aplinkinėje teritorijoje (iki 2 km). Rekultivuota žemė naudojama želdynų ir želdinių įrengimui, socialiniams būstams, ūkinei, kultūrinei, sporto ar bendruomeninei veiklai. Veiklų atitiktis patvirtintiems regioniniams ir (ar) savivaldybių atliekų prevencijos ir tvarkymo planams, parengtiems Valstybiniam atliekų prevencijos ir tvarkymo 2021–2027 m. planui įgyvendinti. Savivaldybės tarybos patvirtinta Bendrųjų savivaldybių aplinkos monitoringo nuostatų reikalavimus atitinkanti savivaldybės aplinkos (oro) monitoringo programa kietųjų dalelių KD2,5 koncentracijos aplinkos ore matavimams ir kitų oro teršalų (kai reikia) koncentracijos aplinkos ore matavimams, su Aplinkos apsaugos agentūros derinimo išvada, kad matavimų, atliktų pagal programoje kietųjų dalelių KD2.5 matavimams nustatytas sąlygas duomenys bus tinkami naudoti valstybinio aplinkos monitoringo tikslams.
G26: (2018-2019) | H26: (2025) | I26: (2029)
E27: Poveikio | F27: Sąvartynuose šalinamų komunalinių atliekų dalis | procentai | G27: 21 | H27: 21 | I27: 14
G28: (2020) | H28: (2025) | I28: (2029)
E29: Poveikio | F29: Gyventojų, aprūpinamų geriamojo vandens tiekimo paslaugomis, dalis, palyginti su visais gyventojais | procentai | G29: 76.1 | H29: 76.1 | I29: 79
G30: (2020) | H30: (2025) | I30: (2029)
E31: Poveikio | F31: Gyventojų, aprūpinamų centralizuotai teikiamomis nuotekų tvarkymo paslaugomis, dalis, palyginti su visais gyventojais | procentai | G31: 70.3 | H31: 70.3 | I31: 76
G32: (2020) | H32: (2025) | I32: (2029)
E33: Poveikio | F33: Viešųjų geriamojo vandens tiekėjų vandenviečių, kuriose įgyvendintos apsaugos priemonės, dalis | procentai | G33: 0 | H33: - | I33: 50
G34: (2024) | H34: (2027) | I34: (2030)
E35: Poveikio | F35: Gyventojų, teigiamai vertinančių įstaigų pasirengimą ekstremalioms situacijoms dalis | procentai | G35: 23 | H35: - | I35: >23
G36: (2024) | H36: (2027) | I36: (2030)
E37: Poveikio | F37: Gyventojų, kuriems užtikrinta vieta iki 2 ar aukštesnio lygio modernizuotose priedangose, dalis | procentai | G37: 1.9 | H37: - | I37: >1,9
G38: (2025) | H38: (2027) | I38: (2030)
E39: Poveikio | F39: Nepralaidžių dangų ir žaliosios infrastruktūros plotų santykis 1500 gyv./km² ir didesnio tankumo teritorijoje | santykis, dešimtainė trupmena | G39: 1.06 | H39: 1.06 | I39: 1.02
G40: (2021) | H40: (2025) | I40: (2029)
E41: Poveikio | F41: Priešlaikinės mirtys, priskiriamos ilgalaikiam kietųjų dalelių KD2,5 poveikiui | mirusiųjų skaičius 100 tūkst. gyventojų | G41: 85 | H41: 85 | I41: 83
G42: (2019) | H42: (2025) | I42: (2029)
E43: Poveikio | F43: Potencialių taršos židinių tankumas 300 gyv./km² ir didesnio tankumo ir aplinkinėje teritorijoje (iki 2 km.) | vnt./km² | G43: 0.15 | H43: 0.15 | I43: 0.14
...

Sheet III skyrius
B2: III SKYRIUS
B3: REGIONO PLĖTROS PLANO PAŽANGOS PRIEMONĖS
B5: 3 lentelė. Pažangos priemonių suvestinė
B6: Eil. Nr. | C6: Pažangos priemonė | E6: Pažangos priemone įgyvendinamas regiono plėtros uždavinys | F6: Kiti susiję regiono plėtros uždaviniai | G6: Būtinosios sąlygos | H6: Prisidėjimas prie horizontaliųjų principų (toliau – HP) įgyvendinimo | I6: Koordinatorius | J6: Preliminarus pažangos lėšų poreikis (Eur)
C7: Pavadinimas | D7: Kodas | J7: Iš viso | K7: Iš jų: ES ir kitos tarptautinės paramos lėšos | L7: Iš jų: Lietuvos Respublikos valstybės biudžeto lėšos
B8: 1 | C8: 2 | D8: 3 | E8: 4 | F8: 5 | G8: 6 | H8: 7 | I8: 8 | J8: 9 | K8: 10 | L8: 11
B9: 1. | C9: Investicinės aplinkos ir verslo plėtros sąlygų gerinimas | D9: LT026-01-01-09 | E9: Uždavinys 1.1 Sukurti ir modernizuoti trūkstamą pramoninių, komercinių ir kitų teritorijų infrastruktūrą | F9: Uždavinys 1.2 | G9: - | H9: Darnus vystymasis. Inovatyvumas. Lygios galimybės visiems. | I9: Šiaulių regiono plėtros taryba | J9: ='IV skyrius IX skirsnis'!I73 -> 15187590 | K9: ='IV skyrius IX skirsnis'!L73 -> 12909451 | L9: 0
B10: 2. | C10: Turizmo objektų patrauklumo gerinimas | D10: LT026-01-03-10 | E10: Uždavinys 1.3 Didinti turizmo ir kultūros paslaugų prieinamumą. | F10: Uždavinys 1.1 | G10: - | H10: Darnus vystymasis. Inovatyvumas. Lygios galimybės visiems. | I10: Šiaulių regiono plėtros taryba | J10: ='IV skyrius X skirsnis'!I265 -> 32111260 | K10: ='IV skyrius X skirsnis'!L265 -> 26322091 | L10: 0
B11: 3. | C11: Darnaus judumo skatinimas | D11: LT026-02-01-02 | E11: Uždavinys 2.1 Plėtoti žaliąją, kritinę ir darnaus judumo infrastruktūrą, mažinti aplinkos užterštumą, stiprinti gyventojų civilinę parengtį ekstremaliųjų situacijų atvejams | F11: Uždavinys 3.1 | G11: - | H11: Darnus vystymasis. Inovatyvumas. Lygios galimybės visiems. | I11: Šiaulių regiono plėtros taryba | J11: ='IV skyrius II skirsnis'!I87 -> 28342781 | K11: ='IV skyrius II skirsnis'!L87 -> 24091364 | L11: 0
B12: 4. | C12: Žaliosios ir kritinės infrastruktūros plėtra | D12: LT026-02-01-08 | E12: Uždavinys 2.1 Plėtoti žaliąją, kritinę ir darnaus judumo infrastruktūrą, mažinti aplinkos užterštumą, stiprinti gyventojų civilinę parengtį ekstremaliųjų situacijų atvejams | F12: Uždavinys 2.2 | G12: - | H12: Darnus vystymasis. Inovatyvumas. Lygios galimybės visiems. | I12: Šiaulių regiono plėtros taryba | J12: ='IV skyrius VIII skirsinis'!I108 -> 10619409 | K12: ='IV skyrius VIII skirsinis'!L108 -> 9523815.2 | L12: 0
B13: 5. | C13: Atliekų tvarkymo paslaugų gerinimas | D13: LT026-02-02-07 | E13: Uždavinys 2.2 Didinti rūšiuojamų atliekų apimtis ir geriamojo vandens tiekimo bei nuotekų tvarkymo paslaugų prieinamumą | F13: Uždavinys 2.1 | G13: - | H13: Darnus vystymasis. Inovatyvumas. Lygios galimybės visiems. | I13: Šiaulių regiono plėtros taryba | J13: ='IV skyrius VII skirsnis'!I77 -> 3069288.2 | K13: ='IV skyrius VII skirsnis'!L77 -> 2608895 | L13: 0
B14: 6. | C14: Vandentvarkos paslaugų prieinamumo didinimas | D14: LT026-02-02-04 | E14: Uždavinys 2.2 Didinti rūšiuojamų atliekų apimtis ir geriamojo vandens tiekimo bei nuotekų tvarkymo paslaugų prieinamumą | F14: Uždavinys 2.1 | G14: - | H14: Darnus vystymasis. Lygios galimybės visiems. | I14: Šiaulių regiono plėtros taryba | J14: ='IV skyrius IV skirsnis'!I174 -> 45527270 | K14: ='IV skyrius IV skirsnis'!L174 -> 21055357 | L14: 0
B15: 7. | C15: Šiaulių miesto integruota plėtra | D15: LT026-03-01-06 | E15: Uždavinys 3.1 Plėtoti viešųjų paslaugų infrastruktūrą | G15: - | H15: Darnus vystymasis. Lygios galimybės visiems. | I15: Šiaulių regiono plėtros taryba | J15: ='IV skyrius VI skirsnis'!I101 -> 54354593 | K15: ='IV skyrius VI skirsnis'!L101 -> 35937905 | L15: ='IV skyrius VI skirsnis'!J101 -> 4021127.5
B16: 8. | C16: Socialinių paslaugų ir jų infrastruktūros plėtra | D16: LT026-03-01-05 | E16: Uždavinys 3.1 Plėtoti viešųjų paslaugų infrastruktūrą | G16: - | H16: Darnus vystymasis. Lygios galimybės visiems. | I16: Šiaulių regiono plėtros taryba | J16: ='IV skyrius V skirsnis'!I203 -> 45167893 | K16: ='IV skyrius V skirsnis'!L203 -> 38286576 | L16: 0
B17: 9. | C17: Sveikatos ir ilgalaikės priežiūros paslaugų plėtra | D17: LT026-03-02-03 | E17: Uždavinys 3.2 Didinti visuomenės sveikatos paslaugų prieinamumą ir užtikrinti ilgalaikės priežiūros paslaugų plėtrą | F17: Uždavinys 3.1 | G17: - | H17: Darnus vystymasis. Inovatyvumas. Lygios galimybės visiems. | I17: Šiaulių regiono plėtros taryba | J17: ='IV skyrius III skirsnis'!I151 -> 8813551.8 | K17: ='IV skyrius III skirsnis'!L151 -> 7225335.4 | L17: 0
B18: 10. | C18: Ikimokyklinio ir bendrojo ugdymo aplinkos modernizavimas | D18: LT026-03-03-01 | E18: Uždavinys 3.3 Tobulinti ikimokyklinio ir bendrojo ugdymo prieinamumo infrastruktūrą | F18: Uždavinys 3.1 | G18: - | H18: Darnus vystymasis. Inovatyvumas. Lygios galimybės visiems. | I18: Šiaulių regiono plėtros taryba | J18: ='IV skyrius I skirsnis'!I180 -> 21085472 | K18: ='IV skyrius I skirsnis'!F36 -> 17922648 | L18: 0
C19: Iš viso | J19: =SUM(J9:J18) -> 2.6427911e+08 | K19: =SUM(K9:K18) -> 1.9588344e+08 | L19: =SUM(L9:L18) -> 4021127.5

Sheet IV skyrius I skirsnis
B2: IV SKYRIUS
B3: PAŽANGOS PRIEMONIŲ APRAŠAS
B5: PIRMAS SKIRSNIS
G7: ='III skyrius'!D18 -> LT026-03-03-01 | I7: ='III skyrius'!C18 -> Ikimokyklinio ir bendrojo ugdymo aplinkos modernizavimas
B9: 4 lentelė. Pažangos priemonės įgyvendinimo rezultato rodikliai
B10: Eil. Nr. | C10: Rodiklio kodas | E10: Rodiklio pavadinimas (matavimo vienetas) | H10: Pradinė rodiklio reikšmė (metai) | K10: Siektinos rodiklio reikšmės
K11: Siektina tarpinė rodiklio reikšmė (metai) | N11: Siektina galutinė rodiklio reikšmė (metai)
B12: 1 | C12: 2 | E12: 3 | H12: 4 | K12: 5 | N12: 6
B13: 1. | C13: R.B.2.2071 | E13: Naujos arba modernizuotos švietimo infrastruktūros naudotojų skaičius per metus | naudotojai per metus | H13: 0 | K13: 0 | N13: =O54+O125 -> 7500
H14: (2021) | K14: (2025) | N14: =O55 -> (2029)
B15: 2. | C15: R.B.2.2070 | E15: Naujos arba modernizuotos vaikų priežiūros infrastruktūros naudotojų skaičius per metus | naudotojai per metus | H15: 0 | K15: 0 | N15: =O64+O129 -> 973
H16: (2021) | K16: (2025) | N16: =O65 -> (2029)
B17: 3. | C17: R.S.2.3026 | E17: Mokyklų, kuriose buvo įdiegtos universalaus dizaino ir kitos inžinerinės priemonės, aplinką pritaikant asmenims turintiems negalią, dalis nuo visų mokyklų | procentas | H17: 0 | K17: 0 | N17: =O52 -> 0.9
H18: (2021) | K18: (2025) | N18: =O53 -> (2029)
B19: 4. | C19: R.S.2.3027 | E19: Mokinių, kurie naudojasi sukurta visos dienos mokyklos infrastruktūra, skaičius | asmenys per metus | H19: 0 | K19: 0 | N19: =O123 -> 2686
H20: (2021) | K20: (2025) | N20: =O124 -> (2029)
B21: 5. | C21: R.S.2.3030 | E21: Vaikų, pasinaudojusių pavėžėjimo paslaugomis naujai įsigytomis transporto priemonėmis, skaičius | asmenys per metus | H21: 0 | K21: 0 | N21: =O60 -> 348
H22: (2021) | K22: (2025) | N22: =O61 -> (2029)
B25: 5 lentelė. Pažangos priemonės finansavimo šaltiniai ir preliminarus pažangos lėšų poreikis
B26: Finansavimo šaltiniai | F26: Lėšų poreikis, eurais
B27: 1 | F27: 2
B28: 1. Lietuvos Respublikos valstybės biudžeto asignavimų lėšos: | F28: =F29+F32+F35+F38 -> 17922648
B29: 1.1. Valstybės biudžeto lėšos | F29: =F30 -> 0
B30: 1.1.1. lėšų pavadinimas ir finansavimo šaltinio kodas | F30: =J182 -> 0
B31: ...
B32: 1.2. Europos Sąjungos (toliau – ES) ir kitos tarptautinės finansinės paramos bendrojo finansavimo lėšos | F32: =F33 -> 0
B33: 1.2.1. 2021–2027 m. ES struktūrinių fondų bendrojo finansavimo lėšos (1.2.2.8.1) | F33: =K182 -> 0
B34: ...
B35: 1.3. ES ir kitos tarptautinės finansinės paramos lėšos | F35: =F36 -> 17922648
B36: 1.3.1. 2021–2027 m. ES struktūrinių fondų lėšos (1.3.2.8.1) | F36: =L180 -> 17922648
B37: ...
B38: 1.4. Tikslinės paskirties valstybės biudžeto lėšos | F38: =F39 -> 0
B39: 1.4.1. lėšų pavadinimas ir finansavimo šaltinio kodas | F39: 0
B40: ...
B41: 2. Kitos lėšos: | F41: =SUM(F42:H44) -> 3162824.1
B42: 2.1. Savivaldybių biudžetų lėšos | F42: =M180 -> 3162824.1
B43: 2.2. Privačios lėšos | F43: 0
B44: 2.3. Kitos viešosios lėšos | F44: 0
B45: IŠ VISO | F45: =I180 -> 21085472
B47: 6 lentelė. Pažangos priemonės veiklos, poveiklės ir (arba) projektai
...

Sheet IV skyrius II skirsnis
B2: ANTRAS SKIRSNIS
F4: ='III skyrius'!D11 -> LT026-02-01-02 | I4: ='III skyrius'!C11 -> Darnaus judumo skatinimas
B6: 4 lentelė. Pažangos priemonės įgyvendinimo rezultato rodikliai
B7: Eil. Nr. | C7: Rodiklio kodas | E7: Rodiklio pavadinimas (matavimo vienetas) | H7: Pradinė rodiklio reikšmė (metai) | K7: Siektinos rodiklio reikšmės
K8: Siektina tarpinė rodiklio reikšmė (metai) | N8: Siektina galutinė rodiklio reikšmė (metai)
B9: 1 | C9: 2 | E9: 3 | H9: 4 | K9: 5 | N9: 6
B10: 1. | C10: R.B.2.2064 | E10: Dviračiams skirtos infrastruktūros metinis naudotojų skaičius | naudotojai per metus | H10: 4150 | K10: 4150 | N10: =O44 -> 46500
H11: (2021) | K11: (2025) | N11: =O45 -> (2029)
B12: 2. | C12: R.S.2.3024 | E12: Panaikintos juodosios dėmės ar avaringos vietos vietinės reikšmės keliuose (gatvėse) | skaičius | H12: 0 | K12: 2 | N12: =O46 -> 4
H13: (2021) | K13: (2025) | N13: =O47 -> (2029)
B14: 3. | C14: R.S.2.3039 | E14: Metinis konsoliduotų viešųjų paslaugų vartotojų skaičius | vartotojai per metus | H14: 0 | K14: 0 | N14: =O74 -> 20800
H15: (2021) | K15: (2025) | N15: =O47 -> (2029)
B18: 5 lentelė. Pažangos priemonės finansavimo šaltiniai ir preliminarus pažangos lėšų poreikis
B19: Finansavimo šaltiniai | F19: Lėšų poreikis, eurais
B20: 1 | F20: 2
B21: 1. Lietuvos Respublikos valstybės biudžeto asignavimų lėšos: | F21: =SUM(F22,F25,F27,F30) -> 24091364
B22: 1.1. Valstybės biudžeto lėšos | F22: =F23 -> 0
B23: 1.1.1. lėšų pavadinimas ir finansavimo šaltinio kodas | F23: =J68 -> 0
B24: …
B25: 1.2. Europos Sąjungos (toliau – ES) ir kitos tarptautinės finansinės paramos bendrojo finansavimo lėšos | F25: =F26 -> 0
B26: … | F26: =K68 -> 0
B27: 1.3. ES ir kitos tarptautinės finansinės paramos lėšos | F27: =F28 -> 24091364
B28: 1.3.1. 2021–2027 m. ES struktūrinių fondų lėšos (1.3.2.8.1) | F28: =L87 -> 24091364
B29: …
B30: 1.4. Tikslinės paskirties valstybės biudžeto lėšos | F30: =F31 -> 0
B31: 1.4.1. lėšų pavadinimas ir finansavimo šaltinio kodas | F31: 0
B32: …
B33: 2. Kitos lėšos: | F33: =SUM(F34:H36) -> 4251417.8
B34: 2.1. Savivaldybių biudžetų lėšos | F34: =M87 -> 4251417.8
B35: 2.2. Privačios lėšos | F35: 0
B36: 2.3. Kitos viešosios lėšos | F36: 0
B37: IŠ VISO | F37: =SUM(F21,F33) -> 28342781
B39: 6 lentelė. Pažangos priemonės veiklos, poveiklės ir (arba) projektai
B40: Veiklos, poveiklės, projektai | C40: Veiklos, poveiklės, projekto tipas | D40: Galimi pareiškėjai arba projektų vykdytojai, kai projektai atrenkami planavimo būdu | E40: Galimi partneriai | F40: Projektų atrankos būdas | G40: Tiesiogiai prisidedama prie HP | H40: Projektų finansavimo forma | I40: Pažangos lėšos (eurais) ir jų finansavimo šaltiniai | N40: Stebėsenos rodikliai | P40: Įgyvendinimo pradžia (metai, ketv.) | Q40: Įgyvendinimo pabaiga (metai, ketv.)
I41: Iš viso | J41: Iš jų Lietuvos Respublikos valstybės biudžeto asignavimų lėšos, ne daugiau kaip | M41: Iš jų kitos lėšos, ne mažiau kaip | N41: Rodiklio kodas, pavadinimas ir matavimo vienetai | O41: Siektina rodiklio reikšmė (metai)
J42: Valstybės biudžeto lėšos | K42: ES ir kitos tarptautinės paramos bendrojo finansavimo lėšos | L42: ES ir kitos tarptautinės paramos lėšos
B43: 1 | C43: 2 | D43: 3 | E43: 4 | F43: 5 | G43: 6 | H43: 7 | I43: 8 | J43: 9 | K43: 10 | L43: 11 | M43: 12 | N43: 13 | O43: 14 | P43: 15 | Q43: 16
B44: 1. Šiaulių miesto darnaus judumo plane numatytų priemonių įgyvendinimas | C44: I | D44: Šiaulių miesto savivaldybės administracija | E44: - | F44: Projektų planavimo | G44: Darnaus vystymosi, Lygių galimybių HP | H44: Dotacija | I44: =SUM(I54:I67) -> 25954545 | J44: =SUM(J54:J67) -> 0 | K44: =SUM(K54:K67) -> 0 | L44: =SUM(L54:L67) -> 22061364 | M44: =SUM(M54:M67) -> 3893181.8 | N44: R.B.2.2064 Dviračiams skirtos infrastruktūros metinis naudotojų skaičius | naudotojai per metus | O44: =O54+O64 -> 46500 | P44: 2024 m. III ketv. | Q44: 2029 m. II ketv.
O45: (2029)
N46: R.S.2.3024 Panaikintos juodosios dėmės ar avaringos vietos vietinės reikšmės keliuose (gatvėse) | skaičius | O46: =O60 -> 4
...

Sheet IV skyrius III skirsnis
B2: TREČIAS SKIRSNIS
F4: ='III skyrius'!D17 -> LT026-03-02-03 | I4: ='III skyrius'!C17 -> Sveikatos ir ilgalaikės priežiūros paslaugų plėtra
B6: 4 lentelė. Pažangos priemonės įgyvendinimo rezultato rodikliai
B7: Eil. Nr. | C7: Rodiklio kodas | E7: Rodiklio pavadinimas (matavimo vienetas) | H7: Pradinė rodiklio reikšmė (metai) | K7: Siektinos rodiklio reikšmės
K8: Siektina tarpinė rodiklio reikšmė (metai) | N8: Siektina galutinė rodiklio reikšmė (metai)
B9: 1 | C9: 2 | E9: 3 | H9: 4 | K9: 5 | N9: 6
B10: 1. | C10: R.S.2.3523 | E10: Asmenų, kurie po dalyvavimo veiklose pagerino sveikatos raštingumo kompetenciją, dalis | procentai | H10: 0 | K10: 0 | N10: =O50 -> 80
H11: (2021) | K11: (2025) | N11: =O49 -> (2029)
B12: 2. | C12: R.S.2.3526 | E12: Asmenų, palankiai vertinančių visuomenės sveikatos priežiūros paslaugų kokybę, dalis | procentai | H12: 0 | K12: 0 | N12: =O56 -> 80
H13: (2021) | K13: (2025) | N13: =O57 -> (2029)
B14: 3. | C14: R.B.2.2073 | E14: Naujos arba modernizuotos sveikatos priežiūros infrastruktūros naudotojų skaičius per metus | naudotojai per metus | H14: 0 | K14: 0 | N14: =O110 -> 1516
H15: (2021) | K15: (2025) | N15: =O59 -> (2029)
B16: 4. | C16: R.S.2.3530 | E16: Ilgalaikės priežiūros paslaugų gavėjų, palankiai vertinančių gaunamų paslaugų kokybę, dalis | procentai | H16: 0 | K16: 0 | N16: =O64 -> 80
H17: (2021) | K17: (2025) | N17: =O65 -> (2029)
B21: 5 lentelė. Pažangos priemonės finansavimo šaltiniai ir preliminarus pažangos lėšų poreikis
B22: Finansavimo šaltiniai | F22: Lėšų poreikis, eurais
B23: 1 | F23: 2
B24: 1. Lietuvos Respublikos valstybės biudžeto asignavimų lėšos: | F24: =SUM(F25,F28,F31,F34) -> 7225335.4
B25: 1.1. Valstybės biudžeto lėšos | F25: =F26 -> 0
B26: 1.1.1. lėšų pavadinimas ir finansavimo šaltinio kodas | F26: =J104 -> 0
B27: …
B28: 1.2. Europos Sąjungos (toliau – ES) ir kitos tarptautinės finansinės paramos bendrojo finansavimo lėšos | F28: =F29 -> 0
B29: 1.2.1. 2021–2027 m. ES struktūrinių fondų bendrojo finansavimo lėšos (1.2.2.8.1) | F29: =K104 -> 0
B30: …
B31: 1.3. ES ir kitos tarptautinės finansinės paramos lėšos | F31: =F32 -> 7225335.4
B32: 1.3.1. 2021–2027 m. ES struktūrinių fondų lėšos (1.3.2.8.1) | F32: =L151 -> 7225335.4
B33: …
B34: 1.4. Tikslinės paskirties valstybės biudžeto lėšos | F34: =F35 -> 0
B35: 1.4.1. lėšų pavadinimas ir finansavimo šaltinio kodas | F35: 0
B36: …
B37: 2. Kitos lėšos: | F37: =SUM(F38:H40) -> 1588216.4
B38: 2.1. Savivaldybių biudžetų lėšos | F38: =M151 -> 1588216.4
B39: 2.2. Privačios lėšos | F39: 0
B40: 2.3. Kitos viešosios lėšos | F40: 0
B41: IŠ VISO | F41: =SUM(F24,F37) -> 8813551.8
B43: 6 lentelė. Pažangos priemonės veiklos, poveiklės ir (arba) projektai
B44: Veiklos, poveiklės, projektai | C44: Veiklos, poveiklės, projekto tipas | D44: Galimi pareiškėjai arba projektų vykdytojai, kai projektai atrenkami planavimo būdu | E44: Galimi partneriai | F44: Projektų atrankos būdas | G44: Tiesiogiai prisidedama prie HP | H44: Projektų finansavimo forma | I44: Pažangos lėšos (eurais) ir jų finansavimo šaltiniai | N44: Stebėsenos rodikliai | P44: Įgyvendinimo pradžia (metai, ketv.) | Q44: Įgyvendinimo pabaiga (metai, ketv.)
I45: Iš viso | J45: Iš jų Lietuvos Respublikos valstybės biudžeto asignavimų lėšos, ne daugiau kaip | M45: Iš jų kitos lėšos, ne mažiau kaip | N45: Rodiklio kodas, pavadinimas ir matavimo vienetai | O45: Siektina rodiklio reikšmė (metai)
J46: Valstybės biudžeto lėšos | K46: ES ir kitos tarptautinės paramos bendrojo finansavimo lėšos | L46: ES ir kitos tarptautinės paramos lėšos
B47: 1 | C47: 2 | D47: 3 | E47: 4 | F47: 5 | G47: 6 | H47: 7 | I47: 8 | J47: 9 | K47: 10 | L47: 11 | M47: 12 | N47: 13 | O47: 14 | P47: 15 | Q47: 16
...

Sheet IV skyrius IV skirsnis
B2: KETVIRTAS SKIRSNIS
G4: ='III skyrius'!D14 -> LT026-02-02-04 | I4: ='III skyrius'!C14 -> Vandentvarkos paslaugų prieinamumo didinimas
B6: 4 lentelė. Pažangos priemonės įgyvendinimo rezultato rodikliai
B7: Eil. Nr. | C7: Rodiklio kodas | E7: Rodiklio pavadinimas (matavimo vienetas) | H7: Pradinė rodiklio reikšmė (metai) | K7: Siektinos rodiklio reikšmės
K8: Siektina tarpinė rodiklio reikšmė (metai) | N8: Siektina galutinė rodiklio reikšmė (metai)
B9: 1 | C9: 2 | E9: 3 | H9: 4 | K9: 5 | N9: 6
B10: 1. | C10: RCR41 R.B.2.2041 | E10: Gyventojai, prisijungę prie patobulintų viešojo vandens tiekimo sistemų | asmenys | H10: 0 | K10: 0 | N10: =O45 -> 7670
H11: (2021) | K11: (2025) | N11: =O48 -> (2029)
B12: 2. | C12: RCR42 R.B.2.2042 | E12: Gyventojai, prisijungę bent prie antrinio viešojo nuotekų valymo įrenginių | asmenys | H12: 0 | K12: 0 | N12: =O51 -> 6429
H13: (2021) | K13: (2025) | N13: =O52 -> (2029)
B14: 3. | C14: R.S.2.3055 | E14: Viešieji vandens tiekėjai ir nuotekų tvarkytojai, kurie investuoja į saugaus vandens tiekimo užtikrinimo priemones, siekdami padidinti įmonių veiklos atsparumą | skaičius | H14: 0 | K14: 0 | N14: =O141 -> 7
H15: (2025) | K15: (2025) | N15: =O142 -> (2030)
B18: 5 lentelė. Pažangos priemonės finansavimo šaltiniai ir preliminarus pažangos lėšų poreikis
B19: Finansavimo šaltiniai | F19: Lėšų poreikis, eurais
B20: 1 | F20: 2
B21: 1. Lietuvos Respublikos valstybės biudžeto asignavimų lėšos: | F21: =F22+F25+F28+F31 -> 21055357
B22: 1.1. Valstybės biudžeto lėšos | F22: =F23 -> 0
B23: 1.1.1. lėšų pavadinimas ir finansavimo šaltinio kodas | F23: =J135 -> 0
B24: …
B25: 1.2. Europos Sąjungos (toliau – ES) ir kitos tarptautinės finansinės paramos bendrojo finansavimo lėšos | F25: =F26 -> 0
B26: 1.2.1. 2021–2027 m. ES struktūrinių fondų bendrojo finansavimo lėšos (1.2.2.8.1) | F26: =K135 -> 0
B27: …
B28: 1.3. ES ir kitos tarptautinės finansinės paramos lėšos | F28: =F29 -> 21055357
B29: 1.3.1. 2021–2027 m. ES struktūrinių fondų lėšos (1.3.2.8.1) | F29: =L174 -> 21055357
B30: …
B31: 1.4. Tikslinės paskirties valstybės biudžeto lėšos | F31: =F32 -> 0
B32: 1.4.1. lėšų pavadinimas ir finansavimo šaltinio kodas | F32: 0
B33: …
B34: 2. Kitos lėšos: | F34: =SUM(F35:H37) -> 24471913
B35: 2.1. Savivaldybių biudžetų lėšos | F35: =M174-F36 -> 18046602
B36: 2.2. Privačios lėšos | F36: =N135+N173 -> 6425311.5
B37: 2.3. Kitos viešosios lėšos | F37: 0
B38: IŠ VISO | F38: =F21+F34 -> 45527270
B40: 6 lentelė. Pažangos priemonės veiklos, poveiklės ir (arba) projektai
B41: Veiklos, poveiklės, projektai | C41: Veiklos, poveiklės, projekto tipas | D41: Galimi pareiškėjai arba projektų vykdytojai, kai projektai atrenkami planavimo būdu | E41: Galimi partneriai | F41: Projektų atrankos būdas | G41: Tiesiogiai prisidedama prie HP | H41: Projektų finansavimo forma | I41: Pažangos lėšos (eurais) ir jų finansavimo šaltiniai | N41: Stebėsenos rodikliai | P41: Įgyvendinimo pradžia (metai, ketv.) | Q41: Įgyvendinimo pabaiga (metai, ketv.)
I42: Iš viso | J42: Iš jų Lietuvos Respublikos valstybės biudžeto asignavimų lėšos, ne daugiau kaip | M42: Iš jų kitos lėšos, ne mažiau kaip | N42: Rodiklio kodas, pavadinimas ir matavimo vienetai | O42: Siektina rodiklio reikšmė (metai)
J43: Valstybės biudžeto lėšos | K43: ES ir kitos tarptautinės paramos bendrojo finansavimo lėšos | L43: ES ir kitos tarptautinės paramos lėšos
B44: 1 | C44: 2 | D44: 3 | E44: 4 | F44: 5 | G44: 6 | H44: 7 | I44: 8 | J44: 9 | K44: 10 | L44: 11 | M44: 12 | N44: 13 | O44: 14 | P44: 15 | Q44: 16
B45: 1. Geriamojo vandens tiekimo ir nuotekų tvarkymo paslaugų plėtra Šiaulių regiono rajonų savivaldybėse | C45: I | D45: Šiaulių regiono rajonų savivaldybių UAB, atsakingi už geriamojo vandens tiekimo ir nuotekų tvarkymo paslaugas | E45: Šiaulių regiono savivaldybių administracijos | F45: Projektų planavimo | G45: Darnaus vystymosi, Lygių galimybių HP | H45: Dotacija | I45: =SUM(I57:I134) -> 38952235 | J45: =SUM(J57:J134) -> 0 | K45: =SUM(K57:K134) -> 0 | L45: =SUM(L57:L134) -> 14809074 | M45: =SUM(M57:M134) -> 24143161 | N45: RCR41 R.B.2.2041 Gyventojai, prisijungę prie patobulintų viešojo vandens tiekimo sistemų | asmenys | O45: =O61+O69+O98+O110+O115+O127 -> 7670 | P45: 2024 m. II ketv. | Q45: 2029 m. III ketv.
O46: (2029)
...

Sheet IV skyrius V skirsnis
B2: PENKTAS SKIRSNIS
F4: ='III skyrius'!D16 -> LT026-03-01-05 | I4: ='III skyrius'!C16 -> Socialinių paslaugų ir jų infrastruktūros plėtra
B6: 4 lentelė. Pažangos priemonės įgyvendinimo rezultato rodikliai
B7: Eil. Nr. | C7: Rodiklio kodas | E7: Rodiklio pavadinimas (matavimo vienetas) | H7: Pradinė rodiklio reikšmė (metai) | K7: Siektinos rodiklio reikšmės
K8: Siektina tarpinė rodiklio reikšmė (metai) | N8: Siektina galutinė rodiklio reikšmė (metai)
B9: 1 | C9: 2 | E9: 3 | H9: 4 | K9: 5 | N9: 6
B10: 1. | C10: R.B.2.2067 | E10: Naujų arba modernizuotų socialinių būstų naudotojų skaičius per metus | naudotojai per metus | H10: 0 | K10: 0 | N10: =O48 -> 339
H11: (2021) | K11: (2025) | N11: (2029)
B12: 2. | C12: R.S.2.3031 | E12: Asmenų, turinčių intelekto ir (ar) psichikos negalią, gavusių paslaugas naujoje ar modernizuotoje infrastruktūroje skaičius per metus | asmenys per metus | H12: 0 | K12: 0 | N12: =O90 -> 309
H13: (2021) | K13: (2025) | N13: (2029)
B14: 3. | C14: R.B.2.2074 | E14: Naujos arba modernizuotos socialinės rūpybos infrastruktūros naudotojų skaičius per metus | naudotojai per metus | H14: 0 | K14: 0 | N14: =O170 -> 100
H15: (2021) | K15: (2025) | N15: =O49 -> (2029)
B16: 4. | C16: R.S.2.3033 | E16: Socialiai pažeidžiamų, socialinę riziką (atskirtį) patiriančių asmenų, gavusių paslaugas naujoje ar modernizuotoje infrastruktūroje skaičius per metus | asmenys per metus | H16: 0 | K16: 0 | N16: =O94+O150 -> 570
H17: (2021) | K17: (2025) | N17: =O51 -> (2029)
B18: 5. | C18: R.B.2.2967 | E18: Naujų arba modernizuotų įperkamų, tvarių socialinių būstų naudotojų skaičius per metus | naudotojai per metus | H18: 0 | K18: 0 | N18: =O182 -> 30
H19: (2025) | K19: (2025) | N19: =O183 -> (2030)
B22: 5 lentelė. Pažangos priemonės finansavimo šaltiniai ir preliminarus pažangos lėšų poreikis
B23: Finansavimo šaltiniai | F23: Lėšų poreikis, eurais
B24: 1 | F24: 2
B25: 1. Lietuvos Respublikos valstybės biudžeto asignavimų lėšos: | F25: =SUM(F26,F29,F32,F34) -> 38286576
B26: 1.1. Valstybės biudžeto lėšos | F26: =F27 -> 0
B27: 1.1.1. lėšų pavadinimas ir finansavimo šaltinio kodas | F27: =J84 -> 0
B28: ...
B29: 1.2. Europos Sąjungos (toliau – ES) ir kitos tarptautinės finansinės paramos bendrojo finansavimo lėšos | F29: =F30 -> 0
B30: 1.2.1. 2021–2027 m. ES struktūrinių fondų bendrojo finansavimo lėšos (1.2.2.8.1) | F30: =K84 -> 0
B31: ...
B32: 1.3. ES ir kitos tarptautinės finansinės paramos lėšos | F32: =F33 -> 38286576
B33: 1.3.1. 2021–2027 m. ES struktūrinių fondų lėšos (1.3.2.8.1) | F33: =L203 -> 38286576
B34: 1.4. Tikslinės paskirties valstybės biudžeto lėšos | F34: =F35 -> 0
B35: 1.4.1. lėšų pavadinimas ir finansavimo šaltinio kodas | F35: 0
B36: ... | F36: =K209 -> 0
B37: 2. Kitos lėšos: | F37: =SUM(F38:H40) -> 6881317.3
B38: 2.1. Savivaldybių biudžetų lėšos | F38: =M203 -> 6881317.3
B39: 2.2. Privačios lėšos | F39: 0
B40: 2.3. Kitos viešosios lėšos | F40: 0
B41: IŠ VISO | F41: =SUM(F25,F37) -> 45167893
B43: 6 lentelė. Pažangos priemonės veiklos, poveiklės ir (arba) projektai
B44: Veiklos, poveiklės, projektai | C44: Veiklos, poveiklės, projekto tipas | D44: Galimi pareiškėjai arba projektų vykdytojai, kai projektai atrenkami planavimo būdu | E44: Galimi partneriai | F44: Projektų atrankos būdas | G44: Tiesiogiai prisidedama prie HP | H44: Projektų finansavimo forma | I44: Pažangos lėšos (eurais) ir jų finansavimo šaltiniai | N44: Stebėsenos rodikliai | P44: Įgyvendinimo pradžia (metai, ketv.) | Q44: Įgyvendinimo pabaiga (metai, ketv.)
I45: Iš viso | J45: Iš jų Lietuvos Respublikos valstybės biudžeto asignavimų lėšos, ne daugiau kaip | M45: Iš jų kitos lėšos, ne mažiau kaip | N45: Rodiklio kodas, pavadinimas ir matavimo vienetai | O45: Siektina rodiklio reikšmė (metai)
J46: Valstybės biudžeto lėšos | K46: ES ir kitos tarptautinės paramos bendrojo finansavimo lėšos | L46: ES ir kitos tarptautinės paramos lėšos
...

Sheet IV skyrius VI skirsnis
B2: ŠEŠTAS SKIRSNIS
G4: ='III skyrius'!D15 -> LT026-03-01-06 | I4: ='III skyrius'!C15 -> Šiaulių miesto integruota plėtra
B6: 4 lentelė. Pažangos priemonės įgyvendinimo rezultato rodikliai
B7: Eil. Nr. | C7: Rodiklio kodas | E7: Rodiklio pavadinimas (matavimo vienetas) | H7: Pradinė rodiklio reikšmė (metai) | K7: Siektinos rodiklio reikšmės
K8: Siektina tarpinė rodiklio reikšmė (metai) | N8: Siektina galutinė rodiklio reikšmė (metai)
B9: 1 | C9: 2 | E9: 3 | H9: 4 | K9: 5 | N9: 6
B10: 1. | C10: R.S.2.3039 | E10: Metinis konsoliduotų viešųjų paslaugų vartotojų skaičius | vartotojai per metus | H10: 0 | K10: 0 | N10: =O45 -> 852512
H11: (2021) | K11: (2025) | N11: (2029)
B12: 2. | C12: R.N.2.5720 | E12: Sukurtos arba atkurtos teritorijos, naudojamos ekonominei, rekreacinei ar turizmo paskirčiai | hektarai | H12: 0 | K12: 0 | N12: =O47 -> 12
H13: (2021) | K13: (2025) | N13: =O46 -> (2029)
B14: 3. | C14: R.B.2.2052 | E14: Rekultivuota žemė, naudojama žaliesiems plotams, socialiniams būstams, ekonominei arba kitai paskirčiai | hektarai | H14: 0 | K14: 0 | N14: =O49 -> 6.64
H15: (2021) | K15: (2025) | N15: =O48 -> (2029)
B18: 5 lentelė. Pažangos priemonės finansavimo šaltiniai ir preliminarus pažangos lėšų poreikis
B19: Finansavimo šaltiniai | F19: Lėšų poreikis, eurais
B20: 1 | F20: 2
B21: 1. Lietuvos Respublikos valstybės biudžeto asignavimų lėšos: | F21: =F22+F25+F28+F31 -> 39959033
B22: 1.1. Valstybės biudžeto lėšos | F22: =F23 -> 4021127.5
B23: 1.1.1. Valstybės biudžeto lėšos, skirtos apmokėti bendrai finansuojamų iš ES fondų lėšų projektų netinkamam finansuoti iš ES fondų lėšų pirkimo ir (arba) importo PVM (1.1.1.1.2) | F23: =J101 -> 4021127.5
B24: …
B25: 1.2. Europos Sąjungos (toliau – ES) ir kitos tarptautinės finansinės paramos bendrojo finansavimo lėšos | F25: =F26 -> 0
B26: 1.2.1. 2021–2027 m. ES struktūrinių fondų bendrojo finansavimo lėšos (1.2.2.8.1) | F26: =K101 -> 0
B27: …
B28: 1.3. ES ir kitos tarptautinės finansinės paramos lėšos | F28: =F29 -> 35937905
B29: 1.3.1. 2021–2027 m. ES struktūrinių fondų lėšos (1.3.2.8.1) | F29: =L101 -> 35937905
B30: …
B31: 1.4. Tikslinės paskirties valstybės biudžeto lėšos | F31: =F32 -> 0
B32: 1.4.1. lėšų pavadinimas ir finansavimo šaltinio kodas | F32: 0
B33: …
B34: 2. Kitos lėšos: | F34: =SUM(F35:H36) -> 14395560
B35: 2.1. Savivaldybių biudžetų lėšos | F35: =M101 -> 14395560
B36: 2.2. Privačios lėšos
B37: 2.3. Kitos viešosios lėšos | F37: 0
B38: IŠ VISO | F38: =F21+F34 -> 54354593
B40: 6 lentelė. Pažangos priemonės veiklos, poveiklės ir (arba) projektai
B41: Veiklos, poveiklės, projektai | C41: Veiklos, poveiklės, projekto tipas | D41: Galimi pareiškėjai arba projektų vykdytojai, kai projektai atrenkami planavimo būdu | E41: Galimi partneriai | F41: Projektų atrankos būdas | G41: Tiesiogiai prisidedama prie HP | H41: Projektų finansavimo forma | I41: Pažangos lėšos (eurais) ir jų finansavimo šaltiniai | N41: Stebėsenos rodikliai | P41: Įgyvendinimo pradžia (metai, ketv.) | Q41: Įgyvendinimo pabaiga (metai, ketv.)
I42: Iš viso | J42: Iš jų Lietuvos Respublikos valstybės biudžeto asignavimų lėšos, ne daugiau kaip | M42: Iš jų kitos lėšos, ne mažiau kaip | N42: Rodiklio kodas, pavadinimas ir matavimo vienetai | O42: Siektina rodiklio reikšmė (metai)
J43: Valstybės biudžeto lėšos | K43: ES ir kitos tarptautinės paramos bendrojo finansavimo lėšos | L43: ES ir kitos tarptautinės paramos lėšos
B44: 1 | C44: 2 | D44: 3 | E44: 4 | F44: 5 | G44: 6 | H44: 7 | I44: 8 | J44: 9 | K44: 10 | L44: 11 | M44: 12 | N44: 13 | O44: 14 | P44: 15 | Q44: 16
B45: 1. Šiaulių miesto integruota plėtra (1 pastaba) | C45: I | D45: Šiaulių miesto savivaldybės administracija | E45: - | F45: Projektų planavimo | G45: Darnaus vystymosi, Lygių galimybių HP | H45: Dotacija | I45: =SUM(I57:I100) -> 54354593 | J45: =SUM(J57:J100) -> 4021127.5 | K45: =SUM(K57:K100) -> 0 | L45: =SUM(L57:L100) -> 35937905 | M45: =SUM(M57:M100) -> 14395560 | N45: R.S.2.3039 Metinis konsoliduotų viešųjų paslaugų vartotojų skaičius | vartotojai per metus | O45: =O57+O63+O71+O75+O81+O67+O97 -> 852512 | P45: 2024 m. III ketv. | Q45: 2028 m. IV ketv.
O46: (2029)
...

Sheet IV skyrius VII skirsnis
B2: SEPTINTAS SKIRSNIS
G4: ='III skyrius'!D13 -> LT026-02-02-07 | I4: ='III skyrius'!C13 -> Atliekų tvarkymo paslaugų gerinimas
B6: 4 lentelė. Pažangos priemonės įgyvendinimo rezultato rodikliai
B7: Eil. Nr. | C7: Rodiklio kodas | E7: Rodiklio pavadinimas (matavimo vienetas) | H7: Pradinė rodiklio reikšmė (metai) | K7: Siektinos rodiklio reikšmės
K8: Siektina tarpinė rodiklio reikšmė (metai) | N8: Siektina galutinė rodiklio reikšmė (metai)
B9: 1 | C9: 2 | E9: 3 | H9: 4 | K9: 5 | N9: 6
B10: 1. | C10: RCR103 R.B.2.2103 | E10: Surinktos atskirai išrūšiuotos atliekos | tonos per metus | H10: 0 | K10: 0 | N10: =O41 -> 2292.19
H11: (2021) | K11: (2025) | N11: =O44 -> (2029)
B14: 5 lentelė. Pažangos priemonės finansavimo šaltiniai ir preliminarus pažangos lėšų poreikis
B15: Finansavimo šaltiniai | F15: Lėšų poreikis, eurais
B16: 1 | F16: 2
B17: 1. Lietuvos Respublikos valstybės biudžeto asignavimų lėšos: | F17: =F18+F21+F24+F27 -> 2608895
B18: 1.1. Valstybės biudžeto lėšos | F18: =F19 -> 0
B19: 1.1.1. lėšų pavadinimas ir finansavimo šaltinio kodas | F19: =J77 -> 0
B20: …
B21: 1.2. Europos Sąjungos (toliau – ES) ir kitos tarptautinės finansinės paramos bendrojo finansavimo lėšos | F21: =F22 -> 0
B22: 1.2.1. 2021–2027 m. ES struktūrinių fondų bendrojo finansavimo lėšos (1.2.2.8.1) | F22: =K77 -> 0
B23: …
B24: 1.3. ES ir kitos tarptautinės finansinės paramos lėšos | F24: =F25 -> 2608895
B25: 1.3.2.8.1 2021–2027 m. ES struktūrinių fondų lėšos | F25: =L77 -> 2608895
B26: …
B27: 1.4. Tikslinės paskirties valstybės biudžeto lėšos | F27: =F28 -> 0
B28: 1.4.1. lėšų pavadinimas ir finansavimo šaltinio kodas | F28: 0
B29: …
B30: 2. Kitos lėšos: | F30: =SUM(F31:H33) -> 460393.24
B31: 2.1. Savivaldybių biudžetų lėšos | F31: =M77 -> 460393.24
B32: 2.2. Privačios lėšos | F32: 0
B33: 2.3. Kitos viešosios lėšos | F33: 0
B34: IŠ VISO | F34: =F17+F30 -> 3069288.2
B36: 6 lentelė. Pažangos priemonės veiklos, poveiklės ir (arba) projektai
B37: Veiklos, poveiklės, projektai | C37: Veiklos, poveiklės, projekto tipas | D37: Galimi pareiškėjai arba projektų vykdytojai, kai projektai atrenkami planavimo būdu | E37: Galimi partneriai | F37: Projektų atrankos būdas | G37: Tiesiogiai prisidedama prie HP | H37: Projektų finansavimo forma | I37: Pažangos lėšos (eurais) ir jų finansavimo šaltiniai | N37: Stebėsenos rodikliai | P37: Įgyvendinimo pradžia (metai, ketv.) | Q37: Įgyvendinimo pabaiga (metai, ketv.)
I38: Iš viso | J38: Iš jų Lietuvos Respublikos valstybės biudžeto asignavimų lėšos, ne daugiau kaip | M38: Iš jų kitos lėšos, ne mažiau kaip | N38: Rodiklio kodas, pavadinimas ir matavimo vienetai | O38: Siektina rodiklio reikšmė (metai)
J39: Valstybės biudžeto lėšos | K39: ES ir kitos tarptautinės paramos bendrojo finansavimo lėšos | L39: ES ir kitos tarptautinės paramos lėšos
B40: 1 | C40: 2 | D40: 3 | E40: 4 | F40: 5 | G40: 6 | H40: 7 | I40: 8 | J40: 9 | K40: 10 | L40: 11 | M40: 12 | N40: 13 | O40: 14 | P40: 15 | Q40: 16
B41: 1. Atliekų tvarkymo paslaugų gerinimas Šiaulių regione (1 pastaba) | C41: I | D41: VšĮ Šiaulių regiono atliekų tvarkymo centras, Akmenės rajono savivaldybės administracija | E41: Šiaulių regiono savivaldybių administracijos | F41: Projektų planavimo | G41: Darnaus vystymosi, Lygių galimybių HP | H41: Dotacija | I41: =SUM(I47:I76) -> 3069288.2 | J41: =SUM(J47:J76) -> 0 | K41: =SUM(K47:K76) -> 0 | L41: =SUM(L47:L76) -> 2608895 | M41: =SUM(M47:M76) -> 460393.24 | N41: RCR103 R.B.2.2103 Surinktos atskirai išrūšiuotos atliekos | tonos per metus | O41: =O47+O53+O59+O65+O71 -> 2292.19 | P41: 2024 m. IV ketv. | Q41: 2028 m III ketv.
O42: (2029)
N43: P.S.2.1015 Įgyvendintos viešinimo kampanijos atliekų prevencijos ir tvarkymo temomis | skaičius | O43: =O49+O55+O61+O67+O73 -> 5
O44: (2029)
N45: RCO107 P.B.2.0107 Investicijos į rūšiuojamojo atliekų surinkimo įrenginius | eurai | O45: =O51+O57+O63+O69+O75 -> 2952232.4
O46: (2029)
...

Sheet IV skyrius VIII skirsinis
B2: AŠTUNTAS SKIRSNIS
G4: ='III skyrius'!D12 -> LT026-02-01-08 | I4: ='III skyrius'!C12 -> Žaliosios ir kritinės infrastruktūros plėtra
B6: 4 lentelė. Pažangos priemonės įgyvendinimo rezultato rodikliai
B7: Eil. Nr. | C7: Rodiklio kodas | E7: Rodiklio pavadinimas (matavimo vienetas) | H7: Pradinė rodiklio reikšmė (metai) | K7: Siektinos rodiklio reikšmės
K8: Siektina tarpinė rodiklio reikšmė (metai) | N8: Siektina galutinė rodiklio reikšmė (metai)
B9: 1 | C9: 2 | E9: 3 | H9: 4 | K9: 5 | N9: 6
B10: 1. | C10: RCR95 R.B.2.2095 | E10: Gyventojai, galintys naudotis nauja ar patobulinta žaliąja infrastruktūra | asmenys | H10: 0 | K10: 0 | N10: =O43 -> 5500
H11: (2021) | K11: (2025) | N11: =O46 -> (2029)
B12: 2. | C12: RCR96 R.B.2.2096 | E12: Gyventojai, galintys pasinaudoti apsaugos nuo su klimatu nesusijusios gamtinio pavojaus rizikos ir nuo su žmogaus veikla susijusios rizikos priemonėmis | asmenys | H12: 0 | K12: 0 | N12: =O53 -> 5509
H13: (2025) | K13: (2025) | N13: (2030)
B16: 5 lentelė. Pažangos priemonės finansavimo šaltiniai ir preliminarus pažangos lėšų poreikis
B17: Finansavimo šaltiniai | F17: Lėšų poreikis, eurais
B18: 1 | F18: 2
B19: 1. Lietuvos Respublikos valstybės biudžeto asignavimų lėšos: | F19: =F20+F23+F26+F29 -> 9523815.2
B20: 1.1. Valstybės biudžeto lėšos | F20: =F21 -> 0
B21: 1.1.1. lėšų pavadinimas ir finansavimo šaltinio kodas | F21: =J47 -> 0
B22: ...
B23: 1.2. Europos Sąjungos (toliau – ES) ir kitos tarptautinės finansinės paramos bendrojo finansavimo lėšos | F23: =F24 -> 0
B24: 1.2.1. 2021–2027 m. ES struktūrinių fondų bendrojo finansavimo lėšos (1.2.2.8.1) | F24: =K47 -> 0
B25: ...
B26: 1.3. ES ir kitos tarptautinės finansinės paramos lėšos | F26: =F27 -> 9523815.2
B27: 1.3.1. 2021–2027 m. ES struktūrinių fondų lėšos (1.3.2.8.1) | F27: =L108 -> 9523815.2
B28: ...
B29: 1.4. Tikslinės paskirties valstybės biudžeto lėšos | F29: =F30 -> 0
B30: 1.4.1. lėšų pavadinimas ir finansavimo šaltinio kodas | F30: 0
B31: ...
B32: 2. Kitos lėšos: | F32: =F33 -> 1095594.1
B33: 2.1. Savivaldybių biudžetų lėšos | F33: =M108 -> 1095594.1
B34: 2.2. Privačios lėšos | F34: 0
B35: 2.3. Kitos viešosios lėšos | F35: 0
B36: IŠ VISO | F36: =F19+F32 -> 10619409
B38: 6 lentelė. Pažangos priemonės veiklos, poveiklės ir (arba) projektai
B39: Veiklos, poveiklės, projektai | C39: Veiklos, poveiklės, projekto tipas | D39: Galimi pareiškėjai arba projektų vykdytojai, kai projektai atrenkami planavimo būdu | E39: Galimi partneriai | F39: Projektų atrankos būdas | G39: Tiesiogiai prisidedama prie HP | H39: Projektų finansavimo forma | I39: Pažangos lėšos (eurais) ir jų finansavimo šaltiniai | N39: Stebėsenos rodikliai | P39: Įgyvendinimo pradžia (metai, ketv.) | Q39: Įgyvendinimo pabaiga (metai, ketv.)
I40: Iš viso | J40: Iš jų Lietuvos Respublikos valstybės biudžeto asignavimų lėšos, ne daugiau kaip | M40: Iš jų kitos lėšos, ne mažiau kaip | N40: Rodiklio kodas, pavadinimas ir matavimo vienetai | O40: Siektina rodiklio reikšmė (metai)
J41: Valstybės biudžeto lėšos | K41: ES ir kitos tarptautinės paramos bendrojo finansavimo lėšos | L41: ES ir kitos tarptautinės paramos lėšos
B42: 1 | C42: 2 | D42: 3 | E42: 4 | F42: 5 | G42: 6 | H42: 7 | I42: 8 | J42: 9 | K42: 10 | L42: 11 | M42: 12 | N42: 13 | O42: 14 | P42: 15 | Q42: 16
B43: 1. Žaliosios infrastruktūros plėtojimas Naujosios Akmenės mieste | C43: I | D43: Akmenės rajono savivaldybės administracija | E43: - | F43: Projektų planavimo | G43: Darnaus vystymosi, Lygių galimybių HP | H43: Dotacija | I43: =SUM(J43:M46) -> 5646219 | J43: 0 | K43: 0 | L43: 4799286.2 | M43: 846932.85 | N43: RCR95 R.B.2.2095 Gyventojai, galintys naudotis nauja ar patobulinta žaliąja infrastruktūra | asmenys | O43: 5500 | P43: 2026 m. IV ketv. | Q43: 2029 m. I ketv.
O44: (2029)
N45: RCO36 P.B.2.0036 Žalioji infrastruktūra, kuriai suteikta parama kitais nei prisitaikymo prie klimato kaitos tikslais | hektarai | O45: 5.84
O46: (2029)
...

Sheet IV skyrius IX skirsnis
B2: DEVINTAS SKIRSNIS
F4: ='III skyrius'!D9 -> LT026-01-01-09 | I4: ='III skyrius'!C9 -> Investicinės aplinkos ir verslo plėtros sąlygų gerinimas
B6: 4 lentelė. Pažangos priemonės įgyvendinimo rezultato rodikliai
B7: Eil. Nr. | C7: Rodiklio kodas | E7: Rodiklio pavadinimas (matavimo vienetas) | H7: Pradinė rodiklio reikšmė (metai) | K7: Siektinos rodiklio reikšmės
K8: Siektina tarpinė rodiklio reikšmė (metai) | N8: Siektina galutinė rodiklio reikšmė (metai)
B9: 1 | C9: 2 | E9: 3 | H9: 4 | K9: 5 | N9: 6
B10: 1. | C10: R.S.2.3039 | E10: Metinis konsoliduotų viešųjų paslaugų vartotojų skaičius | vartotojai per metus | H10: 0 | K10: 0 | N10: =O43 -> 18950
H11: (2021) | K11: (2025) | N11: =O44 -> (2029)
B12: 2. | C12: R.S.2.3040 | E12: Sukurtos arba atkurtos teritorijos, naudojamos ekonominei, rekreacinei ar turizmo paskirčiai | hektarai | H12: 0 | K12: 0 | N12: =O45 -> 4.45
H13: (2021) | K13: (2025) | N13: =O48 -> (2029)
B16: 5 lentelė. Pažangos priemonės finansavimo šaltiniai ir preliminarus pažangos lėšų poreikis
B17: Finansavimo šaltiniai | F17: Lėšų poreikis, eurais
B18: 1 | F18: 2
B19: 1. Lietuvos Respublikos valstybės biudžeto asignavimų lėšos: | F19: =SUM(F20,F23,F26,F29) -> 12909451
B20: 1.1. Valstybės biudžeto lėšos | F20: =F21 -> 0
B21: 1.1.1. lėšų pavadinimas ir finansavimo šaltinio kodas | F21: =J73 -> 0
B22: …
B23: 1.2. Europos Sąjungos (toliau – ES) ir kitos tarptautinės finansinės paramos bendrojo finansavimo lėšos | F23: =F24 -> 0
B24: 1.2.1. 2021–2027 m. ES struktūrinių fondų bendrojo finansavimo lėšos (1.2.2.8.1) | F24: =K73 -> 0
B25: …
B26: 1.3. ES ir kitos tarptautinės finansinės paramos lėšos | F26: =F27 -> 12909451
B27: 1.3.1. 2021–2027 m. ES struktūrinių fondų lėšos (1.3.2.8.1) | F27: =L73 -> 12909451
B28: …
B29: 1.4. Tikslinės paskirties valstybės biudžeto lėšos | F29: =F30 -> 0
B30: 1.4.1. lėšų pavadinimas ir finansavimo šaltinio kodas | F30: 0
B31: …
B32: 2. Kitos lėšos: | F32: =SUM(F33:H35) -> 2278139
B33: 2.1. Savivaldybių biudžetų lėšos | F33: =M73 -> 2278139
B34: 2.2. Privačios lėšos | F34: 0
B35: 2.3. Kitos viešosios lėšos | F35: 0
B36: IŠ VISO | F36: =SUM(F19,F32) -> 15187590
B38: 6 lentelė. Pažangos priemonės veiklos, poveiklės ir (arba) projektai
B39: Veiklos, poveiklės, projektai | C39: Veiklos, poveiklės, projekto tipas | D39: Galimi pareiškėjai arba projektų vykdytojai, kai projektai atrenkami planavimo būdu | E39: Galimi partneriai | F39: Projektų atrankos būdas | G39: Tiesiogiai prisidedama prie HP | H39: Projektų finansavimo forma | I39: Pažangos lėšos (eurais) ir jų finansavimo šaltiniai | N39: Stebėsenos rodikliai | P39: Įgyvendinimo pradžia (metai, ketv.) | Q39: Įgyvendinimo pabaiga (metai, ketv.)
I40: Iš viso | J40: Iš jų Lietuvos Respublikos valstybės biudžeto asignavimų lėšos, ne daugiau kaip | M40: Iš jų kitos lėšos, ne mažiau kaip | N40: Rodiklio kodas, pavadinimas ir matavimo vienetai | O40: Siektina rodiklio reikšmė (metai)
J41: Valstybės biudžeto lėšos | K41: ES ir kitos tarptautinės paramos bendrojo finansavimo lėšos | L41: ES ir kitos tarptautinės paramos lėšos
B42: 1 | C42: 2 | D42: 3 | E42: 4 | F42: 5 | G42: 6 | H42: 7 | I42: 8 | J42: 9 | K42: 10 | L42: 11 | M42: 12 | N42: 13 | O42: 14 | P42: 15 | Q42: 16
B43: 1. Šiaulių regiono investicinės aplinkos ir verslo plėtros sąlygų gerinimas (1 pastaba) | C43: I | D43: Akmenės r., Joniškio r., Kelmės r., Radviliškio r., Šiaulių r. savivaldybių administracijos | E43: Juridiniai asmenys, kurių turtas planuojamas tvarkyti ir tvarkomas projekto lėšomis | F43: Projektų planavimo | G43: Darnaus vystymosi, Lygių galimybių HP | H43: Dotacija | I43: =SUM(I49:I72) -> 15187590 | J43: =SUM(J49:J72) -> 0 | K43: =SUM(K49:K72) -> 0 | L43: =SUM(L49:L72) -> 12909451 | M43: =SUM(M49:M72) -> 2278139 | N43: R.S.2.3039 Metinis konsoliduotų viešųjų paslaugų vartotojų skaičius | vartotojai per metus | O43: =O49+O53+O61+O65 -> 18950 | P43: 2025 m. I ketv. | Q43: 2029 m. III ketv.
O44: (2029)
N45: R.S.2.3040 Sukurtos arba atkurtos teritorijos, naudojamos ekonominei, rekreacinei ar turizmo paskirčiai | hektarai | O45: =O57+O69 -> 4.45
O46: (2029)
...

Sheet IV skyrius X skirsnis
B2: DEŠIMTAS SKIRSNIS
F4: ='III skyrius'!D10 -> LT026-01-03-10 | I4: ='III skyrius'!C10 -> Turizmo objektų patrauklumo gerinimas
B6: 4 lentelė. Pažangos priemonės įgyvendinimo rezultato rodikliai
B7: Eil. Nr. | C7: Rodiklio kodas | E7: Rodiklio pavadinimas (matavimo vienetas) | H7: Pradinė rodiklio reikšmė (metai) | K7: Siektinos rodiklio reikšmės
K8: Siektina tarpinė rodiklio reikšmė (metai) | N8: Siektina galutinė rodiklio reikšmė (metai)
B9: 1 | C9: 2 | E9: 3 | H9: 4 | K9: 5 | N9: 6
B10: 1. | C10: R.S.2.3039 | E10: Metinis konsoliduotų viešųjų paslaugų vartotojų skaičius | vartotojai per metus | H10: 0 | K10: 0 | N10: =O45 -> 18750
H11: (2021) | K11: (2025) | N11: =O46 -> (2029)
B12: 2. | C12: R.S.2.3040 | E12: Sukurtos arba atkurtos teritorijos, naudojamos ekonominei, rekreacinei ar turizmo paskirčiai | hektarai | H12: 0 | K12: 0 | N12: =O47 -> 215.9945
H13: (2021) | K13: (2025) | N13: =O46 -> (2029)
B14: 3. | C14: R.S.2.3025 | E14: Dviračiams skirtos infrastruktūros metinis naudotojų skaičius | naudotojai per metus | H14: 0 | K14: 0 | N14: =O49 -> 4800
H15: (2021) | K15: (2025) | N15: =O58 -> (2029)
B18: 5 lentelė. Pažangos priemonės finansavimo šaltiniai ir preliminarus pažangos lėšų poreikis
B19: Finansavimo šaltiniai | F19: Lėšų poreikis, eurais
B20: 1 | F20: 2
B21: 1. Lietuvos Respublikos valstybės biudžeto asignavimų lėšos: | F21: =SUM(F22,F25,F28,F31) -> 26322091
B22: 1.1. Valstybės biudžeto lėšos | F22: =F23 -> 0
B23: 1.1.1. lėšų pavadinimas ir finansavimo šaltinio kodas | F23: =J265 -> 0
B24: …
B25: 1.2. Europos Sąjungos (toliau – ES) ir kitos tarptautinės finansinės paramos bendrojo finansavimo lėšos | F25: =F26 -> 0
B26: 1.2.1. 2021–2027 m. ES struktūrinių fondų bendrojo finansavimo lėšos (1.2.2.8.1) | F26: =K265 -> 0
B27: …
B28: 1.3. ES ir kitos tarptautinės finansinės paramos lėšos | F28: =F29 -> 26322091
B29: 1.3.1. 2021–2027 m. ES struktūrinių fondų lėšos (1.3.2.8.1) | F29: =L265 -> 26322091
B30: …
B31: 1.4. Tikslinės paskirties valstybės biudžeto lėšos | F31: =F32 -> 0
B32: 1.4.1. lėšų pavadinimas ir finansavimo šaltinio kodas | F32: 0
B33: …
B34: 2. Kitos lėšos: | F34: =SUM(F35:H37) -> 5789169
B35: 2.1. Savivaldybių biudžetų lėšos | F35: =M265 -> 5789169
B36: 2.2. Privačios lėšos | F36: 0
B37: 2.3. Kitos viešosios lėšos | F37: 0
B38: IŠ VISO | F38: =SUM(F21,F34) -> 32111260
B40: 6 lentelė. Pažangos priemonės veiklos, poveiklės ir (arba) projektai
B41: Veiklos, poveiklės, projektai | C41: Veiklos, poveiklės, projekto tipas | D41: Galimi pareiškėjai arba projektų vykdytojai, kai projektai atrenkami planavimo būdu | E41: Galimi partneriai | F41: Projektų atrankos būdas | G41: Tiesiogiai prisidedama prie HP | H41: Projektų finansavimo forma | I41: Pažangos lėšos (eurais) ir jų finansavimo šaltiniai | N41: Stebėsenos rodikliai | P41: Įgyvendinimo pradžia (metai, ketv.) | Q41: Įgyvendinimo pabaiga (metai, ketv.)
I42: Iš viso | J42: Iš jų Lietuvos Respublikos valstybės biudžeto asignavimų lėšos, ne daugiau kaip | M42: Iš jų kitos lėšos, ne mažiau kaip | N42: Rodiklio kodas, pavadinimas ir matavimo vienetai | O42: Siektina rodiklio reikšmė (metai)
J43: Valstybės biudžeto lėšos | K43: ES ir kitos tarptautinės paramos bendrojo finansavimo lėšos | L43: ES ir kitos tarptautinės paramos lėšos
B44: 1 | C44: 2 | D44: 3 | E44: 4 | F44: 5 | G44: 6 | H44: 7 | I44: 8 | J44: 9 | K44: 10 | L44: 11 | M44: 12 | N44: 13 | O44: 14 | P44: 15 | Q44: 16
B45: 1. Šiaulių regiono turizmo objektų patrauklumo gerinimas (1 pastaba) | C45: I | D45: Akmenės r., Joniškio r., Kelmės r., Pakruojo r., Radviliškio r. ir Šiaulių r. savivaldybių administracijos | E45: Juridiniai asmenys, kurių turtas planuojamas tvarkyti ir tvarkomas projekto lėšomis | F45: Projektų planavimo | G45: Darnaus vystymosi, Lygių galimybių HP | H45: Dotacija | I45: =SUM(I59:I264) -> 32111260 | J45: =SUM(J59:J264) -> 0 | K45: =SUM(K59:K264) -> 0 | L45: =SUM(L59:L264) -> 26322091 | M45: =SUM(M59:M264) -> 5789169 | N45: R.S.2.3039 Metinis konsoliduotų viešųjų paslaugų vartotojų skaičius | vartotojai per metus | O45: =O77+O121+O261 -> 18750 | P45: 2025 m. I ketv. | Q45: 2029 m. III ketv.
O46: (2029)
...

Sheet Lapas1

Sheet 1 lentelė
S2: PATVIRTINTA
S3: Kauno regiono plėtros tarybos 2024 m. sausio 31 d. sprendimu Nr. 6KS-3
L4: 2022–2030 M. KAUNO REGIONO PLĖTROS PLANO
L5: 2023 METŲ ĮGYVENDINIMO ATASKAITA
A8: 1 lentelė. Regiono plėtros plano įgyvendinimo rezultatai
A9: Eil. Nr. | B9: Tikslas, uždavinys, priemonė | C9: Stebėsenos rodikliai | J9: Regiono plėtros plane suplanuotos pažangos lėšos1 (Eur) | N9: Sudaryta sutarčių (Eur) | R9: Išmokėtos pažangos lėšos (Eur) | V9: Pastabos, paaiškinimai3
C10: Kodas | E10: Pavadinimas, mato vnt. | F10: Pradinė rodiklio reikšmė (metai) | G10: Ataskaitiniu laikotarpiu pasiekta rodiklio reikšmė2 | H10: Siektina rodiklio tarpinė reikšmė | I10: Siektina rodiklio reikšmė | J10: Iš viso | K10: Iš jų: ES ir kitos tarptautinės paramos lėšos | L10: Iš jų: Lietuvos Respublikos valstybės biudžeto lėšos | M10: Iš jų: kitos lėšos | N10: Iš viso | O10: Iš jų: ES ir kitos tarptautinės paramos lėšos | P10: Iš jų: Lietuvos Respublikos valstybės biudžeto lėšos | Q10: Iš jų: kitos lėšos | R10: Iš viso | S10: Iš jų: ES ir kitos tarptautinės paramos lėšos | T10: Iš jų: Lietuvos Respublikos valstybės biudžeto lėšos | U10: Iš jų: kitos lėšos
A11: 1 | B11: 2 | C11: 3 | E11: 4 | F11: 5 | G11: 6 | H11: 7 | I11: 8 | J11: 9 | K11: 10 | L11: 11 | M11: 12 | N11: 13 | O11: 14 | P11: 15 | Q11: 16 | R11: 17 | S11: 18 | T11: 19 | U11: 20 | V11: 21
A12: {='II skyrius'!B11:B14} -> 1. | B12: {='II skyrius'!C11:C14} -> Išnaudoti ekonominį regiono potencialą ir sudaryti sąlygas kurti naujas darbo vietas | J12: =J37+J43+J53+J59 -> 86465853 | K12: =K37+K43+K53+K59 -> 62259997 | L12: =L37+L43+L53+L59 -> 0 | M12: =M37+M43+M53+M59 -> 24205856 | N12: =N37+N43+N53+N59 -> 0 | O12: =O37+O43+O53+O59 -> 0 | P12: =P37+P43+P53+P59 -> 0 | Q12: =Q37+Q43+Q53+Q59 -> 0 | ... U12: =U37+U43+U53+U59 -> 0
A13: 0 | B13: 0
A14: 0 | B14: 0
A15: 0 | B15: 0
C22: – | E22: Sąvartynuose šalinamų komunalinių atliekų dalis (procentai) | F22: ='II skyrius'!G11 -> 16.8 | G22: 10 | H22: ='II skyrius'!H11 -> 19.9 | I22: ='II skyrius'!I11 -> 24.5
E23: 0 | F23: ='II skyrius'!G12 -> (2019)
F24: ='II skyrius'!G12 -> (2019) | G24: (2021) | H24: ='II skyrius'!H12 -> (2025) | I24: ='II skyrius'!I12 -> (2029)
C25: – | E25: Paruoštų pakartotinai naudoti ir perdirbtų komunalinių atliekų dalis (procentai) | F25: ='II skyrius'!G13 -> 69.1 | G25: 50 | H25: ='II skyrius'!H13 -> 70.4 | I25: ='II skyrius'!I13 -> 72.5
E26: 0 | F26: ='II skyrius'!G14 -> (2020)
F27: ='II skyrius'!G14 -> (2020) | G27: (2021) | H27: ='II skyrius'!H14 -> (2025) | I27: ='II skyrius'!I14 -> (2029)
C28: – | E28: Nepralaidžių dangų ir žaliosios infrastruktūros plotų santykis 1 500 gyv./km2 ir didesnio tankumo teritorijoje (santykis, dešimtainė trupmena) | F28: {='II skyrius'!#REF!} -> #REF! | G28: 1.03 | H28: ='II skyrius'!#REF! -> #REF! | I28: ='II skyrius'!#REF! -> #REF!
E29: 0 | G29: (2021)
F30: ='II skyrius'!#REF! -> #REF! | G30: (2021) | H30: ='II skyrius'!#REF! -> #REF! | I30: ='II skyrius'!#REF! -> #REF!
C31: – | E31: Priešlaikinės mirtys, priskiriamos ilgalaikiam kietųjų dalelių KD2,5 poveikiui (mirusiųjų skaičius 100 tūkst. gyventojų) | F31: {='II skyrius'!#REF!} -> #REF! | G31: 81 | H31: ='II skyrius'!#REF! -> #REF! | I31: ='II skyrius'!#REF! -> #REF!
E32: 0
F33: ='II skyrius'!#REF! -> #REF! | G33: (2021) | H33: ='II skyrius'!#REF! -> #REF! | I33: ='II skyrius'!#REF! -> #REF!
C34: – | E34: Šiltnamio efektą sukeliančių dujų išmetimas 1 gyventojui – gyventojų kelionių įtaka (lengvųjų automobilių, motociklų, mopedų ir viešojo transporto naudojimas) (tonos) | F34: {='II skyrius'!#REF!} -> #REF! | G34: 1.38 | H34: ='II skyrius'!#REF! -> #REF! | I34: ='II skyrius'!#REF! -> #REF!
E35: 0 | G35: (2019)
F36: ='II skyrius'!#REF! -> #REF! | G36: (2019) | H36: ='II skyrius'!#REF! -> #REF! | I36: ='II skyrius'!#REF! -> #REF!
A37: {='II skyrius'!B15:B16} -> 1.1. | B37: {='II skyrius'!C15:C16} -> Sukurti ir modernizuoti trūkstamą pramoninių, komercinių ir kitų teritorijų infrastruktūrą | J37: =J42 -> 0 | K37: =K42 -> 0 | L37: =L42 -> 0 | M37: =M42 -> 0 | N37: =N42 -> 0 | O37: =O42 -> 0 | P37: =P42 -> 0 | Q37: =Q42 -> 0 | ... U37: =U42 -> 0
A38: 0 | B38: 0 | J38: 0 | K38: 0 | L38: 0 | M38: 0 | N38: 0 | O38: 0 | P38: 0 | Q38: 0 | R38: 0 | S38: 0 | T38: 0 | U38: 0
C39: RCR103 / R.B.2.2103 | E39: Surinktos atskirai išrūšiuotos atliekos (tonos per metus) | F39: ='II skyrius'!G15 -> 0 | G39: 0 | H39: ='II skyrius'!H15 -> 0 | I39: ='II skyrius'!I15 -> 4.45
E40: 0 | F40: ='II skyrius'!G16 -> (2021)
F41: ='II skyrius'!G16 -> (2021) | H41: ='II skyrius'!H16 -> (2025) | I41: ='II skyrius'!I16 -> (2029)
A42: 1.1.1. | B42: ='III skyrius'!C9 -> Investicinės aplinkos ir verslo plėtros sąlygų gerinimas | J42: 0 | K42: 0 | L42: 0 | M42: 0 | N42: 0 | O42: 0 | P42: 0 | Q42: 0 | R42: 0 | S42: 0 | T42: 0 | U42: 0
A43: {='II skyrius'!B17:B18} -> 1.2. | B43: {='II skyrius'!C17:C18} -> Sukurti palankią aplinką SVV steigimuisi per bendros infrastruktūros naudojimo iniciatyvas | J43: =J48 -> 32111260 | K43: =K48 -> 26322091 | L43: =L48 -> 0 | M43: =M48 -> 5789169 | N43: =N48 -> 0 | O43: =O48 -> 0 | P43: =P48 -> 0 | Q43: =Q48 -> 0 | ... U43: =U48 -> 0
A44: 0 | B44: 0
C45: {='IV skyrius III skirsnis'!C10:D11} -> R.S.2.3523 | D45: 0 | E45: Miestai, kuriuose įrengta ar modernizuota oro monitoringo infrastruktūra (skaičius) | F45: ='II skyrius'!G17 -> 0 | G45: 0 | H45: ='II skyrius'!H17 -> 0 | I45: ='II skyrius'!I17 -> 18950
C46: 0 | D46: 0 | E46: 0 | F46: ='II skyrius'!G18 -> (2021)
F47: ='II skyrius'!G18 -> (2021) | H47: ='II skyrius'!H18 -> (2025) | I47: ='II skyrius'!I18 -> (2029)
A48: 1.2.1. | B48: ='III skyrius'!C10 -> Turizmo objektų patrauklumo gerinimas | J48: ='III skyrius'!J10 -> 32111260 | K48: ='III skyrius'!K10 -> 26322091 | L48: ='III skyrius'!L10 -> 0 | M48: =J48-K48 -> 5789169 | N48: 0 | O48: 0 | P48: 0 | Q48: 0 | R48: 0 | S48: 0 | T48: 0 | U48: 0
C49: =C45 -> R.S.2.3523 | D49: =D45 -> 0 | E49: Miestai, kuriuose įrengta ar modernizuota oro monitoringo infrastruktūra (skaičius) | F49: =F45 -> 0 | G49: 0 | H49: =H45 -> 0 | I49: =I45 -> 18950
...

Sheet 2 lentelė
A2: 2 lentelė. Išankstinių sąlygų įgyvendinimo rezultatai
A3: Nr. | B3: Tikslas, uždavinys, priemonė1 | C3: Išankstinės sąlygos2 | D3: Išankstinių sąlygų įgyvendinimas3
A5: 1 | B5: 2 | C5: 2 | D5: 3
